BEGIN:VCALENDAR
VERSION:2.0
PRODID:-//Florida Nutrition Education - ECPv6.15.20//NONSGML v1.0//EN
CALSCALE:GREGORIAN
METHOD:PUBLISH
X-ORIGINAL-URL:https://www.floridanutritioned.org
X-WR-CALDESC:Events for Florida Nutrition Education
REFRESH-INTERVAL;VALUE=DURATION:PT1H
X-Robots-Tag:noindex
X-PUBLISHED-TTL:PT1H
BEGIN:VTIMEZONE
TZID:America/Chicago
BEGIN:DAYLIGHT
TZOFFSETFROM:-0600
TZOFFSETTO:-0500
TZNAME:CDT
DTSTART:20240310T080000
END:DAYLIGHT
BEGIN:STANDARD
TZOFFSETFROM:-0500
TZOFFSETTO:-0600
TZNAME:CST
DTSTART:20241103T070000
END:STANDARD
BEGIN:DAYLIGHT
TZOFFSETFROM:-0600
TZOFFSETTO:-0500
TZNAME:CDT
DTSTART:20250309T080000
END:DAYLIGHT
BEGIN:STANDARD
TZOFFSETFROM:-0500
TZOFFSETTO:-0600
TZNAME:CST
DTSTART:20251102T070000
END:STANDARD
BEGIN:DAYLIGHT
TZOFFSETFROM:-0600
TZOFFSETTO:-0500
TZNAME:CDT
DTSTART:20260308T080000
END:DAYLIGHT
BEGIN:STANDARD
TZOFFSETFROM:-0500
TZOFFSETTO:-0600
TZNAME:CST
DTSTART:20261101T070000
END:STANDARD
END:VTIMEZONE
BEGIN:VTIMEZONE
TZID:America/New_York
BEGIN:DAYLIGHT
TZOFFSETFROM:-0500
TZOFFSETTO:-0400
TZNAME:EDT
DTSTART:20240310T070000
END:DAYLIGHT
BEGIN:STANDARD
TZOFFSETFROM:-0400
TZOFFSETTO:-0500
TZNAME:EST
DTSTART:20241103T060000
END:STANDARD
BEGIN:DAYLIGHT
TZOFFSETFROM:-0500
TZOFFSETTO:-0400
TZNAME:EDT
DTSTART:20250309T070000
END:DAYLIGHT
BEGIN:STANDARD
TZOFFSETFROM:-0400
TZOFFSETTO:-0500
TZNAME:EST
DTSTART:20251102T060000
END:STANDARD
BEGIN:DAYLIGHT
TZOFFSETFROM:-0500
TZOFFSETTO:-0400
TZNAME:EDT
DTSTART:20260308T070000
END:DAYLIGHT
BEGIN:STANDARD
TZOFFSETFROM:-0400
TZOFFSETTO:-0500
TZNAME:EST
DTSTART:20261101T060000
END:STANDARD
END:VTIMEZONE
BEGIN:VEVENT
DTSTART;TZID=America/Chicago:20251009T100000
DTEND;TZID=America/Chicago:20251009T110000
DTSTAMP:20260422T044911
CREATED:20251001T191944Z
LAST-MODIFIED:20251001T193258Z
UID:10007795-1760004000-1760007600@www.floridanutritioned.org
SUMMARY:Food Smarts
DESCRIPTION:Feeding the Gulf Coast is helping our community learn about nutrition. This program is all about making learning fun and respectful. We believe that when learning is enjoyable and sensitive to people’s feelings and experiences\, it can help us make better choices about what we eat. Let’s learn together!
URL:https://www.floridanutritioned.org/event/food-smarts-192/
LOCATION:AHEPA Apartments\, 3835 Creighton Rd\, Pensacola\, FL\, 32504
CATEGORIES:Elders
END:VEVENT
BEGIN:VEVENT
DTSTART;TZID=America/New_York:20251009T103000
DTEND;TZID=America/New_York:20251009T110000
DTSTAMP:20260422T044911
CREATED:20251002T172509Z
LAST-MODIFIED:20251002T172509Z
UID:10007826-1760005800-1760007600@www.floridanutritioned.org
SUMMARY:Smart Shopping for Fruit and Veggies
DESCRIPTION:Making nutritious choices does not have to hurt your wallet. Getting enough of these foods promotes health and can reduce your risk of certain diseases. There are many low-cost ways to meet your fruit and vegetable needs. Join us to learn tips and tricks for smart shopping!
URL:https://www.floridanutritioned.org/event/smart-shopping-for-fruit-and-veggies-8/
LOCATION:Dr. Joe Lee Smith Recreation Center\, 415 Stone Street\, Cocoa\, FL\, 32922
CATEGORIES:Elders
END:VEVENT
BEGIN:VEVENT
DTSTART;TZID=America/New_York:20251009T120000
DTEND;TZID=America/New_York:20251009T130000
DTSTAMP:20260422T044911
CREATED:20251002T172404Z
LAST-MODIFIED:20251002T172404Z
UID:10007814-1760011200-1760014800@www.floridanutritioned.org
SUMMARY:Superstar Ingredients
DESCRIPTION:Come and learn what are some important ingredients that need to be added to your diet and how you can implement them.
URL:https://www.floridanutritioned.org/event/superstar-ingredients/
LOCATION:West Osceola Library\, 305 Campus Street\, Kissimmee\, FL\, 34747
CATEGORIES:Adults and Children
END:VEVENT
END:VCALENDAR