BEGIN:VCALENDAR
VERSION:2.0
PRODID:-//Florida Nutrition Education - ECPv6.15.20//NONSGML v1.0//EN
CALSCALE:GREGORIAN
METHOD:PUBLISH
X-WR-CALNAME:Florida Nutrition Education
X-ORIGINAL-URL:https://www.floridanutritioned.org
X-WR-CALDESC:Events for Florida Nutrition Education
REFRESH-INTERVAL;VALUE=DURATION:PT1H
X-Robots-Tag:noindex
X-PUBLISHED-TTL:PT1H
BEGIN:VTIMEZONE
TZID:America/New_York
BEGIN:DAYLIGHT
TZOFFSETFROM:-0500
TZOFFSETTO:-0400
TZNAME:EDT
DTSTART:20240310T070000
END:DAYLIGHT
BEGIN:STANDARD
TZOFFSETFROM:-0400
TZOFFSETTO:-0500
TZNAME:EST
DTSTART:20241103T060000
END:STANDARD
BEGIN:DAYLIGHT
TZOFFSETFROM:-0500
TZOFFSETTO:-0400
TZNAME:EDT
DTSTART:20250309T070000
END:DAYLIGHT
BEGIN:STANDARD
TZOFFSETFROM:-0400
TZOFFSETTO:-0500
TZNAME:EST
DTSTART:20251102T060000
END:STANDARD
BEGIN:DAYLIGHT
TZOFFSETFROM:-0500
TZOFFSETTO:-0400
TZNAME:EDT
DTSTART:20260308T070000
END:DAYLIGHT
BEGIN:STANDARD
TZOFFSETFROM:-0400
TZOFFSETTO:-0500
TZNAME:EST
DTSTART:20261101T060000
END:STANDARD
END:VTIMEZONE
BEGIN:VTIMEZONE
TZID:America/Chicago
BEGIN:DAYLIGHT
TZOFFSETFROM:-0600
TZOFFSETTO:-0500
TZNAME:CDT
DTSTART:20240310T080000
END:DAYLIGHT
BEGIN:STANDARD
TZOFFSETFROM:-0500
TZOFFSETTO:-0600
TZNAME:CST
DTSTART:20241103T070000
END:STANDARD
BEGIN:DAYLIGHT
TZOFFSETFROM:-0600
TZOFFSETTO:-0500
TZNAME:CDT
DTSTART:20250309T080000
END:DAYLIGHT
BEGIN:STANDARD
TZOFFSETFROM:-0500
TZOFFSETTO:-0600
TZNAME:CST
DTSTART:20251102T070000
END:STANDARD
BEGIN:DAYLIGHT
TZOFFSETFROM:-0600
TZOFFSETTO:-0500
TZNAME:CDT
DTSTART:20260308T080000
END:DAYLIGHT
BEGIN:STANDARD
TZOFFSETFROM:-0500
TZOFFSETTO:-0600
TZNAME:CST
DTSTART:20261101T070000
END:STANDARD
END:VTIMEZONE
BEGIN:VEVENT
DTSTART;TZID=America/New_York:20251022T103000
DTEND;TZID=America/New_York:20251022T113000
DTSTAMP:20260420T101338
CREATED:20251002T173212Z
LAST-MODIFIED:20251002T173212Z
UID:10007847-1761129000-1761132600@www.floridanutritioned.org
SUMMARY:Sodium and Healthy Blood Pressure
DESCRIPTION:Learn what a healthy blood pressure is. Learn the risks of having high blood pressure. Learn how to prevent high blood pressure.
URL:https://www.floridanutritioned.org/event/sodium-and-healthy-blood-pressure-11/
LOCATION:You Thrive Florida – Tavares\, 302 N St Clair Abrams Avenue\, Tavares\, FL\, 32778
CATEGORIES:Adults and Elders
END:VEVENT
BEGIN:VEVENT
DTSTART;TZID=America/New_York:20251022T110000
DTEND;TZID=America/New_York:20251022T113000
DTSTAMP:20260420T101338
CREATED:20251002T172609Z
LAST-MODIFIED:20251002T172609Z
UID:10007830-1761130800-1761132600@www.floridanutritioned.org
SUMMARY:Focus on Fruits
DESCRIPTION:Eating fruit provides health benefits. People who eat more vegetables and fruits as part of an overall healthy eating style are likely to have a reduced risk of some chronic diseases. Join us for tips and tricks for focusing more on fruit every day.
URL:https://www.floridanutritioned.org/event/focus-on-fruits-6/
LOCATION:Coca West Recreation Complex\, 230 S Burnett Road\, Cocoa\, FL\, 32926
CATEGORIES:Elders
END:VEVENT
BEGIN:VEVENT
DTSTART;TZID=America/New_York:20251022T110000
DTEND;TZID=America/New_York:20251022T120000
DTSTAMP:20260420T101338
CREATED:20251002T173009Z
LAST-MODIFIED:20251002T173009Z
UID:10007840-1761130800-1761134400@www.floridanutritioned.org
SUMMARY:Anatomy of a Grocery Store
DESCRIPTION:Participants will be introduced to EatFresh.org as a resource for planning meals\, cooking and staying healthty. We will go over how to create a meal plan based on MYyPlate and a grocery list. How to incorporate healthty foods for picky eaters\, such as kids. Setting a SMART Goal. Questions and answer session as follows.
URL:https://www.floridanutritioned.org/event/anatomy-of-a-grocery-store-13/
LOCATION:Central Florida Hope Center\, 1010 South Dillard Street\, Winter Garden\, FL\, 34787
CATEGORIES:Adults and Elders
END:VEVENT
BEGIN:VEVENT
DTSTART;TZID=America/New_York:20251022T120000
DTEND;TZID=America/New_York:20251022T130000
DTSTAMP:20260420T101338
CREATED:20251002T173010Z
LAST-MODIFIED:20251002T173010Z
UID:10007841-1761134400-1761138000@www.floridanutritioned.org
SUMMARY:Anatomy of a Grocery Store
DESCRIPTION:Participants will be introduced to EatFresh.org as a resource for planning meals\, cooking and staying healthty. We will go over how to create a meal plan based on MYyPlate and a grocery list. How to incorporate healthty foods for picky eaters\, such as kids. Setting a SMART Goal. Questions and answer session as follows.
URL:https://www.floridanutritioned.org/event/anatomy-of-a-grocery-store-14/
LOCATION:Central Florida Hope Center\, 1010 South Dillard Street\, Winter Garden\, FL\, 34787
CATEGORIES:Adults and Elders
END:VEVENT
BEGIN:VEVENT
DTSTART;TZID=America/Chicago:20251022T130000
DTEND;TZID=America/Chicago:20251022T140000
DTSTAMP:20260420T101338
CREATED:20251001T191948Z
LAST-MODIFIED:20251001T193301Z
UID:10007799-1761138000-1761141600@www.floridanutritioned.org
SUMMARY:Food Smarts
DESCRIPTION:Feeding the Gulf Coast is helping our community learn about nutrition. This program is all about making learning fun and respectful. We believe that when learning is enjoyable and sensitive to people’s feelings and experiences\, it can help us make better choices about what we eat. Let’s learn together!
URL:https://www.floridanutritioned.org/event/food-smarts-196/
LOCATION:Crestview Senior Center\, 205 Stillwell Boulevard\, Crestview\, FL\, 32539
CATEGORIES:Elders
END:VEVENT
BEGIN:VEVENT
DTSTART;TZID=America/New_York:20251022T133000
DTEND;TZID=America/New_York:20251022T143000
DTSTAMP:20260420T101338
CREATED:20251020T170859Z
LAST-MODIFIED:20251020T170859Z
UID:10007882-1761139800-1761143400@www.floridanutritioned.org
SUMMARY:Eat Smart - Live Strong
DESCRIPTION:
URL:https://www.floridanutritioned.org/event/eat-smart-live-strong-268/
LOCATION:Puertas Del Sol  Retirement Home\, 1765 W 42nd Pl.\, Hialeah\, FL\, 33012
CATEGORIES:Adults
END:VEVENT
END:VCALENDAR