BEGIN:VCALENDAR
VERSION:2.0
PRODID:-//Florida Nutrition Education - ECPv6.15.20//NONSGML v1.0//EN
CALSCALE:GREGORIAN
METHOD:PUBLISH
X-WR-CALNAME:Florida Nutrition Education
X-ORIGINAL-URL:https://www.floridanutritioned.org
X-WR-CALDESC:Events for Florida Nutrition Education
REFRESH-INTERVAL;VALUE=DURATION:PT1H
X-Robots-Tag:noindex
X-PUBLISHED-TTL:PT1H
BEGIN:VTIMEZONE
TZID:America/New_York
BEGIN:DAYLIGHT
TZOFFSETFROM:-0500
TZOFFSETTO:-0400
TZNAME:EDT
DTSTART:20240310T070000
END:DAYLIGHT
BEGIN:STANDARD
TZOFFSETFROM:-0400
TZOFFSETTO:-0500
TZNAME:EST
DTSTART:20241103T060000
END:STANDARD
BEGIN:DAYLIGHT
TZOFFSETFROM:-0500
TZOFFSETTO:-0400
TZNAME:EDT
DTSTART:20250309T070000
END:DAYLIGHT
BEGIN:STANDARD
TZOFFSETFROM:-0400
TZOFFSETTO:-0500
TZNAME:EST
DTSTART:20251102T060000
END:STANDARD
BEGIN:DAYLIGHT
TZOFFSETFROM:-0500
TZOFFSETTO:-0400
TZNAME:EDT
DTSTART:20260308T070000
END:DAYLIGHT
BEGIN:STANDARD
TZOFFSETFROM:-0400
TZOFFSETTO:-0500
TZNAME:EST
DTSTART:20261101T060000
END:STANDARD
END:VTIMEZONE
BEGIN:VEVENT
DTSTART;TZID=America/New_York:20251024T090000
DTEND;TZID=America/New_York:20251024T100000
DTSTAMP:20260422T061719
CREATED:20251002T172408Z
LAST-MODIFIED:20251002T172408Z
UID:10007819-1761296400-1761300000@www.floridanutritioned.org
SUMMARY:Superstar Ingredients
DESCRIPTION:Come and learn what are some important ingredients that need to be added to your diet and how you can implement them.
URL:https://www.floridanutritioned.org/event/superstar-ingredients-5/
LOCATION:Osceola Council on Aging – St. Cloud\, 3001 17th Street\, St. Cloud\, FL\, 34769
CATEGORIES:Elders
END:VEVENT
BEGIN:VEVENT
DTSTART;TZID=America/New_York:20251024T100000
DTEND;TZID=America/New_York:20251024T110000
DTSTAMP:20260422T061719
CREATED:20251001T195136Z
LAST-MODIFIED:20251001T195136Z
UID:10007808-1761300000-1761303600@www.floridanutritioned.org
SUMMARY:Food Smarts: Food Labels
DESCRIPTION:Participants will learn about what ingredients are on the food labels
URL:https://www.floridanutritioned.org/event/food-smarts-food-labels-8/
LOCATION:Charlotte Towers\, 2295 Aaron St\, Port Charlotte\, FL\, 33952
CATEGORIES:Elders
END:VEVENT
BEGIN:VEVENT
DTSTART;TZID=America/New_York:20251024T100000
DTEND;TZID=America/New_York:20251024T110000
DTSTAMP:20260422T061719
CREATED:20251002T180533Z
LAST-MODIFIED:20251002T180533Z
UID:10007853-1761300000-1761303600@www.floridanutritioned.org
SUMMARY:MyPlate on a Budget
DESCRIPTION:Participants will learn tips and tricks for eating healthy on a budget.
URL:https://www.floridanutritioned.org/event/myplate-on-a-budget-4/
LOCATION:Senior Friendship Center- Venice\, 2350 Scenic Dr.\, Venice\, FL\, 34293
CATEGORIES:Elders
END:VEVENT
BEGIN:VEVENT
DTSTART;TZID=America/New_York:20251024T110000
DTEND;TZID=America/New_York:20251024T113000
DTSTAMP:20260422T061719
CREATED:20251002T172609Z
LAST-MODIFIED:20251002T172609Z
UID:10007831-1761303600-1761305400@www.floridanutritioned.org
SUMMARY:Make Better Beverage Choices
DESCRIPTION:A healthy eating style includes all foods and beverages. Many beverages contain added sugars and offer little to no nutrients or excessive calories. Join us to learn some tips for making better beverage choices.
URL:https://www.floridanutritioned.org/event/make-better-beverage-choices-7/
LOCATION:Sunflower House\, 3125 Fell Road\, West Melbourne\, FL\, 32904
CATEGORIES:Elders
END:VEVENT
BEGIN:VEVENT
DTSTART;TZID=America/New_York:20251024T110000
DTEND;TZID=America/New_York:20251024T120000
DTSTAMP:20260422T061719
CREATED:20251002T172403Z
LAST-MODIFIED:20251002T172403Z
UID:10007813-1761303600-1761307200@www.floridanutritioned.org
SUMMARY:Make Half Your Grains Whole
DESCRIPTION:Come to this class to learn about the different types of grains and the benefits (if any) that each provides to us nutritionally.  Come and learn how to make healthier grain choices in the future.
URL:https://www.floridanutritioned.org/event/make-half-your-grains-whole-12/
LOCATION:St. Cloud Library-Homeschooling\, 810 13th Street\, St. Cloud\, FL\, 34769
CATEGORIES:Adults and Children
END:VEVENT
END:VCALENDAR