BEGIN:VCALENDAR
VERSION:2.0
PRODID:-//Florida Nutrition Education - ECPv6.15.20//NONSGML v1.0//EN
CALSCALE:GREGORIAN
METHOD:PUBLISH
X-WR-CALNAME:Florida Nutrition Education
X-ORIGINAL-URL:https://www.floridanutritioned.org
X-WR-CALDESC:Events for Florida Nutrition Education
REFRESH-INTERVAL;VALUE=DURATION:PT1H
X-Robots-Tag:noindex
X-PUBLISHED-TTL:PT1H
BEGIN:VTIMEZONE
TZID:America/New_York
BEGIN:DAYLIGHT
TZOFFSETFROM:-0500
TZOFFSETTO:-0400
TZNAME:EDT
DTSTART:20240310T070000
END:DAYLIGHT
BEGIN:STANDARD
TZOFFSETFROM:-0400
TZOFFSETTO:-0500
TZNAME:EST
DTSTART:20241103T060000
END:STANDARD
BEGIN:DAYLIGHT
TZOFFSETFROM:-0500
TZOFFSETTO:-0400
TZNAME:EDT
DTSTART:20250309T070000
END:DAYLIGHT
BEGIN:STANDARD
TZOFFSETFROM:-0400
TZOFFSETTO:-0500
TZNAME:EST
DTSTART:20251102T060000
END:STANDARD
BEGIN:DAYLIGHT
TZOFFSETFROM:-0500
TZOFFSETTO:-0400
TZNAME:EDT
DTSTART:20260308T070000
END:DAYLIGHT
BEGIN:STANDARD
TZOFFSETFROM:-0400
TZOFFSETTO:-0500
TZNAME:EST
DTSTART:20261101T060000
END:STANDARD
END:VTIMEZONE
BEGIN:VEVENT
DTSTART;TZID=America/New_York:20251028T100000
DTEND;TZID=America/New_York:20251028T110000
DTSTAMP:20260420T102846
CREATED:20251002T172808Z
LAST-MODIFIED:20251002T172808Z
UID:10007832-1761645600-1761649200@www.floridanutritioned.org
SUMMARY:Make Better Beverage Choices
DESCRIPTION:A healthy eating style includes all foods and beverages. Many beverages contain added sugars and offer little to no nutrients or excessive calories. Join us to learn some tips for making better beverage choices.
URL:https://www.floridanutritioned.org/event/make-better-beverage-choices-8/
LOCATION:South Mainland Community Center\, 3700 Allen Avenue\, Micco\, FL\, 32976
CATEGORIES:Elders
END:VEVENT
BEGIN:VEVENT
DTSTART;TZID=America/New_York:20251028T103000
DTEND;TZID=America/New_York:20251028T113000
DTSTAMP:20260420T102846
CREATED:20251002T172508Z
LAST-MODIFIED:20251002T172508Z
UID:10007823-1761647400-1761651000@www.floridanutritioned.org
SUMMARY:Eating Healthy on A Budget
DESCRIPTION:Participants will learn ways to save money while still eating whole foods.
URL:https://www.floridanutritioned.org/event/eating-healthy-on-a-budget-15/
LOCATION:Volusia Council on Aging – Daytona Beach\, 308 S Dr Martin Luther King Jr Blvd\, Daytona Beach\, FL\, 32114
CATEGORIES:Adults and Elders
END:VEVENT
BEGIN:VEVENT
DTSTART;TZID=America/New_York:20251028T103000
DTEND;TZID=America/New_York:20251028T120000
DTSTAMP:20260420T102846
CREATED:20251006T135515Z
LAST-MODIFIED:20251006T135515Z
UID:10007864-1761647400-1761652800@www.floridanutritioned.org
SUMMARY:Add more veggies to your day
DESCRIPTION:Discuss how to add more vegetables to your diet and make them tasty
URL:https://www.floridanutritioned.org/event/add-more-veggies-to-your-day-3/
LOCATION:7th Day Adv. Church\, 1649 W Madison St.\, Starke\, FL\, 32091
CATEGORIES:Adults and Elders
END:VEVENT
BEGIN:VEVENT
DTSTART;TZID=America/New_York:20251028T120000
DTEND;TZID=America/New_York:20251028T130000
DTSTAMP:20260420T102846
CREATED:20251001T195137Z
LAST-MODIFIED:20251001T195137Z
UID:10007810-1761652800-1761656400@www.floridanutritioned.org
SUMMARY:Food Smarts: Organize Your Fridge Like a Pro
DESCRIPTION:Participants will learn how to keep food safe and organized in the fridge\, organize it from top to bottom according to how much it needs to be cooked.  \nParticipants will learn how to keep food safe and organized in the fridge\, organize it from top to bottom according to how much it needs to be cooked.
URL:https://www.floridanutritioned.org/event/food-smarts-organize-your-fridge-like-a-pro-2/
LOCATION:Bonita Senior Center at Hope Lutheran\, 25999 Old 41 Rd.\, Bonita Springs\, FL\, 34135
CATEGORIES:Elders
END:VEVENT
END:VCALENDAR