BEGIN:VCALENDAR
VERSION:2.0
PRODID:-//Florida Nutrition Education - ECPv6.15.20//NONSGML v1.0//EN
CALSCALE:GREGORIAN
METHOD:PUBLISH
X-WR-CALNAME:Florida Nutrition Education
X-ORIGINAL-URL:https://www.floridanutritioned.org
X-WR-CALDESC:Events for Florida Nutrition Education
REFRESH-INTERVAL;VALUE=DURATION:PT1H
X-Robots-Tag:noindex
X-PUBLISHED-TTL:PT1H
BEGIN:VTIMEZONE
TZID:America/New_York
BEGIN:DAYLIGHT
TZOFFSETFROM:-0500
TZOFFSETTO:-0400
TZNAME:EDT
DTSTART:20230312T070000
END:DAYLIGHT
BEGIN:STANDARD
TZOFFSETFROM:-0400
TZOFFSETTO:-0500
TZNAME:EST
DTSTART:20231105T060000
END:STANDARD
BEGIN:DAYLIGHT
TZOFFSETFROM:-0500
TZOFFSETTO:-0400
TZNAME:EDT
DTSTART:20240310T070000
END:DAYLIGHT
BEGIN:STANDARD
TZOFFSETFROM:-0400
TZOFFSETTO:-0500
TZNAME:EST
DTSTART:20241103T060000
END:STANDARD
BEGIN:DAYLIGHT
TZOFFSETFROM:-0500
TZOFFSETTO:-0400
TZNAME:EDT
DTSTART:20250309T070000
END:DAYLIGHT
BEGIN:STANDARD
TZOFFSETFROM:-0400
TZOFFSETTO:-0500
TZNAME:EST
DTSTART:20251102T060000
END:STANDARD
BEGIN:DAYLIGHT
TZOFFSETFROM:-0500
TZOFFSETTO:-0400
TZNAME:EDT
DTSTART:20260308T070000
END:DAYLIGHT
BEGIN:STANDARD
TZOFFSETFROM:-0400
TZOFFSETTO:-0500
TZNAME:EST
DTSTART:20261101T060000
END:STANDARD
END:VTIMEZONE
BEGIN:VEVENT
DTSTART;TZID=America/New_York:20240424T180000
DTEND;TZID=America/New_York:20240424T190000
DTSTAMP:20260421T095455
CREATED:20240326T185752Z
LAST-MODIFIED:20240326T185752Z
UID:10003622-1713981600-1713985200@www.floridanutritioned.org
SUMMARY:Leah's Pantry: Food Smarts (Adult)
DESCRIPTION:Interactive\, trauma-informed nutrition lessons that include a food demo and focus on moving your body\, adding more nutrients to your daily eating\, setting realistic health goals\, and meal prepping/grocery shopping on a budget
URL:https://www.floridanutritioned.org/event/leahs-pantry-food-smarts-adult-202/
LOCATION:RCMA Grove Point\, 129 Laguna Oaks Pl\, Ruskin\, FL\, 33570
CATEGORIES:Adults and Children
END:VEVENT
BEGIN:VEVENT
DTSTART;TZID=America/New_York:20240522T180000
DTEND;TZID=America/New_York:20240522T190000
DTSTAMP:20260421T095455
CREATED:20240429T193952Z
LAST-MODIFIED:20240429T193952Z
UID:10004037-1716400800-1716404400@www.floridanutritioned.org
SUMMARY:Leah's Pantry: Food Smarts (Adult)
DESCRIPTION:Interactive\, trauma-informed nutrition lessons that include a food demo and focus on moving your body\, adding more nutrients to your daily eating\, setting realistic health goals\, and meal prepping/grocery shopping on a budget
URL:https://www.floridanutritioned.org/event/leahs-pantry-food-smarts-adult-235/
LOCATION:RCMA (Redland Christian Migrant Association)\, 129 Laguna Oaks Pl\, \, FL\, Ruskin\, FL\, 33570
CATEGORIES:Adults and Children
END:VEVENT
BEGIN:VEVENT
DTSTART;TZID=America/New_York:20240611T170000
DTEND;TZID=America/New_York:20240611T183000
DTSTAMP:20260421T095455
CREATED:20240530T123216Z
LAST-MODIFIED:20240530T123216Z
UID:10004268-1718125200-1718130600@www.floridanutritioned.org
SUMMARY:Food Smarts with Feeding the Gulf Coast
DESCRIPTION:Feeding the Gulf Coast is helping our community learn about nutrition. This program is all about making learning fun and respectful. We believe that when learning is enjoyable and sensitive to people’s feelings and experiences\, it can help us make better choices about what we eat. Let’s learn together!
URL:https://www.floridanutritioned.org/event/food-smarts-with-feeding-the-gulf-coast-54/
LOCATION:Big Brother\, Big Sister – Panama City\, 2121 Lisenby Avenue\, Panama City\, FL\, 32505
CATEGORIES:Adults and Children
END:VEVENT
BEGIN:VEVENT
DTSTART;TZID=America/New_York:20240612T120000
DTEND;TZID=America/New_York:20240612T123000
DTSTAMP:20260421T095455
CREATED:20240530T123217Z
LAST-MODIFIED:20240530T123217Z
UID:10004270-1718193600-1718195400@www.floridanutritioned.org
SUMMARY:Food Smarts with Feeding the Gulf Coast
DESCRIPTION:Feeding the Gulf Coast is helping our community learn about nutrition. This program is all about making learning fun and respectful. We believe that when learning is enjoyable and sensitive to people’s feelings and experiences\, it can help us make better choices about what we eat. Let’s learn together!
URL:https://www.floridanutritioned.org/event/food-smarts-with-feeding-the-gulf-coast-56/
LOCATION:The ARC – Bagdad Community Center\, 6872 Pooley Street\, Milton\, FL\, 32583
CATEGORIES:Adults and Children
END:VEVENT
BEGIN:VEVENT
DTSTART;TZID=America/New_York:20240619T120000
DTEND;TZID=America/New_York:20240619T123000
DTSTAMP:20260421T095455
CREATED:20240530T123220Z
LAST-MODIFIED:20240530T123220Z
UID:10004274-1718798400-1718800200@www.floridanutritioned.org
SUMMARY:Food Smarts with Feeding the Gulf Coast
DESCRIPTION:Feeding the Gulf Coast is helping our community learn about nutrition. This program is all about making learning fun and respectful. We believe that when learning is enjoyable and sensitive to people’s feelings and experiences\, it can help us make better choices about what we eat. Let’s learn together!
URL:https://www.floridanutritioned.org/event/food-smarts-with-feeding-the-gulf-coast-60/
LOCATION:The ARC – Bagdad Community Center\, 6872 Pooley Street\, Milton\, FL\, 32583
CATEGORIES:Adults and Children
END:VEVENT
BEGIN:VEVENT
DTSTART;TZID=America/New_York:20240620T163000
DTEND;TZID=America/New_York:20240620T173000
DTSTAMP:20260421T095455
CREATED:20240530T123220Z
LAST-MODIFIED:20240530T123220Z
UID:10004275-1718901000-1718904600@www.floridanutritioned.org
SUMMARY:Food Smarts with Feeding the Gulf Coast
DESCRIPTION:Feeding the Gulf Coast is helping our community learn about nutrition. This program is all about making learning fun and respectful. We believe that when learning is enjoyable and sensitive to people’s feelings and experiences\, it can help us make better choices about what we eat. Let’s learn together!
URL:https://www.floridanutritioned.org/event/food-smarts-with-feeding-the-gulf-coast-61/
LOCATION:Big Brother\, Big Sister – Walton Co.\, 185 Miracle Strip Pkwy\, Fort Walton Beach\, FL\, 32580
CATEGORIES:Adults and Children
END:VEVENT
BEGIN:VEVENT
DTSTART;TZID=America/New_York:20240626T120000
DTEND;TZID=America/New_York:20240626T123000
DTSTAMP:20260421T095455
CREATED:20240530T123221Z
LAST-MODIFIED:20240530T123221Z
UID:10004276-1719403200-1719405000@www.floridanutritioned.org
SUMMARY:Food Smarts with Feeding the Gulf Coast
DESCRIPTION:Feeding the Gulf Coast is helping our community learn about nutrition. This program is all about making learning fun and respectful. We believe that when learning is enjoyable and sensitive to people’s feelings and experiences\, it can help us make better choices about what we eat. Let’s learn together!
URL:https://www.floridanutritioned.org/event/food-smarts-with-feeding-the-gulf-coast-62/
LOCATION:The ARC – Bagdad Community Center\, 6872 Pooley Street\, Milton\, FL\, 32583
CATEGORIES:Adults and Children
END:VEVENT
BEGIN:VEVENT
DTSTART;TZID=America/New_York:20240716T120000
DTEND;TZID=America/New_York:20240716T130000
DTSTAMP:20260421T095455
CREATED:20240626T171336Z
LAST-MODIFIED:20240626T171336Z
UID:10004495-1721131200-1721134800@www.floridanutritioned.org
SUMMARY:Food Processing: Rethink Your Drink
DESCRIPTION:As the summer heat arrives\, we get thirsty and need to drink more. But many of our drinks are full of sugar. We’ll learn which kinds of drinks have lower sugar…and even how make our own low-sugar options.
URL:https://www.floridanutritioned.org/event/food-processing-rethink-your-drink-8/
LOCATION:St. Cloud Library – Homeschooling Group\, 810 13th Street\, St. Cloud\, FL\, 34769
CATEGORIES:Adults and Children
END:VEVENT
BEGIN:VEVENT
DTSTART;TZID=America/New_York:20240724T120000
DTEND;TZID=America/New_York:20240724T123000
DTSTAMP:20260421T095455
CREATED:20240628T124349Z
LAST-MODIFIED:20240628T124349Z
UID:10004687-1721822400-1721824200@www.floridanutritioned.org
SUMMARY:Food Smarts with Feeding the Gulf Coast
DESCRIPTION:Feeding the Gulf Coast is helping our community learn about nutrition. This program is all about making learning fun and respectful. We believe that when learning is enjoyable and sensitive to people’s feelings and experiences\, it can help us make better choices about what we eat. Let’s learn together!
URL:https://www.floridanutritioned.org/event/food-smarts-with-feeding-the-gulf-coast-71/
LOCATION:The ARC – Bagdad Community Center\, 6872 Pooley Street\, Milton\, FL\, 32583
CATEGORIES:Adults and Children
END:VEVENT
BEGIN:VEVENT
DTSTART;TZID=America/New_York:20240802T173000
DTEND;TZID=America/New_York:20240802T183000
DTSTAMP:20260421T095455
CREATED:20240806T145041Z
LAST-MODIFIED:20240806T145041Z
UID:10005055-1722619800-1722623400@www.floridanutritioned.org
SUMMARY:Sweetened Drinks
DESCRIPTION:
URL:https://www.floridanutritioned.org/event/sweetened-drinks/
LOCATION:Dye Clay Family YMCA\, 3322 Moody Ave\, Orange Park\, FL\, 32065
CATEGORIES:Adults and Children
END:VEVENT
BEGIN:VEVENT
DTSTART;TZID=America/New_York:20240907T093000
DTEND;TZID=America/New_York:20240907T103000
DTSTAMP:20260421T095455
CREATED:20240827T151602Z
LAST-MODIFIED:20240827T151602Z
UID:10005157-1725701400-1725705000@www.floridanutritioned.org
SUMMARY:Leah's Pantry: Understanding Labels and Ingredients - Food Label Nutrition Facts
DESCRIPTION:Food labels are tricky and designed to grab attention. Learn how to read and compare food labels and nutrition facts\, make healthy decisions  and save money when shopping.
URL:https://www.floridanutritioned.org/event/leahs-pantry-understanding-labels-and-ingredients-food-label-nutrition-facts-3/
LOCATION:Freedom Life Church – Fitness Club\, 1700 E Irlo Bronson Memorial Highway\, St. Cloud\, FL\, 34772
CATEGORIES:Adults and Children
END:VEVENT
BEGIN:VEVENT
DTSTART;TZID=America/New_York:20240914T093000
DTEND;TZID=America/New_York:20240914T103000
DTSTAMP:20260421T095455
CREATED:20240827T151606Z
LAST-MODIFIED:20240827T151606Z
UID:10005162-1726306200-1726309800@www.floridanutritioned.org
SUMMARY:Leah's Pantry: Understanding Labels and Ingredients - Food Label Nutrition Facts
DESCRIPTION:Food labels are tricky and designed to grab attention. Learn how to read and compare food labels and nutrition facts\, make healthy decisions  and save money when shopping.
URL:https://www.floridanutritioned.org/event/leahs-pantry-understanding-labels-and-ingredients-food-label-nutrition-facts-4/
LOCATION:Freedom Life Church – Fitness Club\, 1700 E Irlo Bronson Memorial Highway\, St. Cloud\, FL\, 34772
CATEGORIES:Adults and Children
END:VEVENT
BEGIN:VEVENT
DTSTART;TZID=America/New_York:20240921T093000
DTEND;TZID=America/New_York:20240921T103000
DTSTAMP:20260421T095455
CREATED:20240827T151705Z
LAST-MODIFIED:20240827T151705Z
UID:10005165-1726911000-1726914600@www.floridanutritioned.org
SUMMARY:Leah's Pantry:  Best Practices for Healthy Living - Salt
DESCRIPTION:Where do we find salt? How much salt should we have per day?Do ou bodies need salt or not? Come learn how to cut back on salt while cooking.
URL:https://www.floridanutritioned.org/event/leahs-pantry-best-practices-for-healthy-living-salt-2/
LOCATION:Freedom Life Church – Fitness Club\, 1700 E Irlo Bronson Memorial Highway\, St. Cloud\, FL\, 34772
CATEGORIES:Adults and Children
END:VEVENT
BEGIN:VEVENT
DTSTART;TZID=America/New_York:20240928T093000
DTEND;TZID=America/New_York:20240928T103000
DTSTAMP:20260421T095455
CREATED:20240827T151806Z
LAST-MODIFIED:20240827T151806Z
UID:10005171-1727515800-1727519400@www.floridanutritioned.org
SUMMARY:Leah's Pantry: Make Your Grains Whole
DESCRIPTION:What exactly are whole grains good for?  Come and learn about all the benefits you can gain from eating whole grains. Its not just about staying regular.  There are so many other benefits.
URL:https://www.floridanutritioned.org/event/leahs-pantry-make-your-grains-whole-8/
LOCATION:Freedom Life Church – Fitness Club\, 1700 E Irlo Bronson Memorial Highway\, St. Cloud\, FL\, 34772
CATEGORIES:Adults and Children
END:VEVENT
BEGIN:VEVENT
DTSTART;TZID=America/New_York:20241111T100000
DTEND;TZID=America/New_York:20241111T110000
DTSTAMP:20260421T095455
CREATED:20241030T124408Z
LAST-MODIFIED:20241030T124408Z
UID:10005751-1731319200-1731322800@www.floridanutritioned.org
SUMMARY:Food Smarts: Make Half Your Grains Whole
DESCRIPTION:Participants will discuss the difference between whole grains and refined grains as well as the benefits of making half of their grains whole.
URL:https://www.floridanutritioned.org/event/food-smarts-make-half-your-grains-whole-2/
LOCATION:Goodwill Industries of SWFL – Labelle\, 91 S Lee Street\, LaBelle\, FL\, 33935
CATEGORIES:Adults and Children
END:VEVENT
BEGIN:VEVENT
DTSTART;TZID=America/New_York:20241217T110000
DTEND;TZID=America/New_York:20241217T120000
DTSTAMP:20260421T095455
CREATED:20241127T131848Z
LAST-MODIFIED:20241127T131848Z
UID:10006016-1734433200-1734436800@www.floridanutritioned.org
SUMMARY:Leah's Pantry: Understanding Labels and Ingredients
DESCRIPTION:Choosing and Using Healthy Fats: Is there such a thing as Healthy Fats?
URL:https://www.floridanutritioned.org/event/leahs-pantry-understanding-labels-and-ingredients-54/
LOCATION:St. Cloud Public Library\, 810 13th Street\, St. Cloud\, FL\, 34769
CATEGORIES:Adults and Children
END:VEVENT
BEGIN:VEVENT
DTSTART;TZID=America/New_York:20250214T120000
DTEND;TZID=America/New_York:20250214T130000
DTSTAMP:20260421T095455
CREATED:20250130T195301Z
LAST-MODIFIED:20250130T195301Z
UID:10006426-1739534400-1739538000@www.floridanutritioned.org
SUMMARY:Start Simple with MyPlate
DESCRIPTION:Healthy Snacking with MyPlate  Recipe: Hit the Trail Mix
URL:https://www.floridanutritioned.org/event/start-simple-with-myplate/
LOCATION:Gulfstream Academy\, 1000 SW 3rd St\, Hallandale Beach\, FL\, 33009
CATEGORIES:Adults and Children
END:VEVENT
BEGIN:VEVENT
DTSTART;TZID=America/New_York:20250214T130000
DTEND;TZID=America/New_York:20250214T140000
DTSTAMP:20260421T095455
CREATED:20250130T195301Z
LAST-MODIFIED:20250130T195301Z
UID:10006427-1739538000-1739541600@www.floridanutritioned.org
SUMMARY:Start Simple with MyPlate
DESCRIPTION:Healthy Snacking with MyPlate  Recipe: Hit the Trail Mix
URL:https://www.floridanutritioned.org/event/start-simple-with-myplate-2/
LOCATION:Gulfstream Academy\, 1000 SW 3rd St\, Hallandale Beach\, FL\, 33009
CATEGORIES:Adults and Children
END:VEVENT
BEGIN:VEVENT
DTSTART;TZID=America/New_York:20250218T100000
DTEND;TZID=America/New_York:20250218T110000
DTSTAMP:20260421T095455
CREATED:20250130T191149Z
LAST-MODIFIED:20250130T191149Z
UID:10006412-1739872800-1739876400@www.floridanutritioned.org
SUMMARY:Food Smarts: Slow Down and Think About Fast Food
DESCRIPTION:Participants will examine common reason for eating fast food.
URL:https://www.floridanutritioned.org/event/food-smarts-slow-down-and-think-about-fast-food-7/
LOCATION:Goodwill Tice\, 5100 Tice Street\, Fort Myers\, FL\, 33905
CATEGORIES:Adults and Children
END:VEVENT
BEGIN:VEVENT
DTSTART;TZID=America/New_York:20250306T180000
DTEND;TZID=America/New_York:20250306T190000
DTSTAMP:20260421T095455
CREATED:20250220T172630Z
LAST-MODIFIED:20250327T124934Z
UID:10006415-1741284000-1741287600@www.floridanutritioned.org
SUMMARY:Grow It\, Try It\, Like It
DESCRIPTION:Encourages participants to explore\, taste\, and learn about healthy foods to promote postive eating habits.
URL:https://www.floridanutritioned.org/event/food-smarts-eating-out-and-staying-healthy-10/
LOCATION:Indian River State College\, 2229 NW 9th Ave\, Okeechobee\, FL\, 34972
CATEGORIES:Adults and Children
END:VEVENT
BEGIN:VEVENT
DTSTART;TZID=America/New_York:20250403T180000
DTEND;TZID=America/New_York:20250403T190000
DTSTAMP:20260421T095455
CREATED:20250326T180115Z
LAST-MODIFIED:20250326T180115Z
UID:10006721-1743703200-1743706800@www.floridanutritioned.org
SUMMARY:10 Tips for Adults
DESCRIPTION:Low fat diets are some of the most popular ones for a lot of reasons. But are fats really the enemy in the battle for good health? Join us as we discuss beneficial fats vs unhealthy ones and learn to tell which foods have the better fats.
URL:https://www.floridanutritioned.org/event/10-tips-for-adults-367/
LOCATION:New Life Mission\, 326 Croton Road\, Melbourne\, FL\, 32935
CATEGORIES:Adults and Children
END:VEVENT
BEGIN:VEVENT
DTSTART;TZID=America/New_York:20250408T110000
DTEND;TZID=America/New_York:20250408T130000
DTSTAMP:20260421T095455
CREATED:20250326T180115Z
LAST-MODIFIED:20250326T180115Z
UID:10006722-1744110000-1744117200@www.floridanutritioned.org
SUMMARY:10 Tips for Adults
DESCRIPTION:Cooking for one can be extremely difficult. Join us to learn some tips and tricks for meal prepping to help you improve your cooking for one skills.
URL:https://www.floridanutritioned.org/event/10-tips-for-adults-368/
LOCATION:Catherine Schweinsberg Rood Central Library\, 308 Forrest Avenue\, Cocoa\, FL\, 32922
CATEGORIES:Adults and Children
END:VEVENT
BEGIN:VEVENT
DTSTART;TZID=America/New_York:20250414T110000
DTEND;TZID=America/New_York:20250414T130000
DTSTAMP:20260421T095455
CREATED:20250326T180117Z
LAST-MODIFIED:20250326T180117Z
UID:10006724-1744628400-1744635600@www.floridanutritioned.org
SUMMARY:MyPlate
DESCRIPTION:Sugar seems to be in everything these days and we all know that too much sugar can be a bad thing. Join us to learn some tips and tricks for cutting back on sugar without loosing the flavor of good food.
URL:https://www.floridanutritioned.org/event/myplate-32/
LOCATION:Central Brevard Sharing Center\, 113 Aurora Street\, Cocoa\, FL\, 32922
CATEGORIES:Adults and Children
END:VEVENT
BEGIN:VEVENT
DTSTART;TZID=America/New_York:20250512T110000
DTEND;TZID=America/New_York:20250512T130000
DTSTAMP:20260421T095455
CREATED:20250428T132632Z
LAST-MODIFIED:20250428T132632Z
UID:10006956-1747047600-1747054800@www.floridanutritioned.org
SUMMARY:Know Your Fats
DESCRIPTION:Low fat diets are some of the most popular ones for a lot of reasons. But are fats really the enemy in the battle for good health? Join us as we discuss beneficial fats vs unhealthy ones and learn to tell which foods have the better fats.
URL:https://www.floridanutritioned.org/event/know-your-fats/
LOCATION:Central Brevard Sharing Center\, 113 Aurora Street\, Cocoa\, FL\, 32922
CATEGORIES:Adults and Children
END:VEVENT
BEGIN:VEVENT
DTSTART;TZID=America/New_York:20250513T110000
DTEND;TZID=America/New_York:20250513T130000
DTSTAMP:20260421T095455
CREATED:20250428T132632Z
LAST-MODIFIED:20250428T132632Z
UID:10006957-1747134000-1747141200@www.floridanutritioned.org
SUMMARY:Know Your Fats
DESCRIPTION:Low fat diets are some of the most popular ones for a lot of reasons. But are fats really the enemy in the battle for good health? Join us as we discuss beneficial fats vs unhealthy ones and learn to tell which foods have the better fats.
URL:https://www.floridanutritioned.org/event/know-your-fats-2/
LOCATION:Catherine Schweinsberg Rood Central Library\, 308 Forrest Avenue\, Cocoa\, FL\, 32922
CATEGORIES:Adults and Children
END:VEVENT
BEGIN:VEVENT
DTSTART;TZID=America/New_York:20250528T120000
DTEND;TZID=America/New_York:20250528T130000
DTSTAMP:20260421T095455
CREATED:20250505T162231Z
LAST-MODIFIED:20250505T162231Z
UID:10007085-1748433600-1748437200@www.floridanutritioned.org
SUMMARY:Basic Cooking Skills
DESCRIPTION:Looking over basic cooking and recipe terms\, how to customize recipes to your needs\, and demonstrating basic food preparation skills
URL:https://www.floridanutritioned.org/event/basic-cooking-skills/
LOCATION:Putnam Family Reource Center\, 320 SR 19\, Palatka\, FL\, 32177
CATEGORIES:Adults and Children
END:VEVENT
BEGIN:VEVENT
DTSTART;TZID=America/New_York:20250605T103000
DTEND;TZID=America/New_York:20250605T113000
DTSTAMP:20260421T095455
CREATED:20250528T182102Z
LAST-MODIFIED:20250528T182102Z
UID:10007181-1749119400-1749123000@www.floridanutritioned.org
SUMMARY:Food Smarts
DESCRIPTION:Feeding the Gulf Coast is helping our community learn about nutrition. This program is all about making learning fun and respectful. We believe that when learning is enjoyable and sensitive to people’s feelings and experiences\, it can help us make better choices about what we eat. Let’s learn together!
URL:https://www.floridanutritioned.org/event/food-smarts-151/
LOCATION:Oakland Terrace Clubhouse\, 1900 W 11th Street\, Panama City\, FL\, 32401
CATEGORIES:Adults and Children
END:VEVENT
BEGIN:VEVENT
DTSTART;TZID=America/New_York:20250609T110000
DTEND;TZID=America/New_York:20250609T130000
DTSTAMP:20260421T095455
CREATED:20250528T155028Z
LAST-MODIFIED:20250528T155028Z
UID:10007132-1749466800-1749474000@www.floridanutritioned.org
SUMMARY:Make Better Beverage Choices
DESCRIPTION:Healthy hydration is important\, but drinks can be a surprising source of sugar\, sodium\, and fat. Join us to learn about how to choose drinks that are better for your needs.
URL:https://www.floridanutritioned.org/event/make-better-beverage-choices/
LOCATION:Central Brevard Sharing Center\, 113 Aurora Street\, Cocoa\, FL\, 32922
CATEGORIES:Adults and Children
END:VEVENT
BEGIN:VEVENT
DTSTART;TZID=America/New_York:20250612T160000
DTEND;TZID=America/New_York:20250612T170000
DTSTAMP:20260421T095455
CREATED:20250604T122515Z
LAST-MODIFIED:20250604T122515Z
UID:10007298-1749744000-1749747600@www.floridanutritioned.org
SUMMARY:Shifting to healthier choices
DESCRIPTION:How to incorporate healthy eating into our daily lives by adding fruits and vegetables\, lean proteins\, and more whole grains
URL:https://www.floridanutritioned.org/event/shifting-to-healthier-choices-9/
LOCATION:Gardinia Gardens\, 1727 NE Eight Ave.\, Gainesville\, FL\, 32641
CATEGORIES:Adults and Children
END:VEVENT
BEGIN:VEVENT
DTSTART;TZID=America/New_York:20250617T090000
DTEND;TZID=America/New_York:20250617T100000
DTSTAMP:20260421T095455
CREATED:20250530T140407Z
LAST-MODIFIED:20250530T140407Z
UID:10007210-1750150800-1750154400@www.floridanutritioned.org
SUMMARY:Leah's Pantry\, Food Smarts for Adults: Food Processing
DESCRIPTION:Interactive\, trauma-informed nutrition lessons that include a food demonstration\, while focusing on how to nourish your body\, moving your body in safe and enjoyable ways\, exploring where foods come from\, and health goal setting
URL:https://www.floridanutritioned.org/event/leahs-pantry-food-smarts-for-adults-food-processing-11/
LOCATION:Citrus County DoH\, 3650 W Sovereign Path\, Lecanto\, FL\, 34461
CATEGORIES:Adults and Children
END:VEVENT
END:VCALENDAR