BEGIN:VCALENDAR
VERSION:2.0
PRODID:-//Florida Nutrition Education - ECPv6.15.20//NONSGML v1.0//EN
CALSCALE:GREGORIAN
METHOD:PUBLISH
X-WR-CALNAME:Florida Nutrition Education
X-ORIGINAL-URL:https://www.floridanutritioned.org
X-WR-CALDESC:Events for Florida Nutrition Education
REFRESH-INTERVAL;VALUE=DURATION:PT1H
X-Robots-Tag:noindex
X-PUBLISHED-TTL:PT1H
BEGIN:VTIMEZONE
TZID:America/New_York
BEGIN:DAYLIGHT
TZOFFSETFROM:-0500
TZOFFSETTO:-0400
TZNAME:EDT
DTSTART:20220313T070000
END:DAYLIGHT
BEGIN:STANDARD
TZOFFSETFROM:-0400
TZOFFSETTO:-0500
TZNAME:EST
DTSTART:20221106T060000
END:STANDARD
BEGIN:DAYLIGHT
TZOFFSETFROM:-0500
TZOFFSETTO:-0400
TZNAME:EDT
DTSTART:20230312T070000
END:DAYLIGHT
BEGIN:STANDARD
TZOFFSETFROM:-0400
TZOFFSETTO:-0500
TZNAME:EST
DTSTART:20231105T060000
END:STANDARD
BEGIN:DAYLIGHT
TZOFFSETFROM:-0500
TZOFFSETTO:-0400
TZNAME:EDT
DTSTART:20240310T070000
END:DAYLIGHT
BEGIN:STANDARD
TZOFFSETFROM:-0400
TZOFFSETTO:-0500
TZNAME:EST
DTSTART:20241103T060000
END:STANDARD
END:VTIMEZONE
BEGIN:VEVENT
DTSTART;TZID=America/New_York:20230621T100000
DTEND;TZID=America/New_York:20230621T104500
DTSTAMP:20260421T115745
CREATED:20230609T164157Z
LAST-MODIFIED:20230609T164157Z
UID:10000534-1687341600-1687344300@www.floridanutritioned.org
SUMMARY:My Plate for My Family
DESCRIPTION:Fruits
URL:https://www.floridanutritioned.org/event/my-plate-for-my-family-14/
LOCATION:Baptist Terrance\, 414 E. Pine St.\, Orlando\, FL\, 32801
CATEGORIES:Adults
END:VEVENT
BEGIN:VEVENT
DTSTART;TZID=America/New_York:20230621T104500
DTEND;TZID=America/New_York:20230621T113000
DTSTAMP:20260421T115745
CREATED:20230609T164157Z
LAST-MODIFIED:20230609T164157Z
UID:10000535-1687344300-1687347000@www.floridanutritioned.org
SUMMARY:My Plate for My Family
DESCRIPTION:Fruits
URL:https://www.floridanutritioned.org/event/my-plate-for-my-family-15/
LOCATION:Baptist Terrance\, 414 E. Pine St.\, Orlando\, FL\, 32801
CATEGORIES:Adults
END:VEVENT
BEGIN:VEVENT
DTSTART;TZID=America/New_York:20230621T170000
DTEND;TZID=America/New_York:20230621T180000
DTSTAMP:20260421T115745
CREATED:20230621T132306Z
LAST-MODIFIED:20230621T132306Z
UID:10000613-1687366800-1687370400@www.floridanutritioned.org
SUMMARY:Food Smarts
DESCRIPTION:This class is designed to encourage healthy eating while being mindful of food resource management in individuals 60 years of age and older who are participating in or eligible for FNS nutrition assistance programs.
URL:https://www.floridanutritioned.org/event/food-smarts-17/
LOCATION:Oakridge Elementary\, 4530 Shelfer Rd\, Tallahassee\, FL\, 32305
CATEGORIES:Adults
END:VEVENT
END:VCALENDAR