BEGIN:VCALENDAR
VERSION:2.0
PRODID:-//Florida Nutrition Education - ECPv6.15.20//NONSGML v1.0//EN
CALSCALE:GREGORIAN
METHOD:PUBLISH
X-WR-CALNAME:Florida Nutrition Education
X-ORIGINAL-URL:https://www.floridanutritioned.org
X-WR-CALDESC:Events for Florida Nutrition Education
REFRESH-INTERVAL;VALUE=DURATION:PT1H
X-Robots-Tag:noindex
X-PUBLISHED-TTL:PT1H
BEGIN:VTIMEZONE
TZID:America/New_York
BEGIN:DAYLIGHT
TZOFFSETFROM:-0500
TZOFFSETTO:-0400
TZNAME:EDT
DTSTART:20220313T070000
END:DAYLIGHT
BEGIN:STANDARD
TZOFFSETFROM:-0400
TZOFFSETTO:-0500
TZNAME:EST
DTSTART:20221106T060000
END:STANDARD
BEGIN:DAYLIGHT
TZOFFSETFROM:-0500
TZOFFSETTO:-0400
TZNAME:EDT
DTSTART:20230312T070000
END:DAYLIGHT
BEGIN:STANDARD
TZOFFSETFROM:-0400
TZOFFSETTO:-0500
TZNAME:EST
DTSTART:20231105T060000
END:STANDARD
BEGIN:DAYLIGHT
TZOFFSETFROM:-0500
TZOFFSETTO:-0400
TZNAME:EDT
DTSTART:20240310T070000
END:DAYLIGHT
BEGIN:STANDARD
TZOFFSETFROM:-0400
TZOFFSETTO:-0500
TZNAME:EST
DTSTART:20241103T060000
END:STANDARD
END:VTIMEZONE
BEGIN:VEVENT
DTSTART;TZID=America/New_York:20231107T090000
DTEND;TZID=America/New_York:20231107T130000
DTSTAMP:20260420T061636
CREATED:20231113T155557Z
LAST-MODIFIED:20231113T155557Z
UID:10002115-1699347600-1699362000@www.floridanutritioned.org
SUMMARY:My Plate for My Family- Cooking Demo
DESCRIPTION:
URL:https://www.floridanutritioned.org/event/my-plate-for-my-family-cooking-demo/
LOCATION:FL
CATEGORIES:Adults
END:VEVENT
BEGIN:VEVENT
DTSTART;TZID=America/New_York:20231107T103000
DTEND;TZID=America/New_York:20231107T113000
DTSTAMP:20260420T061636
CREATED:20231005T172924Z
LAST-MODIFIED:20231005T172924Z
UID:10001782-1699353000-1699356600@www.floridanutritioned.org
SUMMARY:Leah's Pantry: Food Processing
DESCRIPTION:Learn how to navigate between whole foods and foods that are processed to make healthier food choices daily.
URL:https://www.floridanutritioned.org/event/leahs-pantry-food-processing-13/
LOCATION:United Against Poverty\, 2520 Orange Avenue\, Fort Pierce\, FL\, 34947
CATEGORIES:Adults
END:VEVENT
BEGIN:VEVENT
DTSTART;TZID=America/New_York:20231107T150000
DTEND;TZID=America/New_York:20231107T163000
DTSTAMP:20260420T061636
CREATED:20231101T114915Z
LAST-MODIFIED:20231101T114915Z
UID:10002006-1699369200-1699374600@www.floridanutritioned.org
SUMMARY:Leah's Pantry
DESCRIPTION:Lesson 3
URL:https://www.floridanutritioned.org/event/leahs-pantry-160/
LOCATION:Sarasota Memorial Hospital\, 1700 S Tamiami Trl.\, Sarasota\, FL\, 34239
CATEGORIES:Adults
END:VEVENT
BEGIN:VEVENT
DTSTART;TZID=America/New_York:20231108T120000
DTEND;TZID=America/New_York:20231108T130000
DTSTAMP:20260420T061636
CREATED:20231101T114916Z
LAST-MODIFIED:20231101T114916Z
UID:10002007-1699444800-1699448400@www.floridanutritioned.org
SUMMARY:Leah's Pantry
DESCRIPTION:One Time Class
URL:https://www.floridanutritioned.org/event/leahs-pantry-161/
LOCATION:DeSoto Department of Health\, 34 S Baldwin Ave.\, Arcadia\, FL\, 34266
CATEGORIES:Adults
END:VEVENT
BEGIN:VEVENT
DTSTART;TZID=America/New_York:20231109T123000
DTEND;TZID=America/New_York:20231109T133000
DTSTAMP:20260420T061636
CREATED:20231114T202439Z
LAST-MODIFIED:20231114T202439Z
UID:10002137-1699533000-1699536600@www.floridanutritioned.org
SUMMARY:Leah's Pantry: Food Processing/ MyPlate
DESCRIPTION:
URL:https://www.floridanutritioned.org/event/leahs-pantry-food-processing-myplate-2/
LOCATION:FL
CATEGORIES:Adults
END:VEVENT
BEGIN:VEVENT
DTSTART;TZID=America/New_York:20231109T130000
DTEND;TZID=America/New_York:20231109T140000
DTSTAMP:20260420T061636
CREATED:20231005T172924Z
LAST-MODIFIED:20231005T172924Z
UID:10001783-1699534800-1699538400@www.floridanutritioned.org
SUMMARY:Leah's Pantry: Healthy Eating Plate
DESCRIPTION:Learn how to create a balanced diet and MyPlate recommendations.
URL:https://www.floridanutritioned.org/event/leahs-pantry-healthy-eating-plate-2/
LOCATION:United Against Poverty\, 2520 Orange Avenue\, Fort Pierce\, FL\, 34947
CATEGORIES:Adults
END:VEVENT
BEGIN:VEVENT
DTSTART;TZID=America/New_York:20231110T090000
DTEND;TZID=America/New_York:20231110T110000
DTSTAMP:20260420T061636
CREATED:20231113T155558Z
LAST-MODIFIED:20231113T155558Z
UID:10002117-1699606800-1699614000@www.floridanutritioned.org
SUMMARY:My Plate for my Famly: Make it yours
DESCRIPTION:
URL:https://www.floridanutritioned.org/event/my-plate-for-my-famly-make-it-yours/
LOCATION:FL
CATEGORIES:Adults
END:VEVENT
BEGIN:VEVENT
DTSTART;TZID=America/New_York:20231110T110000
DTEND;TZID=America/New_York:20231110T120000
DTSTAMP:20260420T061636
CREATED:20231113T155557Z
LAST-MODIFIED:20231113T155557Z
UID:10002116-1699614000-1699617600@www.floridanutritioned.org
SUMMARY:Leah's Pantry Eat the Rainbow with Cooking Demo
DESCRIPTION:
URL:https://www.floridanutritioned.org/event/leahs-pantry-eat-the-rainbow-with-cooking-demo/
LOCATION:Saint Monica Gardens\, 3425 NW 189th St\, Miami Gardens\, FL\, 33056
CATEGORIES:Adults
END:VEVENT
BEGIN:VEVENT
DTSTART;TZID=America/New_York:20231111T100000
DTEND;TZID=America/New_York:20231111T110000
DTSTAMP:20260420T061636
CREATED:20231113T155553Z
LAST-MODIFIED:20231113T155553Z
UID:10002110-1699696800-1699700400@www.floridanutritioned.org
SUMMARY:MyPlate MyWins: How to Build a Healthy Meal
DESCRIPTION:
URL:https://www.floridanutritioned.org/event/myplate-mywins-how-to-build-a-healthy-meal/
LOCATION:Andover I Building\, 20451 NW 2 Ave Suite 101\, Miami Gardens\, FL\, 33169
CATEGORIES:Adults
END:VEVENT
BEGIN:VEVENT
DTSTART;TZID=America/New_York:20231111T110000
DTEND;TZID=America/New_York:20231111T120000
DTSTAMP:20260420T061636
CREATED:20231113T155553Z
LAST-MODIFIED:20231113T155553Z
UID:10002111-1699700400-1699704000@www.floridanutritioned.org
SUMMARY:MyPlate MyWins: How to Build a Healthy Meal
DESCRIPTION:
URL:https://www.floridanutritioned.org/event/myplate-mywins-how-to-build-a-healthy-meal-2/
LOCATION:Andover I Building\, 20451 NW 2 Ave Suite 101\, Miami Gardens\, FL\, 33169
CATEGORIES:Adults
END:VEVENT
BEGIN:VEVENT
DTSTART;TZID=America/New_York:20231111T120000
DTEND;TZID=America/New_York:20231111T130000
DTSTAMP:20260420T061636
CREATED:20231113T155554Z
LAST-MODIFIED:20231113T155554Z
UID:10002112-1699704000-1699707600@www.floridanutritioned.org
SUMMARY:MyPlate MyWins: How to Build a Healthy Meal
DESCRIPTION:
URL:https://www.floridanutritioned.org/event/myplate-mywins-how-to-build-a-healthy-meal-3/
LOCATION:Andover I Building\, 20451 NW 2 Ave Suite 101\, Miami Gardens\, FL\, 33169
CATEGORIES:Adults
END:VEVENT
BEGIN:VEVENT
DTSTART;TZID=America/New_York:20231111T130000
DTEND;TZID=America/New_York:20231111T140000
DTSTAMP:20260420T061636
CREATED:20231113T155554Z
LAST-MODIFIED:20231113T155554Z
UID:10002113-1699707600-1699711200@www.floridanutritioned.org
SUMMARY:MyPlate MyWins: How to Build a Healthy Meal
DESCRIPTION:
URL:https://www.floridanutritioned.org/event/myplate-mywins-how-to-build-a-healthy-meal-4/
LOCATION:Andover I Building\, 20451 NW 2 Ave Suite 101\, Miami Gardens\, FL\, 33169
CATEGORIES:Adults
END:VEVENT
BEGIN:VEVENT
DTSTART;TZID=America/New_York:20231113T093000
DTEND;TZID=America/New_York:20231113T103000
DTSTAMP:20260420T061636
CREATED:20231114T202433Z
LAST-MODIFIED:20231114T202433Z
UID:10002130-1699867800-1699871400@www.floridanutritioned.org
SUMMARY:Cooking Matters: Let's Cook Together
DESCRIPTION:Central Palm Pantry
URL:https://www.floridanutritioned.org/event/cooking-matters-lets-cook-together-5/
LOCATION:First Christian Chruch\, 215 S Congress Ave\, West Palm Beach\, FL\, 33409
CATEGORIES:Adults
END:VEVENT
BEGIN:VEVENT
DTSTART;TZID=America/New_York:20231113T100000
DTEND;TZID=America/New_York:20231113T110000
DTSTAMP:20260420T061636
CREATED:20231106T152659Z
LAST-MODIFIED:20231106T152659Z
UID:10002055-1699869600-1699873200@www.floridanutritioned.org
SUMMARY:Food Smart
DESCRIPTION:Interactive\, trauma-informed nutrition lessons that include a food demo and focus on moving your body\, adding more nutrients to your daily eating\, setting realistic health goals\, and meal prepping/grocery shopping on a budget
URL:https://www.floridanutritioned.org/event/food-smart/
LOCATION:EPIC – Empath Health\, 4703 N Florida Avenue\, Tampa\, FL\, 33603
CATEGORIES:Adults
END:VEVENT
BEGIN:VEVENT
DTSTART;TZID=America/New_York:20231113T103000
DTEND;TZID=America/New_York:20231113T113000
DTSTAMP:20260420T061636
CREATED:20231114T202434Z
LAST-MODIFIED:20231114T202434Z
UID:10002131-1699871400-1699875000@www.floridanutritioned.org
SUMMARY:Cooking Matters: Let's Cook Together
DESCRIPTION:Central Palm Pantry
URL:https://www.floridanutritioned.org/event/cooking-matters-lets-cook-together-6/
LOCATION:First Christian Chruch\, 215 S Congress Ave\, West Palm Beach\, FL\, 33409
CATEGORIES:Adults
END:VEVENT
BEGIN:VEVENT
DTSTART;TZID=America/New_York:20231113T110000
DTEND;TZID=America/New_York:20231113T120000
DTSTAMP:20260420T061636
CREATED:20231114T202434Z
LAST-MODIFIED:20231114T202434Z
UID:10002132-1699873200-1699876800@www.floridanutritioned.org
SUMMARY:MyPlate: Eating Foods Away from Home
DESCRIPTION:Health Event
URL:https://www.floridanutritioned.org/event/myplate-eating-foods-away-from-home/
LOCATION:Monroe County Social Services\, 101485 Overseas Hwy\, Tavernier\, FL\, 33070
CATEGORIES:Adults
END:VEVENT
BEGIN:VEVENT
DTSTART;TZID=America/New_York:20231113T120000
DTEND;TZID=America/New_York:20231113T130000
DTSTAMP:20260420T061636
CREATED:20231101T114916Z
LAST-MODIFIED:20231101T114916Z
UID:10002008-1699876800-1699880400@www.floridanutritioned.org
SUMMARY:Cooking Matters
DESCRIPTION:Lesson 2
URL:https://www.floridanutritioned.org/event/cooking-matters-51/
LOCATION:Mothers Helping Mothers\, 5933 N Washington Blvd.\, Sarasota\, FL\, 34243
CATEGORIES:Adults
END:VEVENT
BEGIN:VEVENT
DTSTART;TZID=America/New_York:20231113T120000
DTEND;TZID=America/New_York:20231113T130000
DTSTAMP:20260420T061636
CREATED:20231114T202435Z
LAST-MODIFIED:20231114T202435Z
UID:10002133-1699876800-1699880400@www.floridanutritioned.org
SUMMARY:MyPlate: Eating Foods Away from Home
DESCRIPTION:Health Event
URL:https://www.floridanutritioned.org/event/myplate-eating-foods-away-from-home-2/
LOCATION:Monroe County Social Services\, 101485 Overseas Hwy\, Tavernier\, FL\, 33070
CATEGORIES:Adults
END:VEVENT
BEGIN:VEVENT
DTSTART;TZID=America/New_York:20231113T130000
DTEND;TZID=America/New_York:20231113T140000
DTSTAMP:20260420T061636
CREATED:20231114T202435Z
LAST-MODIFIED:20231114T202435Z
UID:10002134-1699880400-1699884000@www.floridanutritioned.org
SUMMARY:MyPlate: Eating Foods Away from Home
DESCRIPTION:Health Event
URL:https://www.floridanutritioned.org/event/myplate-eating-foods-away-from-home-3/
LOCATION:Monroe County Social Services\, 101485 Overseas Hwy\, Tavernier\, FL\, 33070
CATEGORIES:Adults
END:VEVENT
BEGIN:VEVENT
DTSTART;TZID=America/New_York:20231113T130000
DTEND;TZID=America/New_York:20231113T140000
DTSTAMP:20260420T061636
CREATED:20241015T161014Z
LAST-MODIFIED:20241015T161014Z
UID:10005569-1699880400-1699884000@www.floridanutritioned.org
SUMMARY:Leah's Pantry: Food Safety Review
DESCRIPTION:Learn why it is important to practice good food safety practices to avoid food borne illnesses.
URL:https://www.floridanutritioned.org/event/leahs-pantry-food-safety-review-5/
LOCATION:Mustard Seed\, 3130 S US Hwy 1\, Fort Pierce\, FL\, 34947
CATEGORIES:Adults
END:VEVENT
BEGIN:VEVENT
DTSTART;TZID=America/New_York:20231113T140000
DTEND;TZID=America/New_York:20231113T150000
DTSTAMP:20260420T061636
CREATED:20231114T202739Z
LAST-MODIFIED:20231114T202739Z
UID:10002145-1699884000-1699887600@www.floridanutritioned.org
SUMMARY:Leah's Pantry Eat the Rainbow with Cooking Demo
DESCRIPTION:
URL:https://www.floridanutritioned.org/event/leahs-pantry-eat-the-rainbow-with-cooking-demo-2/
LOCATION:Las Palmas II\, 2501 NW 7 St\, Miami\, FL\, 33125
CATEGORIES:Adults
END:VEVENT
BEGIN:VEVENT
DTSTART;TZID=America/New_York:20231114T100000
DTEND;TZID=America/New_York:20231114T103000
DTSTAMP:20260420T061636
CREATED:20231027T192724Z
LAST-MODIFIED:20231027T192724Z
UID:10001928-1699956000-1699957800@www.floridanutritioned.org
SUMMARY:Eat Smart Live Strong
DESCRIPTION:Eat Smart\, Live Strong discusses several topics such as reaching your goals\, eating on a budget\, increasing fruit and vegetable intake.
URL:https://www.floridanutritioned.org/event/eat-smart-live-strong-163/
LOCATION:Hope Connections\, 475 E Cowboy Way\, LaBelle\, FL\, 33935
CATEGORIES:Adults
END:VEVENT
BEGIN:VEVENT
DTSTART;TZID=America/New_York:20231114T133000
DTEND;TZID=America/New_York:20231114T143000
DTSTAMP:20260420T061636
CREATED:20231026T112728Z
LAST-MODIFIED:20231026T112728Z
UID:10001827-1699968600-1699972200@www.floridanutritioned.org
SUMMARY:10 Tips for Adults
DESCRIPTION:Intervention designed to help individuals increase fruit and vegetable consumption\, physical activity\, water intake\, and provide SNAP-Ed adults with the skills to purchase healthy foods on a budget.
URL:https://www.floridanutritioned.org/event/10-tips-for-adults-147/
LOCATION:Prosperity Center\, 2011 E Sligh Ave.\, Tampa\, FL\, 33610
CATEGORIES:Adults
END:VEVENT
BEGIN:VEVENT
DTSTART;TZID=America/New_York:20231114T140000
DTEND;TZID=America/New_York:20231114T150000
DTSTAMP:20260420T061636
CREATED:20231127T131240Z
LAST-MODIFIED:20231127T131240Z
UID:10002159-1699970400-1699974000@www.floridanutritioned.org
SUMMARY:My Plate My Wins: Build a healthy meal
DESCRIPTION:
URL:https://www.floridanutritioned.org/event/my-plate-my-wins-build-a-healthy-meal-4/
LOCATION:FSF Food Pantry\, 2502 SW 32nd Terr\, Pembroke Park\, FL\, 33024
CATEGORIES:Adults
END:VEVENT
BEGIN:VEVENT
DTSTART;TZID=America/New_York:20231114T150000
DTEND;TZID=America/New_York:20231114T160000
DTSTAMP:20260420T061636
CREATED:20231127T131240Z
LAST-MODIFIED:20231127T131240Z
UID:10002160-1699974000-1699977600@www.floridanutritioned.org
SUMMARY:My Plate My Wins: Build a healthy meal
DESCRIPTION:
URL:https://www.floridanutritioned.org/event/my-plate-my-wins-build-a-healthy-meal-5/
LOCATION:FSF Food Pantry\, 2502 SW 32nd Terr\, Pembroke Park\, FL\, 33024
CATEGORIES:Adults
END:VEVENT
BEGIN:VEVENT
DTSTART;TZID=America/New_York:20231115T093000
DTEND;TZID=America/New_York:20231115T103000
DTSTAMP:20260420T061636
CREATED:20231114T202439Z
LAST-MODIFIED:20231114T202439Z
UID:10002138-1700040600-1700044200@www.floridanutritioned.org
SUMMARY:Leah's Pantry: Decoding Food Labels
DESCRIPTION:
URL:https://www.floridanutritioned.org/event/leahs-pantry-decoding-food-labels-7/
LOCATION:SW Transportation Terminal\, 15501 SW 117th Ave.\, Miami\, FL 33177\, Miami\, FL\, 33177
CATEGORIES:Adults
END:VEVENT
BEGIN:VEVENT
DTSTART;TZID=America/New_York:20231115T100000
DTEND;TZID=America/New_York:20231115T110000
DTSTAMP:20260420T061636
CREATED:20231030T183331Z
LAST-MODIFIED:20231030T183331Z
UID:10001971-1700042400-1700046000@www.floridanutritioned.org
SUMMARY:MyPlate: Fruits
DESCRIPTION:
URL:https://www.floridanutritioned.org/event/myplate-fruits/
LOCATION:Orange County Public Library\, 101 East Central Blvd.\, Orlando\, FL\, 32801
CATEGORIES:Adults
END:VEVENT
BEGIN:VEVENT
DTSTART;TZID=America/New_York:20231116T090000
DTEND;TZID=America/New_York:20231116T100000
DTSTAMP:20260420T061636
CREATED:20231106T134342Z
LAST-MODIFIED:20231106T134342Z
UID:10002020-1700125200-1700128800@www.floridanutritioned.org
SUMMARY:MyPlate MyWins- Build a Healthy Meal
DESCRIPTION:Food Pantry
URL:https://www.floridanutritioned.org/event/myplate-mywins-build-a-healthy-meal-12/
LOCATION:Legacy Church Ministries\, 400 Jackson Ave\, Greenacres\, FL\, 33463
CATEGORIES:Adults
END:VEVENT
BEGIN:VEVENT
DTSTART;TZID=America/New_York:20231116T100000
DTEND;TZID=America/New_York:20231116T110000
DTSTAMP:20260420T061636
CREATED:20231005T173023Z
LAST-MODIFIED:20231005T173023Z
UID:10001785-1700128800-1700132400@www.floridanutritioned.org
SUMMARY:Leah's Pantry: Eat the Rainbow
DESCRIPTION:Learn about the different  colored fruits and vegetables and the health benefits associated.
URL:https://www.floridanutritioned.org/event/leahs-pantry-eat-the-rainbow-15/
LOCATION:Paula A. Lewis Branch Library\, 2950 SW Rosser Blvd\, Port St. Lucie\, FL\, 34953
CATEGORIES:Adults
END:VEVENT
BEGIN:VEVENT
DTSTART;TZID=America/New_York:20231116T100000
DTEND;TZID=America/New_York:20231116T110000
DTSTAMP:20260420T061636
CREATED:20231106T134342Z
LAST-MODIFIED:20231106T134342Z
UID:10002021-1700128800-1700132400@www.floridanutritioned.org
SUMMARY:MyPlate MyWins- Build a Healthy Meal
DESCRIPTION:Food Pantry
URL:https://www.floridanutritioned.org/event/myplate-mywins-build-a-healthy-meal-13/
LOCATION:Legacy Church Ministries\, 400 Jackson Ave\, Greenacres\, FL\, 33463
CATEGORIES:Adults
END:VEVENT
END:VCALENDAR