BEGIN:VCALENDAR
VERSION:2.0
PRODID:-//Florida Nutrition Education - ECPv6.15.20//NONSGML v1.0//EN
CALSCALE:GREGORIAN
METHOD:PUBLISH
X-WR-CALNAME:Florida Nutrition Education
X-ORIGINAL-URL:https://www.floridanutritioned.org
X-WR-CALDESC:Events for Florida Nutrition Education
REFRESH-INTERVAL;VALUE=DURATION:PT1H
X-Robots-Tag:noindex
X-PUBLISHED-TTL:PT1H
BEGIN:VTIMEZONE
TZID:America/New_York
BEGIN:DAYLIGHT
TZOFFSETFROM:-0500
TZOFFSETTO:-0400
TZNAME:EDT
DTSTART:20240310T070000
END:DAYLIGHT
BEGIN:STANDARD
TZOFFSETFROM:-0400
TZOFFSETTO:-0500
TZNAME:EST
DTSTART:20241103T060000
END:STANDARD
BEGIN:DAYLIGHT
TZOFFSETFROM:-0500
TZOFFSETTO:-0400
TZNAME:EDT
DTSTART:20250309T070000
END:DAYLIGHT
BEGIN:STANDARD
TZOFFSETFROM:-0400
TZOFFSETTO:-0500
TZNAME:EST
DTSTART:20251102T060000
END:STANDARD
BEGIN:DAYLIGHT
TZOFFSETFROM:-0500
TZOFFSETTO:-0400
TZNAME:EDT
DTSTART:20260308T070000
END:DAYLIGHT
BEGIN:STANDARD
TZOFFSETFROM:-0400
TZOFFSETTO:-0500
TZNAME:EST
DTSTART:20261101T060000
END:STANDARD
END:VTIMEZONE
BEGIN:VEVENT
DTSTART;TZID=America/New_York:20250218T110000
DTEND;TZID=America/New_York:20250218T113000
DTSTAMP:20260422T052932
CREATED:20250128T160019Z
LAST-MODIFIED:20250128T160019Z
UID:10006328-1739876400-1739878200@www.floridanutritioned.org
SUMMARY:Sleep Your Way to Health
DESCRIPTION:Sleep is important for both physical and mental health. A healthy sleep cycle can help to maintain a healthy weight\, increase your energy levels\, improve chronic conditions\, reduce stress\, and improve mood. Join us for a deep dive into the benefits of sle
URL:https://www.floridanutritioned.org/event/sleep-your-way-to-health-4/
LOCATION:Cuyler Park\, 2329 Harry T Moore Avenue\, Mims\, FL\, 32754
END:VEVENT
BEGIN:VEVENT
DTSTART;TZID=America/New_York:20250218T110000
DTEND;TZID=America/New_York:20250218T120000
DTSTAMP:20260422T052932
CREATED:20250128T160107Z
LAST-MODIFIED:20250128T160107Z
UID:10006358-1739876400-1739880000@www.floridanutritioned.org
SUMMARY:Leah's Pantry: Eating the Rainbow
DESCRIPTION:Come and learn all about the benefits of Veggies and Fruits. Learn about each color and how it can benefit our bodies.
URL:https://www.floridanutritioned.org/event/leahs-pantry-eating-the-rainbow-6/
LOCATION:St. Cloud Library (Homeschooling)\, 810 13th Steeet\, St. Cloud\, FL\, 34769
END:VEVENT
BEGIN:VEVENT
DTSTART;TZID=America/New_York:20250218T110000
DTEND;TZID=America/New_York:20250218T120000
DTSTAMP:20260422T052932
CREATED:20250128T160127Z
LAST-MODIFIED:20250128T160127Z
UID:10006373-1739876400-1739880000@www.floridanutritioned.org
SUMMARY:Building a Wholesome Diet
DESCRIPTION:We will discuss the types of foods that make up a healthy diet. We will discuss ideas for incorporating more whole grains in our diets. We will also discuss the differences between whole grains and refined grains. Finally\, we will talk about processed foods and the problems they can cause. A question and answer session will follow.
URL:https://www.floridanutritioned.org/event/building-a-wholesome-diet-32/
LOCATION:Oakleaf Landings\, 2350 North Central Avenue\, Kissimmee\, FL\, 34741
END:VEVENT
BEGIN:VEVENT
DTSTART;TZID=America/New_York:20250218T110000
DTEND;TZID=America/New_York:20250218T120000
DTSTAMP:20260422T052932
CREATED:20250130T195807Z
LAST-MODIFIED:20250130T195807Z
UID:10006458-1739876400-1739880000@www.floridanutritioned.org
SUMMARY:Eating Smart\, Being Active
DESCRIPTION:Prepare Healthy Foods & Beverages for an Active Lifestyle
URL:https://www.floridanutritioned.org/event/eating-smart-being-active-11/
LOCATION:FSF Warehouse Training\, 2504 SW 32 Ter\, Pembroke Park\, FL\, 33023
CATEGORIES:Adults
END:VEVENT
BEGIN:VEVENT
DTSTART;TZID=America/New_York:20250218T110000
DTEND;TZID=America/New_York:20250218T120000
DTSTAMP:20260422T052932
CREATED:20250204T195732Z
LAST-MODIFIED:20250204T220645Z
UID:10006544-1739876400-1739880000@www.floridanutritioned.org
SUMMARY:Reach Your Goals\, Step by Step
DESCRIPTION:Participants set goals for eating more fruits and vegetables and being more physically active during the upcoming week.
URL:https://www.floridanutritioned.org/event/reach-your-goals-step-by-step-6/
LOCATION:Parks and Recreation: City of Fort Pierce\, 2000 Virginia Ave\, Fort Pierce\, FL\, 34968
CATEGORIES:Adults and Elders
END:VEVENT
BEGIN:VEVENT
DTSTART;TZID=America/New_York:20250218T113000
DTEND;TZID=America/New_York:20250218T123000
DTSTAMP:20260422T052932
CREATED:20250128T160142Z
LAST-MODIFIED:20250128T160142Z
UID:10006387-1739878200-1739881800@www.floridanutritioned.org
SUMMARY:My Plate for Older Adults
DESCRIPTION:Nutrition for Older Adults: Why Eating Well Matters as You Age
URL:https://www.floridanutritioned.org/event/my-plate-for-older-adults-5/
LOCATION:Council on Aging – Ormond Beach\, 351 Andrews Street\, Ormond Beach\, FL\, 32174
END:VEVENT
BEGIN:VEVENT
DTSTART;TZID=America/New_York:20250218T113000
DTEND;TZID=America/New_York:20250218T123000
DTSTAMP:20260422T052932
CREATED:20250130T195308Z
LAST-MODIFIED:20250130T195308Z
UID:10006434-1739878200-1739881800@www.floridanutritioned.org
SUMMARY:10 Tips for Adults
DESCRIPTION:
URL:https://www.floridanutritioned.org/event/10-tips-for-adults-357/
LOCATION:Northwest Regional Library\, 3151 N University Dr\, Coral Springs\, FL\, 33065
CATEGORIES:Adults and Elders
END:VEVENT
BEGIN:VEVENT
DTSTART;TZID=America/New_York:20250218T113000
DTEND;TZID=America/New_York:20250218T123000
DTSTAMP:20260422T052932
CREATED:20250203T180954Z
LAST-MODIFIED:20250203T180954Z
UID:10006517-1739878200-1739881800@www.floridanutritioned.org
SUMMARY:Leah's Pantry: Food Smarts
DESCRIPTION:Interactive\, trauma-informed nutrition lessons that include a food demo and focus on how to nourish your body\, moving your body in safe & enjoyable ways\, exploring where foods come from\, and health goal setting
URL:https://www.floridanutritioned.org/event/leahs-pantry-food-smarts-77/
LOCATION:Volunteers of America\, 1430 55th Ave West\, Bradenton\, FL\, 343207
CATEGORIES:Adults
END:VEVENT
BEGIN:VEVENT
DTSTART;TZID=America/New_York:20250218T120000
DTEND;TZID=America/New_York:20250218T130000
DTSTAMP:20260422T052932
CREATED:20250128T160128Z
LAST-MODIFIED:20250128T160128Z
UID:10006374-1739880000-1739883600@www.floridanutritioned.org
SUMMARY:Building a Wholesome Diet
DESCRIPTION:We will discuss the types of foods that make up a healthy diet. We will discuss ideas for incorporating more whole grains in our diets. We will also discuss the differences between whole grains and refined grains. Finally\, we will talk about processed foods and the problems they can cause. A question and answer session will follow.
URL:https://www.floridanutritioned.org/event/building-a-wholesome-diet-33/
LOCATION:Oakleaf Landings\, 2350 North Central Avenue\, Kissimmee\, FL\, 34741
END:VEVENT
BEGIN:VEVENT
DTSTART;TZID=America/New_York:20250218T130000
DTEND;TZID=America/New_York:20250218T140000
DTSTAMP:20260422T052932
CREATED:20250128T160143Z
LAST-MODIFIED:20250128T160143Z
UID:10006388-1739883600-1739887200@www.floridanutritioned.org
SUMMARY:My Plate for Older Adults
DESCRIPTION:Nutrition for Older Adults: Why Eating Well Matters as You Age
URL:https://www.floridanutritioned.org/event/my-plate-for-older-adults-6/
LOCATION:Conviva Care Center – Ormond Beach\, 420 S Nova Road\, Ormond Beach\, FL\, 32174
END:VEVENT
BEGIN:VEVENT
DTSTART;TZID=America/New_York:20250218T140000
DTEND;TZID=America/New_York:20250218T150000
DTSTAMP:20260422T052932
CREATED:20250130T195911Z
LAST-MODIFIED:20250130T195911Z
UID:10006465-1739887200-1739890800@www.floridanutritioned.org
SUMMARY:Eat Smart\, Live Strong "Session Two"
DESCRIPTION:
URL:https://www.floridanutritioned.org/event/eat-smart-live-strong-session-two/
LOCATION:AHEPA Housing\, 350 NE 141 St\, Miami\, FL\, 33161
CATEGORIES:Adults
END:VEVENT
BEGIN:VEVENT
DTSTART;TZID=America/New_York:20250218T150000
DTEND;TZID=America/New_York:20250218T160000
DTSTAMP:20260422T052932
CREATED:20250128T160108Z
LAST-MODIFIED:20250128T160108Z
UID:10006359-1739890800-1739894400@www.floridanutritioned.org
SUMMARY:Leah's Pantry: Eating the Rainbow
DESCRIPTION:Come and learn all about the benefits of Veggies and Fruits. Learn about each color and how it can benefit our bodies.
URL:https://www.floridanutritioned.org/event/leahs-pantry-eating-the-rainbow-7/
LOCATION:St. Cloud Dream Center\, 2563 E Irlo Bronson Memorial Hwy\, Kissimmee\, FL\, 34744
END:VEVENT
BEGIN:VEVENT
DTSTART;TZID=America/New_York:20250218T173000
DTEND;TZID=America/New_York:20250218T183000
DTSTAMP:20260422T052932
CREATED:20250204T143912Z
LAST-MODIFIED:20250204T143912Z
UID:10006535-1739899800-1739903400@www.floridanutritioned.org
SUMMARY:Food Smarts
DESCRIPTION:
URL:https://www.floridanutritioned.org/event/food-smarts-108/
LOCATION:HIPPY- Home Instruction for Parents of Preschool Youngsters\, 2504 Gillespie Ave.\, Sarasota\, FL\, 34234
CATEGORIES:Adults
END:VEVENT
BEGIN:VEVENT
DTSTART;TZID=America/New_York:20250219T080000
DTEND;TZID=America/New_York:20250219T090000
DTSTAMP:20260422T052932
CREATED:20250210T183901Z
LAST-MODIFIED:20250210T183901Z
UID:10006571-1739952000-1739955600@www.floridanutritioned.org
SUMMARY:Healthy Choices for Every Body
DESCRIPTION:Healthy Choices for Every Body
URL:https://www.floridanutritioned.org/event/healthy-choices-for-every-body-4/
LOCATION:Nassau County COA\, 1901 Island Walkway suite 080\, Fernandina Beach\, FL\, 32034
CATEGORIES:Adults and Elders
END:VEVENT
BEGIN:VEVENT
DTSTART;TZID=America/New_York:20250219T083000
DTEND;TZID=America/New_York:20250219T093000
DTSTAMP:20260422T052932
CREATED:20250128T160040Z
LAST-MODIFIED:20250128T160040Z
UID:10006341-1739953800-1739957400@www.floridanutritioned.org
SUMMARY:Intro to MyPlate
DESCRIPTION:Learn about MyPlate and important things to incorporate into your meals. Compare the differences between MyPlate and the Healthy Eating Plate. Learn about portion sizes.
URL:https://www.floridanutritioned.org/event/intro-to-myplate-4/
LOCATION:The Clermont City Center\, 620 W Montrose Street\, Clermont\, FL\, 3471
END:VEVENT
BEGIN:VEVENT
DTSTART;TZID=America/New_York:20250219T090000
DTEND;TZID=America/New_York:20250219T093000
DTSTAMP:20260422T052932
CREATED:20250128T160049Z
LAST-MODIFIED:20250128T160049Z
UID:10006348-1739955600-1739957400@www.floridanutritioned.org
SUMMARY:MyPlate: MyPlate
DESCRIPTION:MyPlate: The MyPlate image is a plate that is divided into five sections\, with each section representing how much of each food group you should eat. In this class we will discuss the benefits of how healthy eating added up over time\, bite by bite can make small changes matter.
URL:https://www.floridanutritioned.org/event/myplate-myplate/
LOCATION:East Orange Head Start Center\, 12050 E Colonial Drive\, Orlando\, FL\, 32826
END:VEVENT
BEGIN:VEVENT
DTSTART;TZID=America/New_York:20250219T090000
DTEND;TZID=America/New_York:20250219T100000
DTSTAMP:20260422T052932
CREATED:20250128T160117Z
LAST-MODIFIED:20250128T160117Z
UID:10006364-1739955600-1739959200@www.floridanutritioned.org
SUMMARY:Leah's Pantry: Eating the Rainbow
DESCRIPTION:Come and learn all about the benefits of Veggies and Fruits. Learn about each color and how it can benefit our bodies.
URL:https://www.floridanutritioned.org/event/leahs-pantry-eating-the-rainbow-12/
LOCATION:Osceola Council of Aging- Poinciana\, 625 Country Club Drive\, Poinciana\, FL\, 34759
END:VEVENT
BEGIN:VEVENT
DTSTART;TZID=America/New_York:20250219T100000
DTEND;TZID=America/New_York:20250219T110000
DTSTAMP:20260422T052932
CREATED:20250128T160144Z
LAST-MODIFIED:20250128T160144Z
UID:10006389-1739959200-1739962800@www.floridanutritioned.org
SUMMARY:My Plate for Older Adults
DESCRIPTION:Nutrition for Older Adults: Why Eating Well Matters as You Age
URL:https://www.floridanutritioned.org/event/my-plate-for-older-adults-7/
LOCATION:Council on Aging – Port  Orange\, 4790 S Ridgewood Avenue\, Daytona Beach\, FL\, 32114
END:VEVENT
BEGIN:VEVENT
DTSTART;TZID=America/New_York:20250219T100000
DTEND;TZID=America/New_York:20250219T110000
DTSTAMP:20260422T052932
CREATED:20250130T191349Z
LAST-MODIFIED:20250130T191349Z
UID:10006414-1739959200-1739962800@www.floridanutritioned.org
SUMMARY:Food Smarts: Know Your Serving Sizes
DESCRIPTION:Participants will be learning about what a serving size is and how it can help you get an accurate picture of whether you are eating the right amount for your body.
URL:https://www.floridanutritioned.org/event/food-smarts-know-your-serving-sizes/
LOCATION:Goodwill Industries of SWFL- Bonita Springs\, 11601 Bonita Beach Rd SE\, Bonita Springs\, FL\, 33904
CATEGORIES:Adults and Elders
END:VEVENT
BEGIN:VEVENT
DTSTART;TZID=America/New_York:20250219T103000
DTEND;TZID=America/New_York:20250219T110000
DTSTAMP:20260422T052932
CREATED:20250128T172954Z
LAST-MODIFIED:20250206T150018Z
UID:10006322-1739961000-1739962800@www.floridanutritioned.org
SUMMARY:Food Smarts: Healthy Changes
DESCRIPTION:Strategize on ways to practice  healthier eating with individual case studies
URL:https://www.floridanutritioned.org/event/make-moving-fun-10-2/
LOCATION:Hope Connections Labelle\, 475 E Cowboy Way\, La Belle\, FL\, 33935
END:VEVENT
BEGIN:VEVENT
DTSTART;TZID=America/New_York:20250219T103000
DTEND;TZID=America/New_York:20250219T113000
DTSTAMP:20260422T052932
CREATED:20250128T160057Z
LAST-MODIFIED:20250128T160057Z
UID:10006354-1739961000-1739964600@www.floridanutritioned.org
SUMMARY:Building a Wholesome Diet
DESCRIPTION:We will discuss the types of foods that make up a healthy diet. We will discuss ideas for incorporating more whole grains in our diets. We will also discuss the differences between whole grains and refined grains. Finally\, we will talk about processed foods and the problems they can cause. A question and answer session will follow.
URL:https://www.floridanutritioned.org/event/building-a-wholesome-diet-30/
LOCATION:Central Florida Hope Center\, 1010 South Dillard Street\, Winter Garden\, FL\, 34787
END:VEVENT
BEGIN:VEVENT
DTSTART;TZID=America/New_York:20250219T103000
DTEND;TZID=America/New_York:20250219T113000
DTSTAMP:20260422T052932
CREATED:20250203T180447Z
LAST-MODIFIED:20250203T180447Z
UID:10006491-1739961000-1739964600@www.floridanutritioned.org
SUMMARY:Leahs Pantry Food Smarts for Kids
DESCRIPTION:Interactive\, trauma-informed nutrition lessons that include a food demo and focus on how to nourish your body\, moving your body in safe & enjoyable ways\, exploring where foods come from\, and health goal setting
URL:https://www.floridanutritioned.org/event/leahs-pantry-food-smarts-for-kids-2/
LOCATION:Bob Sierra YMCA\, 4015 Ragg Rd\, Tampa\, FL\, 33624
CATEGORIES:Children
END:VEVENT
BEGIN:VEVENT
DTSTART;TZID=America/New_York:20250219T110000
DTEND;TZID=America/New_York:20250219T113000
DTSTAMP:20260422T052932
CREATED:20250128T160020Z
LAST-MODIFIED:20250128T160020Z
UID:10006329-1739962800-1739964600@www.floridanutritioned.org
SUMMARY:Sleep Your Way to Health
DESCRIPTION:Sleep is important for both physical and mental health. A healthy sleep cycle can help to maintain a healthy weight\, increase your energy levels\, improve chronic conditions\, reduce stress\, and improve mood. Join us for a deep dive into the benefits of sle
URL:https://www.floridanutritioned.org/event/sleep-your-way-to-health-5/
LOCATION:Cocoa West Recreation Complex\, 230 S Burnett Road\, Cocoa\, FL\, 32926
END:VEVENT
BEGIN:VEVENT
DTSTART;TZID=America/New_York:20250219T110000
DTEND;TZID=America/New_York:20250219T120000
DTSTAMP:20260422T052932
CREATED:20250130T195408Z
LAST-MODIFIED:20250130T195408Z
UID:10006439-1739962800-1739966400@www.floridanutritioned.org
SUMMARY:Food Smarts for Adults
DESCRIPTION:
URL:https://www.floridanutritioned.org/event/food-smarts-for-adults-20/
LOCATION:North Andrews Gardens Community Center\, 250 NE 56 Ct\, Oakland Park\, FL\, 33334
CATEGORIES:Adults and Elders
END:VEVENT
BEGIN:VEVENT
DTSTART;TZID=America/New_York:20250219T110000
DTEND;TZID=America/New_York:20250219T120000
DTSTAMP:20260422T052932
CREATED:20250203T145120Z
LAST-MODIFIED:20250203T145120Z
UID:10006471-1739962800-1739966400@www.floridanutritioned.org
SUMMARY:Rethink your drink and sleep your way to health
DESCRIPTION:This class is taught with a trauma-inforced curriculum to empower adults\, 18 years and older\, to make holistic health choices.
URL:https://www.floridanutritioned.org/event/rethink-your-drink-and-sleep-your-way-to-health-2/
LOCATION:FL
CATEGORIES:Adults and Elders
END:VEVENT
BEGIN:VEVENT
DTSTART;TZID=America/New_York:20250219T110000
DTEND;TZID=America/New_York:20250219T120000
DTSTAMP:20260422T052932
CREATED:20250203T180343Z
LAST-MODIFIED:20250203T180343Z
UID:10006485-1739962800-1739966400@www.floridanutritioned.org
SUMMARY:Healthy for Life
DESCRIPTION:Interactive\, trauma-informed nutrition lessons that include a food demo and focus on how to nourish your body\, moving your body in safe & enjoyable ways\, exploring where foods come from\, and health goal setting
URL:https://www.floridanutritioned.org/event/healthy-for-life-99/
LOCATION:Sebring Revello Welllness and Medical Center\, 210 Sebring Square\, Sebring\, FL\, 33870
CATEGORIES:Adults
END:VEVENT
BEGIN:VEVENT
DTSTART;TZID=America/New_York:20250219T110000
DTEND;TZID=America/New_York:20250219T120000
DTSTAMP:20260422T052932
CREATED:20250203T180749Z
LAST-MODIFIED:20250203T180749Z
UID:10006508-1739962800-1739966400@www.floridanutritioned.org
SUMMARY:Leah's Pantry: Food Smarts (Adults)
DESCRIPTION:Interactive\, trauma-informed nutrition lessons that include a food demo and focus on how to nourish your body\, moving your body in safe & enjoyable ways\, exploring where foods come from\, and health goal setting
URL:https://www.floridanutritioned.org/event/leahs-pantry-food-smarts-adults-232/
LOCATION:Advent Health Well 65+\, 7866 Gall Boulevard\, Zephyrhills\, FL\, 33541
CATEGORIES:Elders
END:VEVENT
BEGIN:VEVENT
DTSTART;TZID=America/New_York:20250219T112000
DTEND;TZID=America/New_York:20250219T122000
DTSTAMP:20260422T052932
CREATED:20250128T160148Z
LAST-MODIFIED:20250128T160148Z
UID:10006390-1739964000-1739967600@www.floridanutritioned.org
SUMMARY:My Plate for Older Adults
DESCRIPTION:Nutrition for Older Adults: Why Eating Well Matters as You Age
URL:https://www.floridanutritioned.org/event/my-plate-for-older-adults-8/
LOCATION:Conviva Care Center – Port Orange\, 4770 S Ridgewood Avenue\, Port Orange\, FL\, 32763
END:VEVENT
BEGIN:VEVENT
DTSTART;TZID=America/New_York:20250219T113000
DTEND;TZID=America/New_York:20250219T123000
DTSTAMP:20260422T052932
CREATED:20250128T160106Z
LAST-MODIFIED:20250128T160106Z
UID:10006355-1739964600-1739968200@www.floridanutritioned.org
SUMMARY:Building a Wholesome Diet
DESCRIPTION:We will discuss the types of foods that make up a healthy diet. We will discuss ideas for incorporating more whole grains in our diets. We will also discuss the differences between whole grains and refined grains. Finally\, we will talk about processed foods and the problems they can cause. A question and answer session will follow.
URL:https://www.floridanutritioned.org/event/building-a-wholesome-diet-31/
LOCATION:Central Florida Hope Center\, 1010 South Dillard Street\, Winter Garden\, FL\, 34787
END:VEVENT
BEGIN:VEVENT
DTSTART;TZID=America/New_York:20250219T113000
DTEND;TZID=America/New_York:20250219T123000
DTSTAMP:20260422T052932
CREATED:20250203T180335Z
LAST-MODIFIED:20250203T180335Z
UID:10006478-1739964600-1739968200@www.floridanutritioned.org
SUMMARY:Healthy for Life
DESCRIPTION:Interactive\, trauma-informed nutrition lessons that include a food demo and focus on how to nourish your body\, moving your body in safe & enjoyable ways\, exploring where foods come from\, and health goal setting
URL:https://www.floridanutritioned.org/event/healthy-for-life-93/
LOCATION:Citrus YMCA\, 4127 W Norvell Bryant Hwy\, Lecanto\, FL\, 34461
CATEGORIES:Adults and Elders
END:VEVENT
END:VCALENDAR