BEGIN:VCALENDAR
VERSION:2.0
PRODID:-//Florida Nutrition Education - ECPv6.15.20//NONSGML v1.0//EN
CALSCALE:GREGORIAN
METHOD:PUBLISH
X-ORIGINAL-URL:https://www.floridanutritioned.org
X-WR-CALDESC:Events for Florida Nutrition Education
REFRESH-INTERVAL;VALUE=DURATION:PT1H
X-Robots-Tag:noindex
X-PUBLISHED-TTL:PT1H
BEGIN:VTIMEZONE
TZID:America/New_York
BEGIN:DAYLIGHT
TZOFFSETFROM:-0500
TZOFFSETTO:-0400
TZNAME:EDT
DTSTART:20240310T070000
END:DAYLIGHT
BEGIN:STANDARD
TZOFFSETFROM:-0400
TZOFFSETTO:-0500
TZNAME:EST
DTSTART:20241103T060000
END:STANDARD
BEGIN:DAYLIGHT
TZOFFSETFROM:-0500
TZOFFSETTO:-0400
TZNAME:EDT
DTSTART:20250309T070000
END:DAYLIGHT
BEGIN:STANDARD
TZOFFSETFROM:-0400
TZOFFSETTO:-0500
TZNAME:EST
DTSTART:20251102T060000
END:STANDARD
BEGIN:DAYLIGHT
TZOFFSETFROM:-0500
TZOFFSETTO:-0400
TZNAME:EDT
DTSTART:20260308T070000
END:DAYLIGHT
BEGIN:STANDARD
TZOFFSETFROM:-0400
TZOFFSETTO:-0500
TZNAME:EST
DTSTART:20261101T060000
END:STANDARD
END:VTIMEZONE
BEGIN:VEVENT
DTSTART;TZID=America/New_York:20250513T070000
DTEND;TZID=America/New_York:20250513T080000
DTSTAMP:20260421T061101
CREATED:20250501T192012Z
LAST-MODIFIED:20250501T192012Z
UID:10007028-1747119600-1747123200@www.floridanutritioned.org
SUMMARY:Know What You're Eating
DESCRIPTION:This class is taught with a trauma-inforced curriculum to empower adults\, 18 years and older\, to make holistic health choices
URL:https://www.floridanutritioned.org/event/know-what-youre-eating-11/
LOCATION:Blountstown Community Church Mobile FM Transmitter\, 16345 SE CR 69\, Blountstown\, FL\, 32424
CATEGORIES:Adults and Elders
END:VEVENT
BEGIN:VEVENT
DTSTART;TZID=America/New_York:20250513T090000
DTEND;TZID=America/New_York:20250513T100000
DTSTAMP:20260421T061101
CREATED:20250428T132635Z
LAST-MODIFIED:20250428T132635Z
UID:10006961-1747126800-1747130400@www.floridanutritioned.org
SUMMARY:Gut Health
DESCRIPTION:Learn what gut health means. Learn about why having a healthy gut is so important and way we can improve our gut health.
URL:https://www.floridanutritioned.org/event/gut-health-13/
LOCATION:Impact Paisley\, 25330 County Road 42\, Paisley\, FL\, 32767
CATEGORIES:Adults and Elders
END:VEVENT
BEGIN:VEVENT
DTSTART;TZID=America/New_York:20250513T090000
DTEND;TZID=America/New_York:20250513T100000
DTSTAMP:20260421T061101
CREATED:20250501T192012Z
LAST-MODIFIED:20250501T192012Z
UID:10007029-1747126800-1747130400@www.floridanutritioned.org
SUMMARY:Know What You're Eating
DESCRIPTION:This class is taught with a trauma-inforced curriculum to empower adults\, 18 years and older\, to make holistic health choices
URL:https://www.floridanutritioned.org/event/know-what-youre-eating-12/
LOCATION:Innovative Charities Liberty Mobile FM Transmitter\, 12390 County Route 379 B\, Bristol\, FL\, 32321
CATEGORIES:Adults and Elders
END:VEVENT
BEGIN:VEVENT
DTSTART;TZID=America/New_York:20250513T100000
DTEND;TZID=America/New_York:20250513T104500
DTSTAMP:20260421T061101
CREATED:20250428T133206Z
LAST-MODIFIED:20250428T133206Z
UID:10006987-1747130400-1747133100@www.floridanutritioned.org
SUMMARY:Get to Know Your Food Groups
DESCRIPTION:In this class\, participants will learn about every food group in the MyPlate model\, starting with the best sources\, recommended serving sizes\, and how to prepare meals that incorporate them
URL:https://www.floridanutritioned.org/event/get-to-know-your-food-groups/
LOCATION:Hope Helps\, 812 Eyrie Drive\, Oviedo\, FL\, 32765
CATEGORIES:Adults
END:VEVENT
BEGIN:VEVENT
DTSTART;TZID=America/New_York:20250513T103000
DTEND;TZID=America/New_York:20250513T113000
DTSTAMP:20260421T061101
CREATED:20250502T122137Z
LAST-MODIFIED:20250502T122137Z
UID:10007049-1747132200-1747135800@www.floridanutritioned.org
SUMMARY:Leah's Pantry\, Food Smarts for Adults: Building a Wholesome Diet
DESCRIPTION:
URL:https://www.floridanutritioned.org/event/leahs-pantry-food-smarts-for-adults-building-a-wholesome-diet-15/
LOCATION:The Well\, 5110 North 40th Street\, Tampa\, FL\, 33610\, United States
CATEGORIES:Adults and Elders
END:VEVENT
BEGIN:VEVENT
DTSTART;TZID=America/New_York:20250513T103000
DTEND;TZID=America/New_York:20250513T113000
DTSTAMP:20260421T061101
CREATED:20250502T122202Z
LAST-MODIFIED:20250502T122202Z
UID:10007070-1747132200-1747135800@www.floridanutritioned.org
SUMMARY:Leah's Pantry\, Food Smarts for Adults: Smart Strategies for Shopping and Planning
DESCRIPTION:
URL:https://www.floridanutritioned.org/event/leahs-pantry-food-smarts-for-adults-smart-strategies-for-shopping-and-planning-2/
LOCATION:Creekside Manor I\, 1318 Franklin St\, Clearwater\, FL\, 33756
END:VEVENT
BEGIN:VEVENT
DTSTART;TZID=America/New_York:20250513T110000
DTEND;TZID=America/New_York:20250513T120000
DTSTAMP:20260421T061101
CREATED:20250428T133003Z
LAST-MODIFIED:20250428T133003Z
UID:10006975-1747134000-1747137600@www.floridanutritioned.org
SUMMARY:Sodium and Healthy Blood Pressure
DESCRIPTION:Come learn all about salt and its benefits (and non-benefits) for our health. Learn cooking tricks to help reduce the use of salt in your meals.
URL:https://www.floridanutritioned.org/event/sodium-and-healthy-blood-pressure-3/
LOCATION:St. Cloud Library\, 810 13th St\, St. Cloud\, FL\, 34769
CATEGORIES:Adults and Elders
END:VEVENT
BEGIN:VEVENT
DTSTART;TZID=America/New_York:20250513T110000
DTEND;TZID=America/New_York:20250513T120000
DTSTAMP:20260421T061101
CREATED:20250428T133104Z
LAST-MODIFIED:20250428T133104Z
UID:10006981-1747134000-1747137600@www.floridanutritioned.org
SUMMARY:Smart Strategies for Shopping and Planning
DESCRIPTION:We will review some fundamentals about the types of food that make up a healthy diet. We will discuss the cons of processed foods and go over the sugar amounts in various common drinks such as juices and sodas. Finally\, we will discuss the differences between whole and refined grains. A question and answers session will follow.
URL:https://www.floridanutritioned.org/event/smart-strategies-for-shopping-and-planning-4/
LOCATION:Oakleaf Landings\, 2350 North Central Avenue\, Kissimmee\, FL\, 34741
CATEGORIES:Adults and Elders
END:VEVENT
BEGIN:VEVENT
DTSTART;TZID=America/New_York:20250513T110000
DTEND;TZID=America/New_York:20250513T120000
DTSTAMP:20260421T061101
CREATED:20250506T155232Z
LAST-MODIFIED:20250506T155232Z
UID:10007103-1747134000-1747137600@www.floridanutritioned.org
SUMMARY:Cooking Matters
DESCRIPTION:
URL:https://www.floridanutritioned.org/event/cooking-matters-87/
LOCATION:FSF Warehouse Program\, 2501 SW 32 Ter\, Pembroke Park\, FL\, 33023
CATEGORIES:Adults
END:VEVENT
BEGIN:VEVENT
DTSTART;TZID=America/New_York:20250513T110000
DTEND;TZID=America/New_York:20250513T130000
DTSTAMP:20260421T061101
CREATED:20250428T132632Z
LAST-MODIFIED:20250428T132632Z
UID:10006957-1747134000-1747141200@www.floridanutritioned.org
SUMMARY:Know Your Fats
DESCRIPTION:Low fat diets are some of the most popular ones for a lot of reasons. But are fats really the enemy in the battle for good health? Join us as we discuss beneficial fats vs unhealthy ones and learn to tell which foods have the better fats.
URL:https://www.floridanutritioned.org/event/know-your-fats-2/
LOCATION:Catherine Schweinsberg Rood Central Library\, 308 Forrest Avenue\, Cocoa\, FL\, 32922
CATEGORIES:Adults and Children
END:VEVENT
BEGIN:VEVENT
DTSTART;TZID=America/New_York:20250513T120000
DTEND;TZID=America/New_York:20250513T130000
DTSTAMP:20260421T061101
CREATED:20250428T133105Z
LAST-MODIFIED:20250428T133105Z
UID:10006982-1747137600-1747141200@www.floridanutritioned.org
SUMMARY:Smart Strategies for Shopping and Planning
DESCRIPTION:We will review some fundamentals about the types of food that make up a healthy diet. We will discuss the cons of processed foods and go over the sugar amounts in various common drinks such as juices and sodas. Finally\, we will discuss the differences between whole and refined grains. A question and answers session will follow.
URL:https://www.floridanutritioned.org/event/smart-strategies-for-shopping-and-planning-5/
LOCATION:Oakleaf Landings\, 2350 North Central Avenue\, Kissimmee\, FL\, 34741
CATEGORIES:Adults and Elders
END:VEVENT
BEGIN:VEVENT
DTSTART;TZID=America/New_York:20250513T120000
DTEND;TZID=America/New_York:20250513T130000
DTSTAMP:20260421T061101
CREATED:20250428T163412Z
LAST-MODIFIED:20250507T140120Z
UID:10006993-1747137600-1747141200@www.floridanutritioned.org
SUMMARY:Food Smarts: Decoding Expiration Dates
DESCRIPTION:Participants will learn about the different terms for food safety and the quality of food products. Different expiration dates for different food products will also be examined.
URL:https://www.floridanutritioned.org/event/10-tips-for-adults-vary-your-dairy-routine/
LOCATION:Bonita Senior Center\, 25999 Old 41 Road\, Bonita Springs\, FL\, 34135
CATEGORIES:Elders
END:VEVENT
BEGIN:VEVENT
DTSTART;TZID=America/New_York:20250513T120000
DTEND;TZID=America/New_York:20250513T130000
DTSTAMP:20260421T061101
CREATED:20250501T192934Z
LAST-MODIFIED:20250501T192934Z
UID:10007041-1747137600-1747141200@www.floridanutritioned.org
SUMMARY:Grains For Every Body
DESCRIPTION:Participants will learn about the health benefits of including more whole grains than refined grains when balancing their MyPlate food groups
URL:https://www.floridanutritioned.org/event/grains-for-every-body/
LOCATION:Log Cabin Senior Center\, 2369 NE Dixie Hwy\, Jensen Beach\, FL\, 34957
CATEGORIES:Adults and Elders
END:VEVENT
BEGIN:VEVENT
DTSTART;TZID=America/New_York:20250513T120000
DTEND;TZID=America/New_York:20250513T130000
DTSTAMP:20260421T061101
CREATED:20250502T122202Z
LAST-MODIFIED:20250502T122202Z
UID:10007071-1747137600-1747141200@www.floridanutritioned.org
SUMMARY:Leah's Pantry\, Food Smarts for Adults: Smart Strategies for Shopping and Planning
DESCRIPTION:
URL:https://www.floridanutritioned.org/event/leahs-pantry-food-smarts-for-adults-smart-strategies-for-shopping-and-planning-3/
LOCATION:Creekside Manor II\, 1335 Pierce St\, Clearwater\, FL\, 33756
END:VEVENT
BEGIN:VEVENT
DTSTART;TZID=America/New_York:20250513T120000
DTEND;TZID=America/New_York:20250513T130000
DTSTAMP:20260421T061101
CREATED:20250502T122221Z
LAST-MODIFIED:20250502T122221Z
UID:10007078-1747137600-1747141200@www.floridanutritioned.org
SUMMARY:Leah's Pantry\, Food Smarts for Adults: Building a Wholesome Diet
DESCRIPTION:Food Pantry
URL:https://www.floridanutritioned.org/event/leahs-pantry-food-smarts-for-adults-building-a-wholesome-diet-20/
LOCATION:First Presbyterian of Auburndale\, 410 Pilaklakaha Ave.\, Auburndale\, FL\, 33823
END:VEVENT
BEGIN:VEVENT
DTSTART;TZID=America/New_York:20250513T120000
DTEND;TZID=America/New_York:20250513T133000
DTSTAMP:20260421T061101
CREATED:20250506T160250Z
LAST-MODIFIED:20250506T160250Z
UID:10007118-1747137600-1747143000@www.floridanutritioned.org
SUMMARY:Food Smarts
DESCRIPTION:Participants will learn how to cook for 1 and how to utilize small appliances.
URL:https://www.floridanutritioned.org/event/food-smarts-144/
LOCATION:North Sarasota Library\, 2801 Newtown Blvd.\, Sarasota\, FL\, 34234
CATEGORIES:Adults
END:VEVENT
BEGIN:VEVENT
DTSTART;TZID=America/New_York:20250513T140000
DTEND;TZID=America/New_York:20250513T150000
DTSTAMP:20260421T061101
CREATED:20250506T155441Z
LAST-MODIFIED:20250506T155441Z
UID:10007113-1747144800-1747148400@www.floridanutritioned.org
SUMMARY:Leah's Pantry-Plant Focus Diet
DESCRIPTION:
URL:https://www.floridanutritioned.org/event/leahs-pantry-plant-focus-diet-2/
LOCATION:Las Palmas II\, 2501 NW 7 St\, Miami\, FL\, 33125
CATEGORIES:Adults
END:VEVENT
BEGIN:VEVENT
DTSTART;TZID=America/New_York:20250513T153000
DTEND;TZID=America/New_York:20250513T163000
DTSTAMP:20260421T061101
CREATED:20250501T192009Z
LAST-MODIFIED:20250501T192009Z
UID:10007027-1747150200-1747153800@www.floridanutritioned.org
SUMMARY:Eating Better on a budget and unit pricing
DESCRIPTION:10 tips to help you eat more fruits and 10 tips to help you eat more vegetables.
URL:https://www.floridanutritioned.org/event/eating-better-on-a-budget-and-unit-pricing/
LOCATION:Kinard Library\, 25416 FL-73\, Kinard\, FL\, 32449
CATEGORIES:Adults and Elders
END:VEVENT
BEGIN:VEVENT
DTSTART;TZID=America/New_York:20250514T093000
DTEND;TZID=America/New_York:20250514T103000
DTSTAMP:20260421T061101
CREATED:20250428T132636Z
LAST-MODIFIED:20250428T132636Z
UID:10006962-1747215000-1747218600@www.floridanutritioned.org
SUMMARY:Understanding Food Labels
DESCRIPTION:Learn how to decode food labels\, understand ingredients and nutrition facts\, and learn what to look out for on a food label.
URL:https://www.floridanutritioned.org/event/understanding-food-labels-7/
LOCATION:Southside Umatilla Community Center\, 17107 Ball Park Road\, Umatilla\, FL\, 32784
CATEGORIES:Adults and Elders
END:VEVENT
BEGIN:VEVENT
DTSTART;TZID=America/New_York:20250514T100000
DTEND;TZID=America/New_York:20250514T110000
DTSTAMP:20260421T061101
CREATED:20250501T192013Z
LAST-MODIFIED:20250501T192013Z
UID:10007030-1747216800-1747220400@www.floridanutritioned.org
SUMMARY:Food Processing and Plant Focused Diet
DESCRIPTION:This class is taught with a trauma-inforced curriculum to empower adults\, 18 years and older\, to make holistic health choices
URL:https://www.floridanutritioned.org/event/food-processing-and-plant-focused-diet-2/
LOCATION:Calhoun Senior Center\, 16859 Cayson Street\, Blountstown\, FL\, 32424
CATEGORIES:Adults and Elders
END:VEVENT
BEGIN:VEVENT
DTSTART;TZID=America/New_York:20250514T103000
DTEND;TZID=America/New_York:20250514T110000
DTSTAMP:20260421T061101
CREATED:20250428T132632Z
LAST-MODIFIED:20250428T132632Z
UID:10006958-1747218600-1747220400@www.floridanutritioned.org
SUMMARY:Eating Better on a Budget
DESCRIPTION:Get the most for your budget! There are many ways to save money on the foods that you eat. The three main steps are planning before you shop\, purchasing the items at the best price\, and preparing meals that stretch your food dollars. Join us to discuss more tips and tricks!
URL:https://www.floridanutritioned.org/event/eating-better-on-a-budget-7/
LOCATION:Crane Creek Senior Apartments\, 2309 S Babcock Street\, Melbourne\, FL\, 32901
CATEGORIES:Elders
END:VEVENT
BEGIN:VEVENT
DTSTART;TZID=America/New_York:20250514T110000
DTEND;TZID=America/New_York:20250514T120000
DTSTAMP:20260421T061101
CREATED:20250430T145342Z
LAST-MODIFIED:20250430T145342Z
UID:10007007-1747220400-1747224000@www.floridanutritioned.org
SUMMARY:Healthy Choices for Everybody
DESCRIPTION:
URL:https://www.floridanutritioned.org/event/healthy-choices-for-everybody-3/
LOCATION:Senior Activity Center – Pompano Beach\, 2005 NW 9 St\, Pompano Beach\, FL\, 33069
CATEGORIES:Adults and Elders
END:VEVENT
BEGIN:VEVENT
DTSTART;TZID=America/New_York:20250514T110000
DTEND;TZID=America/New_York:20250514T120000
DTSTAMP:20260421T061101
CREATED:20250502T122145Z
LAST-MODIFIED:20250502T122145Z
UID:10007059-1747220400-1747224000@www.floridanutritioned.org
SUMMARY:10 Tips for Adults: Part 2 (Eating Better on a Budget)
DESCRIPTION:
URL:https://www.floridanutritioned.org/event/10-tips-for-adults-part-2-eating-better-on-a-budget-3/
LOCATION:Advent Health Well 65+\, 7866 Gall Boulevard\, Zephyrhills\, FL\, 33541
END:VEVENT
BEGIN:VEVENT
DTSTART;TZID=America/New_York:20250514T120000
DTEND;TZID=America/New_York:20250514T133000
DTSTAMP:20260421T061101
CREATED:20250506T160251Z
LAST-MODIFIED:20250506T160251Z
UID:10007119-1747224000-1747229400@www.floridanutritioned.org
SUMMARY:Waste Reduction
DESCRIPTION:Participants will learn how to stretch their produce to prevent food waste.
URL:https://www.floridanutritioned.org/event/waste-reduction/
LOCATION:DeSoto Department of Health\, 34 S Baldwin Ave.\, Arcadia\, FL\, 34266
CATEGORIES:Adults
END:VEVENT
BEGIN:VEVENT
DTSTART;TZID=America/New_York:20250514T130000
DTEND;TZID=America/New_York:20250514T140000
DTSTAMP:20260421T061101
CREATED:20250428T132636Z
LAST-MODIFIED:20250428T132636Z
UID:10006963-1747227600-1747231200@www.floridanutritioned.org
SUMMARY:Understanding Food Labels
DESCRIPTION:Learn how to decode food labels\, understand ingredients and nutrition facts\, and learn what to look out for on a food label.
URL:https://www.floridanutritioned.org/event/understanding-food-labels-8/
LOCATION:Advent Health Well 65+ – Eustis\, 2906 David Walker Drive\, Eustis\, FL\, 32778
CATEGORIES:Elders
END:VEVENT
BEGIN:VEVENT
DTSTART;TZID=America/New_York:20250514T153000
DTEND;TZID=America/New_York:20250514T163000
DTSTAMP:20260421T061101
CREATED:20250506T155233Z
LAST-MODIFIED:20250506T155233Z
UID:10007104-1747236600-1747240200@www.floridanutritioned.org
SUMMARY:Healthy for Life
DESCRIPTION:
URL:https://www.floridanutritioned.org/event/healthy-for-life-128/
LOCATION:Little River Public Library\, 160 NE 79 St\, Miami\, FL\, 33138
CATEGORIES:Adults
END:VEVENT
BEGIN:VEVENT
DTSTART;TZID=America/New_York:20250515T100000
DTEND;TZID=America/New_York:20250515T110000
DTSTAMP:20260421T061101
CREATED:20250428T132735Z
LAST-MODIFIED:20250428T132735Z
UID:10006964-1747303200-1747306800@www.floridanutritioned.org
SUMMARY:Understanding Food Labels
DESCRIPTION:Learn how to decode food labels\, understand ingredients and nutrition facts\, and learn what to look out for on a food label.
URL:https://www.floridanutritioned.org/event/understanding-food-labels-9/
LOCATION:First Baptist Church of Paisley\, 25145 Fishermans Road\, Paisley\, FL\, 32767
CATEGORIES:Adults and Elders
END:VEVENT
BEGIN:VEVENT
DTSTART;TZID=America/New_York:20250515T100000
DTEND;TZID=America/New_York:20250515T110000
DTSTAMP:20260421T061101
CREATED:20250428T163415Z
LAST-MODIFIED:20250428T163415Z
UID:10006997-1747303200-1747306800@www.floridanutritioned.org
SUMMARY:Food Smarts: Decoding Expiration Dates
DESCRIPTION:Participants will learn about the different colored fruits and vegetables and the different nutrients each color has.
URL:https://www.floridanutritioned.org/event/food-smarts-decoding-expiration-dates-4/
LOCATION:Virginia B Andes Wellness Clinic\, 21297 Olean Blvd B\, Port Charlotte\, FL\, 33952
CATEGORIES:Adults and Elders
END:VEVENT
BEGIN:VEVENT
DTSTART;TZID=America/New_York:20250515T100000
DTEND;TZID=America/New_York:20250515T110000
DTSTAMP:20260421T061101
CREATED:20250501T151518Z
LAST-MODIFIED:20250501T151518Z
UID:10007018-1747303200-1747306800@www.floridanutritioned.org
SUMMARY:Food Smarts
DESCRIPTION:Feeding the Gulf Coast is helping our community learn about nutrition. This program is all about making learning fun and respectful. We believe that when learning is enjoyable and sensitive to people’s feelings and experiences\, it can help us make better choices about what we eat. Let’s learn together!
URL:https://www.floridanutritioned.org/event/food-smarts-139/
LOCATION:Holmes COA\, 701 E Pennsylvania Avenue\, Bonifay\, FL\, 32425
CATEGORIES:Adults and Elders
END:VEVENT
BEGIN:VEVENT
DTSTART;TZID=America/New_York:20250515T103000
DTEND;TZID=America/New_York:20250515T110000
DTSTAMP:20260421T061101
CREATED:20250428T132635Z
LAST-MODIFIED:20250428T132635Z
UID:10006959-1747305000-1747306800@www.floridanutritioned.org
SUMMARY:Eating Better on a Budget
DESCRIPTION:Get the most for your budget! There are many ways to save money on the foods that you eat. The three main steps are planning before you shop\, purchasing the items at the best price\, and preparing meals that stretch your food dollars. Join us to discuss more tips and tricks!
URL:https://www.floridanutritioned.org/event/eating-better-on-a-budget-8/
LOCATION:Palm Bay Captain’s House\, 1300 Bianca Drive\, Palm Bay\, FL\, 32905
CATEGORIES:Elders
END:VEVENT
END:VCALENDAR