BEGIN:VCALENDAR
VERSION:2.0
PRODID:-//Florida Nutrition Education - ECPv6.15.20//NONSGML v1.0//EN
CALSCALE:GREGORIAN
METHOD:PUBLISH
X-WR-CALNAME:Florida Nutrition Education
X-ORIGINAL-URL:https://www.floridanutritioned.org
X-WR-CALDESC:Events for Florida Nutrition Education
REFRESH-INTERVAL;VALUE=DURATION:PT1H
X-Robots-Tag:noindex
X-PUBLISHED-TTL:PT1H
BEGIN:VTIMEZONE
TZID:America/New_York
BEGIN:DAYLIGHT
TZOFFSETFROM:-0500
TZOFFSETTO:-0400
TZNAME:EDT
DTSTART:20230312T070000
END:DAYLIGHT
BEGIN:STANDARD
TZOFFSETFROM:-0400
TZOFFSETTO:-0500
TZNAME:EST
DTSTART:20231105T060000
END:STANDARD
BEGIN:DAYLIGHT
TZOFFSETFROM:-0500
TZOFFSETTO:-0400
TZNAME:EDT
DTSTART:20240310T070000
END:DAYLIGHT
BEGIN:STANDARD
TZOFFSETFROM:-0400
TZOFFSETTO:-0500
TZNAME:EST
DTSTART:20241103T060000
END:STANDARD
BEGIN:DAYLIGHT
TZOFFSETFROM:-0500
TZOFFSETTO:-0400
TZNAME:EDT
DTSTART:20250309T070000
END:DAYLIGHT
BEGIN:STANDARD
TZOFFSETFROM:-0400
TZOFFSETTO:-0500
TZNAME:EST
DTSTART:20251102T060000
END:STANDARD
END:VTIMEZONE
BEGIN:VEVENT
DTSTART;TZID=America/New_York:20241113T130000
DTEND;TZID=America/New_York:20241113T140000
DTSTAMP:20260422T093429
CREATED:20241105T144809Z
LAST-MODIFIED:20241105T144809Z
UID:10005919-1731502800-1731506400@www.floridanutritioned.org
SUMMARY:Eat Smart\, Live Strong - Session 2
DESCRIPTION:To teach participants about how to make smart food choices and exercise more.
URL:https://www.floridanutritioned.org/event/eat-smart-live-strong-session-2-27/
LOCATION:Good News Missionary Baptist Church (Florida Blue Center)\, 510 N 9th St.\, Fort Pierce\, FL\, 34950
CATEGORIES:Adults and Elders
END:VEVENT
BEGIN:VEVENT
DTSTART;TZID=America/New_York:20241113T130000
DTEND;TZID=America/New_York:20241113T140000
DTSTAMP:20260422T093429
CREATED:20241104T020326Z
LAST-MODIFIED:20241104T020326Z
UID:10005868-1731502800-1731506400@www.floridanutritioned.org
SUMMARY:Leah's Pantry - Eating Healthy During the Holidays
DESCRIPTION:Using MyPlate tools\, we will look at how we can make our plates healthier during the holiday season while still enjoying our food. We’ll look at serving sizes\, side dish substitutions\, drink substitutions\, and healthier desserts.
URL:https://www.floridanutritioned.org/event/leahs-pantry-eating-healthy-during-the-holidays/
LOCATION:Advent Health 65+ – Eustis\, 2906 David Walker Drive\, Eustis\, FL\, 32778
CATEGORIES:Elders
END:VEVENT
BEGIN:VEVENT
DTSTART;TZID=America/New_York:20241113T120000
DTEND;TZID=America/New_York:20241113T130000
DTSTAMP:20260422T093429
CREATED:20241104T021033Z
LAST-MODIFIED:20241104T021033Z
UID:10005889-1731499200-1731502800@www.floridanutritioned.org
SUMMARY:Leah's Pantry: Salt & Healthy Blood Pressure
DESCRIPTION:Is salt bad or good for our bodies? How much salt do we need in our diet? How can we replace salt in our food choices or cooking methods? Come and learn how to help manage sodium in your diet .
URL:https://www.floridanutritioned.org/event/leahs-pantry-salt-healthy-blood-pressure/
LOCATION:Poinciana Library\, 101 N Doverplum Avenue\, Kissimmee\, FL\, 34758
CATEGORIES:Adults and Elders
END:VEVENT
BEGIN:VEVENT
DTSTART;TZID=America/New_York:20241113T120000
DTEND;TZID=America/New_York:20241113T130000
DTSTAMP:20260422T093429
CREATED:20241101T011159Z
LAST-MODIFIED:20241101T011159Z
UID:10005812-1731499200-1731502800@www.floridanutritioned.org
SUMMARY:Leah's Pantry Waste Reduction
DESCRIPTION:Food Safety
URL:https://www.floridanutritioned.org/event/leahs-pantry-waste-reduction-7/
LOCATION:DeSoto Department of Health\, 34 S Baldwin Ave.\, Arcadia\, FL\, 34266
CATEGORIES:Adults
END:VEVENT
BEGIN:VEVENT
DTSTART;TZID=America/New_York:20241113T120000
DTEND;TZID=America/New_York:20241113T130000
DTSTAMP:20260422T093429
CREATED:20241101T005659Z
LAST-MODIFIED:20241101T005659Z
UID:10005780-1731499200-1731502800@www.floridanutritioned.org
SUMMARY:Food Safety
DESCRIPTION:
URL:https://www.floridanutritioned.org/event/food-safety-9/
LOCATION:FL
CATEGORIES:Elders
END:VEVENT
BEGIN:VEVENT
DTSTART;TZID=America/New_York:20241113T120000
DTEND;TZID=America/New_York:20241113T130000
DTSTAMP:20260422T093429
CREATED:20241023T173518Z
LAST-MODIFIED:20241023T173518Z
UID:10005703-1731499200-1731502800@www.floridanutritioned.org
SUMMARY:Leah's Pantry: Food Smarts (Youth)
DESCRIPTION:Interactive\, trauma-informed nutrition lessons that include a food demo and focus on how to nourish your body\, moving your body in safe & enjoyable ways\, exploring where foods come from\, and health goal setting
URL:https://www.floridanutritioned.org/event/leahs-pantry-food-smarts-youth-171/
LOCATION:Kings High School\, 6815 N 56th St\, Tampa\, FL\, 33610
END:VEVENT
BEGIN:VEVENT
DTSTART;TZID=America/New_York:20241113T120000
DTEND;TZID=America/New_York:20241113T120000
DTSTAMP:20260422T093429
CREATED:20241101T005700Z
LAST-MODIFIED:20241101T005700Z
UID:10005781-1731499200-1731499200@www.floridanutritioned.org
SUMMARY:Shifting to Healthier Choices
DESCRIPTION:
URL:https://www.floridanutritioned.org/event/shifting-to-healthier-choices-6/
LOCATION:FL
CATEGORIES:Adults
END:VEVENT
BEGIN:VEVENT
DTSTART;TZID=America/New_York:20241113T113000
DTEND;TZID=America/New_York:20241113T123000
DTSTAMP:20260422T093429
CREATED:20241104T020627Z
LAST-MODIFIED:20241104T020627Z
UID:10005878-1731497400-1731501000@www.floridanutritioned.org
SUMMARY:Leah's Pantry: Understanding Labels and Ingredients.
DESCRIPTION:The participants will learn how to identify where serving sixe\, calories\, sodium\, carbohydrates and fat among others are located on the nutrtion label. Explain “healthy words” that  we should look for in the ingredient lists. Give examples of healthy alternatives and recipes. Questions and answer session will be thru out the class.
URL:https://www.floridanutritioned.org/event/leahs-pantry-understanding-labels-and-ingredients-47/
LOCATION:Central Florida Hope Center\, 1010 South Dillard Street\, Winter Garden\, FL\, 34787
CATEGORIES:Adults and Elders
END:VEVENT
BEGIN:VEVENT
DTSTART;TZID=America/New_York:20241113T113000
DTEND;TZID=America/New_York:20241113T123000
DTSTAMP:20260422T093429
CREATED:20241030T124511Z
LAST-MODIFIED:20241030T124511Z
UID:10005757-1731497400-1731501000@www.floridanutritioned.org
SUMMARY:Food Smarts: Waste Reduction
DESCRIPTION:Identify personal and global/environmental reasons to reduce household food waste.
URL:https://www.floridanutritioned.org/event/food-smarts-waste-reduction/
LOCATION:Villa San Carlos\, 2550 Easy St\, Port Charlotte\, FL\, 33952
CATEGORIES:Elders
END:VEVENT
BEGIN:VEVENT
DTSTART;TZID=America/New_York:20241113T113000
DTEND;TZID=America/New_York:20241113T123000
DTSTAMP:20260422T093429
CREATED:20241023T173548Z
LAST-MODIFIED:20241023T173548Z
UID:10005728-1731497400-1731501000@www.floridanutritioned.org
SUMMARY:Healthy for Life
DESCRIPTION:Designed to change relationships with food and nutrition by inspiring individuals and families to make healthy food choices part of their everyday lives
URL:https://www.floridanutritioned.org/event/healthy-for-life-71/
LOCATION:Citrus YMCA\, 4127 W Norvell Bryant Hwy\, Lecanto\, FL\, 34461
END:VEVENT
BEGIN:VEVENT
DTSTART;TZID=America/New_York:20241113T110000
DTEND;TZID=America/New_York:20241113T120000
DTSTAMP:20260422T093429
CREATED:20241101T005659Z
LAST-MODIFIED:20241101T005659Z
UID:10005779-1731495600-1731499200@www.floridanutritioned.org
SUMMARY:Reading Food Labels
DESCRIPTION:
URL:https://www.floridanutritioned.org/event/reading-food-labels-2/
LOCATION:FL
CATEGORIES:Adults and Elders
END:VEVENT
BEGIN:VEVENT
DTSTART;TZID=America/New_York:20241113T110000
DTEND;TZID=America/New_York:20241113T120000
DTSTAMP:20260422T093429
CREATED:20241030T124510Z
LAST-MODIFIED:20241030T124510Z
UID:10005756-1731495600-1731499200@www.floridanutritioned.org
SUMMARY:Food Smarts: Sleep Your Way to Health
DESCRIPTION:Participants learn the benefits of getting adequate sleep.
URL:https://www.floridanutritioned.org/event/food-smarts-sleep-your-way-to-health-2/
LOCATION:Heron Pond\, 1232 Village Lakes Blvd\, Lehigh Acres\, FL\, 33972
CATEGORIES:Elders
END:VEVENT
BEGIN:VEVENT
DTSTART;TZID=America/New_York:20241113T110000
DTEND;TZID=America/New_York:20241113T120000
DTSTAMP:20260422T093429
CREATED:20241023T173517Z
LAST-MODIFIED:20241023T173517Z
UID:10005702-1731495600-1731499200@www.floridanutritioned.org
SUMMARY:Leah's Pantry: Food Smarts (Adults)
DESCRIPTION:Interactive\, trauma-informed nutrition lessons that include a food demo and focus on moving your body\, adding more nutrients to your daily eating\, setting realistic health goals\, and meal prepping/grocery shopping on a budget
URL:https://www.floridanutritioned.org/event/leahs-pantry-food-smarts-adults-204/
LOCATION:Jackson Springs Community Center\, 8620 Jackson Springs Rd\, Tampa\, FL\, 33615
END:VEVENT
BEGIN:VEVENT
DTSTART;TZID=America/New_York:20241113T110000
DTEND;TZID=America/New_York:20241113T120000
DTSTAMP:20260422T093429
CREATED:20241023T173508Z
LAST-MODIFIED:20241023T173508Z
UID:10005690-1731495600-1731499200@www.floridanutritioned.org
SUMMARY:Healthy for Life
DESCRIPTION:Designed to change relationships with food and nutrition by inspiring individuals and families to make healthy food choices part of their everyday lives
URL:https://www.floridanutritioned.org/event/healthy-for-life-66/
LOCATION:Sebring Revello Wellness\, 210 Sebring Square\, Sebring\, FL
END:VEVENT
BEGIN:VEVENT
DTSTART;TZID=America/New_York:20241113T103000
DTEND;TZID=America/New_York:20241113T113000
DTSTAMP:20260422T093429
CREATED:20241104T020627Z
LAST-MODIFIED:20241104T020627Z
UID:10005877-1731493800-1731497400@www.floridanutritioned.org
SUMMARY:Leah's Pantry: Understanding Labels and Ingredients.
DESCRIPTION:The participants will learn how to identify where serving sixe\, calories\, sodium\, carbohydrates and fat among others are located on the nutrtion label. Explain “healthy words” that  we should look for in the ingredient lists. Give examples of healthy alternatives and recipes. Questions and answer session will be thru out the class.
URL:https://www.floridanutritioned.org/event/leahs-pantry-understanding-labels-and-ingredients-46/
LOCATION:Central Florida Hope Center\, 1010 South Dillard Street\, Winter Garden\, FL\, 34787
CATEGORIES:Adults and Elders
END:VEVENT
BEGIN:VEVENT
DTSTART;TZID=America/New_York:20241113T103000
DTEND;TZID=America/New_York:20241113T103000
DTSTAMP:20260422T093429
CREATED:20241101T005659Z
LAST-MODIFIED:20241101T005659Z
UID:10005778-1731493800-1731493800@www.floridanutritioned.org
SUMMARY:Building a Wholesome Diet
DESCRIPTION:
URL:https://www.floridanutritioned.org/event/building-a-wholesome-diet-29/
LOCATION:FL
CATEGORIES:Elders
END:VEVENT
BEGIN:VEVENT
DTSTART;TZID=America/New_York:20241113T100000
DTEND;TZID=America/New_York:20241113T110000
DTSTAMP:20260422T093429
CREATED:20241104T021442Z
LAST-MODIFIED:20241104T021442Z
UID:10005910-1731492000-1731495600@www.floridanutritioned.org
SUMMARY:Healthy Holiday Tips
DESCRIPTION:Learn ways of maintaining  healthy eating habits during the holiday but still enjoy your food.
URL:https://www.floridanutritioned.org/event/healthy-holiday-tips-4/
LOCATION:Council on Aging – Deltona\, 1640 Dr. Martin Luther King\, Jr. Blvd\, Deltona\, FL\, 32725
END:VEVENT
BEGIN:VEVENT
DTSTART;TZID=America/New_York:20241113T100000
DTEND;TZID=America/New_York:20241113T110000
DTSTAMP:20260422T093429
CREATED:20241104T020321Z
LAST-MODIFIED:20241104T020321Z
UID:10005862-1731492000-1731495600@www.floridanutritioned.org
SUMMARY:Leah's Pantry: Weight and Body Size
DESCRIPTION:A healthy weight and body size look different for everyone. Each body’s natural weight setpoint is different and depends on a lot of factors. In this class\, we will talk about how to have a healthy relationship with food and what other lifestyle patterns can impact our bodies. All bodies deserve to be treated with love\, regardless of weight and size.
URL:https://www.floridanutritioned.org/event/leahs-pantry-weight-and-body-size-10/
LOCATION:Joseph N. Davis Community Center\, 2547 Bruce D. Buggs Street\, Melbourne\, FL\, 32901
CATEGORIES:Elders
END:VEVENT
BEGIN:VEVENT
DTSTART;TZID=America/New_York:20241113T100000
DTEND;TZID=America/New_York:20241113T110000
DTSTAMP:20260422T093429
CREATED:20241101T175240Z
LAST-MODIFIED:20241101T175240Z
UID:10005825-1731492000-1731495600@www.floridanutritioned.org
SUMMARY:Food Smarts with Feeding the Gulf Coast
DESCRIPTION:Feeding the Gulf Coast is helping our community learn about nutrition. This program is all about making learning fun and respectful. We believe that when learning is enjoyable and sensitive to people’s feelings and experiences\, it can help us make better choices about what we eat. Let’s learn together!
URL:https://www.floridanutritioned.org/event/food-smarts-with-feeding-the-gulf-coast-91/
LOCATION:Christ United Methodist – Milton\, 5983 Dogwood St\, Milton\, FL\, 32570
CATEGORIES:Adults and Elders
END:VEVENT
BEGIN:VEVENT
DTSTART;TZID=America/New_York:20241113T100000
DTEND;TZID=America/New_York:20241113T110000
DTSTAMP:20260422T093429
CREATED:20241101T175043Z
LAST-MODIFIED:20241101T175043Z
UID:10005821-1731492000-1731495600@www.floridanutritioned.org
SUMMARY:Food Smarts - Leah's Pantry
DESCRIPTION:This class is taught with a trauma- inforced curriculum to empower adults\, 18 years and older\, to make holistic health choices.
URL:https://www.floridanutritioned.org/event/food-smarts-leahs-pantry-89/
LOCATION:Calhoun County Senior Center\, 16859 Cayson Street\, Blountstown\, FL\, 32424
CATEGORIES:Adults and Elders
END:VEVENT
BEGIN:VEVENT
DTSTART;TZID=America/New_York:20241113T100000
DTEND;TZID=America/New_York:20241113T110000
DTSTAMP:20260422T093429
CREATED:20241030T124509Z
LAST-MODIFIED:20241030T124509Z
UID:10005754-1731492000-1731495600@www.floridanutritioned.org
SUMMARY:Food Smarts: Make Half Your Grains Whole
DESCRIPTION:Participants will discuss the difference between whole grains and refined grains as well as the benefits of making half of their grains whole.
URL:https://www.floridanutritioned.org/event/food-smarts-make-half-your-grains-whole-3/
LOCATION:Goodwill Industries of SWFL – Bonita\, 11601 Bonita Beach Road\, Bonita Springs\, FL\, 34135
CATEGORIES:Adults and Elders
END:VEVENT
BEGIN:VEVENT
DTSTART;TZID=America/New_York:20241113T100000
DTEND;TZID=America/New_York:20241113T110000
DTSTAMP:20260422T093429
CREATED:20241030T124509Z
LAST-MODIFIED:20241030T124509Z
UID:10005755-1731492000-1731495600@www.floridanutritioned.org
SUMMARY:Food Smarts: Best practices for Healthy Living
DESCRIPTION:They will learn to explore holistic practices for good health.
URL:https://www.floridanutritioned.org/event/food-smarts-best-practices-for-healthy-living-16/
LOCATION:Charleston Park Community Center\, 2541 Charleston Park Drive\, Alva\, FL\, 33920
CATEGORIES:Elders
END:VEVENT
BEGIN:VEVENT
DTSTART;TZID=America/New_York:20241112T180000
DTEND;TZID=America/New_York:20241112T190000
DTSTAMP:20260422T093429
CREATED:20241104T020326Z
LAST-MODIFIED:20241104T020326Z
UID:10005867-1731434400-1731438000@www.floridanutritioned.org
SUMMARY:Leah's Pantry - Understanding Food Labels
DESCRIPTION:Learn to decode food labels\, understand nutrition facts on food packaging\, and identify what to look out for on a food label
URL:https://www.floridanutritioned.org/event/leahs-pantry-understanding-food-labels-11/
LOCATION:Anointed Community Services International\, 824 E Broad Street\, Groveland\, FL\, 34736
CATEGORIES:Adults and Elders
END:VEVENT
BEGIN:VEVENT
DTSTART;TZID=America/New_York:20241112T173000
DTEND;TZID=America/New_York:20241112T190000
DTSTAMP:20260422T093429
CREATED:20241101T011158Z
LAST-MODIFIED:20241101T011158Z
UID:10005811-1731432600-1731438000@www.floridanutritioned.org
SUMMARY:Cooking Matters
DESCRIPTION:Meal Planning
URL:https://www.floridanutritioned.org/event/cooking-matters-82/
LOCATION:Links2Success\, 2251 NE Turner Ave.\, Arcadia\, FL\, 34266
CATEGORIES:Adults
END:VEVENT
BEGIN:VEVENT
DTSTART;TZID=America/New_York:20241112T150000
DTEND;TZID=America/New_York:20241112T160000
DTSTAMP:20260422T093429
CREATED:20241023T173510Z
LAST-MODIFIED:20241105T115529Z
UID:10005693-1731423600-1731427200@www.floridanutritioned.org
SUMMARY:Leah's Pantry: Food Smarts (Youth)
DESCRIPTION:Interactive\, trauma-informed nutrition lessons that include a food demo and focus on how to nourish your body\, moving your body in safe & enjoyable ways\, exploring where foods come from\, and health goal setting
URL:https://www.floridanutritioned.org/event/leahs-pantry-food-smarts-youth-168/
LOCATION:Garden Art Wellness\, 2005 N Lamar Ave\, Tampa\, FL\, 33602
END:VEVENT
BEGIN:VEVENT
DTSTART;TZID=America/New_York:20241112T130000
DTEND;TZID=America/New_York:20241112T140000
DTSTAMP:20260422T093429
CREATED:20241101T175240Z
LAST-MODIFIED:20241101T175240Z
UID:10005824-1731416400-1731420000@www.floridanutritioned.org
SUMMARY:Food Smarts with Feeding the Gulf Coast
DESCRIPTION:Feeding the Gulf Coast is helping our community learn about nutrition. This program is all about making learning fun and respectful. We believe that when learning is enjoyable and sensitive to people’s feelings and experiences\, it can help us make better choices about what we eat. Let’s learn together!
URL:https://www.floridanutritioned.org/event/food-smarts-with-feeding-the-gulf-coast-90/
LOCATION:AHEPA 296 Apts.\, 3835 Creighton Road\, Pensacola\, FL\, 32504
CATEGORIES:Elders
END:VEVENT
BEGIN:VEVENT
DTSTART;TZID=America/New_York:20241112T130000
DTEND;TZID=America/New_York:20241112T140000
DTSTAMP:20260422T093429
CREATED:20241101T005656Z
LAST-MODIFIED:20241101T005658Z
UID:10005777-1731416400-1731420000@www.floridanutritioned.org
SUMMARY:Understanding Labels and Ingredients
DESCRIPTION:
URL:https://www.floridanutritioned.org/event/understanding-labels-and-ingredients-12/
LOCATION:FL
CATEGORIES:Adults and Elders
END:VEVENT
BEGIN:VEVENT
DTSTART;TZID=America/New_York:20241112T130000
DTEND;TZID=America/New_York:20241112T140000
DTSTAMP:20260422T093429
CREATED:20241023T173538Z
LAST-MODIFIED:20241023T173538Z
UID:10005719-1731416400-1731420000@www.floridanutritioned.org
SUMMARY:10 Tips for Adults
DESCRIPTION:Intervention designed to help individuals increase fruit and vegetable consumption\, physical activity\, water intake\, and provide SNAP-Ed adults with the skills to purchase healthy foods on a budget.
URL:https://www.floridanutritioned.org/event/10-tips-for-adults-339/
LOCATION:Mount Moriah A.M.E\, 722 South Disston Ave\, Tarpon Springs\, Florida\, 34689
END:VEVENT
BEGIN:VEVENT
DTSTART;TZID=America/New_York:20241112T130000
DTEND;TZID=America/New_York:20241112T130000
DTSTAMP:20260422T093429
CREATED:20241023T162710Z
LAST-MODIFIED:20241023T162710Z
UID:10005666-1731416400-1731416400@www.floridanutritioned.org
SUMMARY:10 Tips for Adults
DESCRIPTION:
URL:https://www.floridanutritioned.org/event/10-tips-for-adults-330/
LOCATION:FL
END:VEVENT
BEGIN:VEVENT
DTSTART;TZID=America/New_York:20241112T120000
DTEND;TZID=America/New_York:20241112T130000
DTSTAMP:20260422T093429
CREATED:20241101T011155Z
LAST-MODIFIED:20241101T011155Z
UID:10005810-1731412800-1731416400@www.floridanutritioned.org
SUMMARY:Leah's Pantry Waste Reduction
DESCRIPTION:Food Safety
URL:https://www.floridanutritioned.org/event/leahs-pantry-waste-reduction-6/
LOCATION:Florida Blue\, 2116 Apalachee Parkway\, Tallahassee\, FL\, 32301
CATEGORIES:Adults
END:VEVENT
END:VCALENDAR