BEGIN:VCALENDAR
VERSION:2.0
PRODID:-//Florida Nutrition Education - ECPv6.15.20//NONSGML v1.0//EN
CALSCALE:GREGORIAN
METHOD:PUBLISH
X-WR-CALNAME:Florida Nutrition Education
X-ORIGINAL-URL:https://www.floridanutritioned.org
X-WR-CALDESC:Events for Florida Nutrition Education
REFRESH-INTERVAL;VALUE=DURATION:PT1H
X-Robots-Tag:noindex
X-PUBLISHED-TTL:PT1H
BEGIN:VTIMEZONE
TZID:America/New_York
BEGIN:DAYLIGHT
TZOFFSETFROM:-0500
TZOFFSETTO:-0400
TZNAME:EDT
DTSTART:20240310T070000
END:DAYLIGHT
BEGIN:STANDARD
TZOFFSETFROM:-0400
TZOFFSETTO:-0500
TZNAME:EST
DTSTART:20241103T060000
END:STANDARD
BEGIN:DAYLIGHT
TZOFFSETFROM:-0500
TZOFFSETTO:-0400
TZNAME:EDT
DTSTART:20250309T070000
END:DAYLIGHT
BEGIN:STANDARD
TZOFFSETFROM:-0400
TZOFFSETTO:-0500
TZNAME:EST
DTSTART:20251102T060000
END:STANDARD
BEGIN:DAYLIGHT
TZOFFSETFROM:-0500
TZOFFSETTO:-0400
TZNAME:EDT
DTSTART:20260308T070000
END:DAYLIGHT
BEGIN:STANDARD
TZOFFSETFROM:-0400
TZOFFSETTO:-0500
TZNAME:EST
DTSTART:20261101T060000
END:STANDARD
END:VTIMEZONE
BEGIN:VEVENT
DTSTART;TZID=America/New_York:20250528T113000
DTEND;TZID=America/New_York:20250528T123000
DTSTAMP:20260421T115844
CREATED:20250428T132837Z
LAST-MODIFIED:20250428T132837Z
UID:10006973-1748431800-1748435400@www.floridanutritioned.org
SUMMARY:Best Practices for Healthy Living
DESCRIPTION:Participants will discuss challenges that may arise when feeding children. What are the major concerns? We will brainstorm strategies on the best ways to introduce new foods. Participants will  also categorize fruits and vegetables according to the color and nutrients they provide and determine which colors might be missing from their diets. A question and answer session will follow.
URL:https://www.floridanutritioned.org/event/best-practices-for-healthy-living-26/
LOCATION:Central Florida Hope Center\, 1010 South Dillard Street\, Winter Garden\, FL\, 34787
CATEGORIES:Adults and Elders
END:VEVENT
BEGIN:VEVENT
DTSTART;TZID=America/New_York:20250528T103000
DTEND;TZID=America/New_York:20250528T113000
DTSTAMP:20260421T115844
CREATED:20250505T162231Z
LAST-MODIFIED:20250505T162231Z
UID:10007084-1748428200-1748431800@www.floridanutritioned.org
SUMMARY:Shopping on a Budget
DESCRIPTION:We will discuss efficient ways to shop and tips on how to save money
URL:https://www.floridanutritioned.org/event/shopping-on-a-budget-3/
LOCATION:Church of the Rock\, 2200 N State St.\, Bunnell\, FL\, 32110
CATEGORIES:Elders
END:VEVENT
BEGIN:VEVENT
DTSTART;TZID=America/New_York:20250528T103000
DTEND;TZID=America/New_York:20250528T113000
DTSTAMP:20260421T115844
CREATED:20250428T132837Z
LAST-MODIFIED:20250428T132837Z
UID:10006972-1748428200-1748431800@www.floridanutritioned.org
SUMMARY:Best Practices for Healthy Living
DESCRIPTION:Participants will discuss challenges that may arise when feeding children. What are the major concerns? We will brainstorm strategies on the best ways to introduce new foods. Participants will  also categorize fruits and vegetables according to the color and nutrients they provide and determine which colors might be missing from their diets. A question and answer session will follow.
URL:https://www.floridanutritioned.org/event/best-practices-for-healthy-living-25/
LOCATION:Central Florida Hope Center\, 1010 South Dillard Street\, Winter Garden\, FL\, 34787
CATEGORIES:Adults and Elders
END:VEVENT
BEGIN:VEVENT
DTSTART;TZID=America/New_York:20250528T100000
DTEND;TZID=America/New_York:20250528T110000
DTSTAMP:20260421T115844
CREATED:20250505T162335Z
LAST-MODIFIED:20250505T162335Z
UID:10007094-1748426400-1748430000@www.floridanutritioned.org
SUMMARY:Eating a variety of vegetables
DESCRIPTION:Exploring easy ways to add inexpensive vegetables to a variety of meals.
URL:https://www.floridanutritioned.org/event/eating-a-variety-of-vegetables-7/
LOCATION:True Vine\, 1191 Midleburg Rd\, Lawtey\, FL\, 32058
CATEGORIES:Adults,and Children,Elders
END:VEVENT
BEGIN:VEVENT
DTSTART;TZID=America/New_York:20250528T100000
DTEND;TZID=America/New_York:20250528T110000
DTSTAMP:20260421T115844
CREATED:20250501T151522Z
LAST-MODIFIED:20250501T151522Z
UID:10007022-1748426400-1748430000@www.floridanutritioned.org
SUMMARY:Food Smarts
DESCRIPTION:Feeding the Gulf Coast is helping our community learn about nutrition. This program is all about making learning fun and respectful. We believe that when learning is enjoyable and sensitive to people’s feelings and experiences\, it can help us make better choices about what we eat. Let’s learn together!
URL:https://www.floridanutritioned.org/event/food-smarts-143/
LOCATION:Bagdad Community Center\, 6872 Pooley Street\, Milton\, FL\, 32583
CATEGORIES:Adults and Elders
END:VEVENT
BEGIN:VEVENT
DTSTART;TZID=America/New_York:20250528T090000
DTEND;TZID=America/New_York:20250528T100000
DTSTAMP:20260421T115844
CREATED:20250501T192113Z
LAST-MODIFIED:20250501T192113Z
UID:10007037-1748422800-1748426400@www.floridanutritioned.org
SUMMARY:Know What You're Eating
DESCRIPTION:This class is taught with a trauma-inforced curriculum to empower adults\, 18 years and older\, to make holistic health choices
URL:https://www.floridanutritioned.org/event/know-what-youre-eating-15/
LOCATION:Community Cares Outreach Mobile FM Transmitter\, 118 3rd Street SW\, Havana\, FL\, 32333
CATEGORIES:Adults and Elders
END:VEVENT
BEGIN:VEVENT
DTSTART;TZID=America/New_York:20250527T140000
DTEND;TZID=America/New_York:20250527T150000
DTSTAMP:20260421T115844
CREATED:20250506T155541Z
LAST-MODIFIED:20250506T155541Z
UID:10007117-1748354400-1748358000@www.floridanutritioned.org
SUMMARY:Leah's Pantry-Plant Focus Diet
DESCRIPTION:
URL:https://www.floridanutritioned.org/event/leahs-pantry-plant-focus-diet-6/
LOCATION:Palmer House\, 1225 SW 107th Ave\, Miami\, FL\, 33174
CATEGORIES:Adults
END:VEVENT
BEGIN:VEVENT
DTSTART;TZID=America/New_York:20250527T130000
DTEND;TZID=America/New_York:20250527T140000
DTSTAMP:20260421T115844
CREATED:20250502T122201Z
LAST-MODIFIED:20250502T122201Z
UID:10007068-1748350800-1748354400@www.floridanutritioned.org
SUMMARY:Leah's Pantry\, Food Smarts for Adults: Building a Wholesome Diet
DESCRIPTION:
URL:https://www.floridanutritioned.org/event/leahs-pantry-food-smarts-for-adults-building-a-wholesome-diet-17/
LOCATION:Saint Giles Manor\, 5041 82nd Ave North\, Pinellas Park\, FL\, 33781
END:VEVENT
BEGIN:VEVENT
DTSTART;TZID=America/New_York:20250527T120000
DTEND;TZID=America/New_York:20250527T130000
DTSTAMP:20260421T115844
CREATED:20250507T142002Z
LAST-MODIFIED:20250507T142002Z
UID:10007126-1748347200-1748350800@www.floridanutritioned.org
SUMMARY:10 Tips for Adults: Vary your Dairy Routine
DESCRIPTION:Participants will learn about different sources of dairy and the importance of obtaining recommended amounts of calcium in their diets.
URL:https://www.floridanutritioned.org/event/10-tips-for-adults-vary-your-dairy-routine-2/
LOCATION:Bonita Senior Center at Hope Lutheran\, 25999 Old 41 Rd.\, Bonita Springs\, FL\, 34135
CATEGORIES:Elders
END:VEVENT
BEGIN:VEVENT
DTSTART;TZID=America/New_York:20250527T120000
DTEND;TZID=America/New_York:20250527T130000
DTSTAMP:20260421T115844
CREATED:20250506T160252Z
LAST-MODIFIED:20250506T160252Z
UID:10007122-1748347200-1748350800@www.floridanutritioned.org
SUMMARY:Food Smarts
DESCRIPTION:Participants will learn how to cook for 1 and how to utilize small appliances.
URL:https://www.floridanutritioned.org/event/food-smarts-147/
LOCATION:Florida Blue\, 2116 Apalachee Parkway\, Tallahassee\, FL\, 32301
CATEGORIES:Adults
END:VEVENT
BEGIN:VEVENT
DTSTART;TZID=America/New_York:20250527T120000
DTEND;TZID=America/New_York:20250527T130000
DTSTAMP:20260421T115844
CREATED:20250501T192938Z
LAST-MODIFIED:20250501T192938Z
UID:10007046-1748347200-1748350800@www.floridanutritioned.org
SUMMARY:Healthy Cooking For Every Body
DESCRIPTION:Participants will learn about various preparation methods for different food items to maintain a balanced\, nutritious meal
URL:https://www.floridanutritioned.org/event/healthy-cooking-for-every-body-2/
LOCATION:Log Cabin Senior Center\, 2369 NE Dixie Hwy\, Jensen Beach\, FL\, 34957
CATEGORIES:Adults and Elders
END:VEVENT
BEGIN:VEVENT
DTSTART;TZID=America/New_York:20250527T120000
DTEND;TZID=America/New_York:20250527T130000
DTSTAMP:20260421T115844
CREATED:20250428T133205Z
LAST-MODIFIED:20250428T133205Z
UID:10006986-1748347200-1748350800@www.floridanutritioned.org
SUMMARY:Best Practices for Healthy Living
DESCRIPTION:Participants will discuss challenges that may arise when feeding children. What are the major concerns? We will brainstorm strategies on the best ways to introduce new foods. Participants will  also categorize fruits and vegetables according to the color and nutrients they provide and determine which colors might be missing from their diets. A question and answer session will follow.
URL:https://www.floridanutritioned.org/event/best-practices-for-healthy-living-28/
LOCATION:Oakleaf Landings\, 2350 North Central Avenue\, Kissimmee\, FL\, 34741
CATEGORIES:Adults and Elders
END:VEVENT
BEGIN:VEVENT
DTSTART;TZID=America/New_York:20250527T110000
DTEND;TZID=America/New_York:20250527T120000
DTSTAMP:20260421T115844
CREATED:20250428T133205Z
LAST-MODIFIED:20250428T133205Z
UID:10006985-1748343600-1748347200@www.floridanutritioned.org
SUMMARY:Best Practices for Healthy Living
DESCRIPTION:Participants will discuss challenges that may arise when feeding children. What are the major concerns? We will brainstorm strategies on the best ways to introduce new foods. Participants will  also categorize fruits and vegetables according to the color and nutrients they provide and determine which colors might be missing from their diets. A question and answer session will follow.
URL:https://www.floridanutritioned.org/event/best-practices-for-healthy-living-27/
LOCATION:Oakleaf Landings\, 2350 North Central Avenue\, Kissimmee\, FL\, 34741
CATEGORIES:Adults and Elders
END:VEVENT
BEGIN:VEVENT
DTSTART;TZID=America/New_York:20250527T103000
DTEND;TZID=America/New_York:20250527T113000
DTSTAMP:20260421T115844
CREATED:20250502T122137Z
LAST-MODIFIED:20250502T122137Z
UID:10007051-1748341800-1748345400@www.floridanutritioned.org
SUMMARY:Leah's Pantry\, Food Smarts for Adults: Creating Balanced Meals
DESCRIPTION:
URL:https://www.floridanutritioned.org/event/leahs-pantry-food-smarts-for-adults-creating-balanced-meals-3/
LOCATION:The Well\, 5110 North 40th Street\, Tampa\, FL\, 33610\, United States
CATEGORIES:Adults and Elders
END:VEVENT
BEGIN:VEVENT
DTSTART;TZID=America/New_York:20250527T090000
DTEND;TZID=America/New_York:20250527T100000
DTSTAMP:20260421T115844
CREATED:20250501T192113Z
LAST-MODIFIED:20250501T192113Z
UID:10007036-1748336400-1748340000@www.floridanutritioned.org
SUMMARY:Know What You're Eating
DESCRIPTION:This class is taught with a trauma-inforced curriculum to empower adults\, 18 years and older\, to make holistic health choices
URL:https://www.floridanutritioned.org/event/know-what-youre-eating-14/
LOCATION:Madison Ag Center Mobile FM Transmitter\, 182 College Loop\, Madison\, FL\, 32340
CATEGORIES:Adults and Elders
END:VEVENT
BEGIN:VEVENT
DTSTART;TZID=America/New_York:20250526T090000
DTEND;TZID=America/New_York:20250526T100000
DTSTAMP:20260421T115844
CREATED:20250502T122140Z
LAST-MODIFIED:20250502T122140Z
UID:10007056-1748250000-1748253600@www.floridanutritioned.org
SUMMARY:Leah's Pantry\, Food Smarts for Adults: Understanding Labels and Ingredients
DESCRIPTION:
URL:https://www.floridanutritioned.org/event/leahs-pantry-food-smarts-for-adults-understanding-labels-and-ingredients-12/
LOCATION:S’Well at Causeway Center\, 3624 Causeway Blvd\, Tampa\, FL\, 33619
END:VEVENT
BEGIN:VEVENT
DTSTART;TZID=America/New_York:20250525T133000
DTEND;TZID=America/New_York:20250525T143000
DTSTAMP:20260421T115844
CREATED:20250506T155233Z
LAST-MODIFIED:20250514T170423Z
UID:10007105-1748179800-1748183400@www.floridanutritioned.org
SUMMARY:Healthy for Life
DESCRIPTION:
URL:https://www.floridanutritioned.org/event/healthy-for-life-129/
LOCATION:Gospel Light Church\, 6101 Miramar Parkway\, Miramar\, FL\, 33023
CATEGORIES:Adults
END:VEVENT
BEGIN:VEVENT
DTSTART;TZID=America/New_York:20250523T103000
DTEND;TZID=America/New_York:20250523T120000
DTSTAMP:20260421T115844
CREATED:20250423T185956Z
LAST-MODIFIED:20250423T185956Z
UID:10006949-1747996200-1748001600@www.floridanutritioned.org
SUMMARY:Weight & Body Size
DESCRIPTION:Recipe: Greek Salad Wrap
URL:https://www.floridanutritioned.org/event/weight-body-size-2/
LOCATION:SW Focal Point Community Center (SWFP)\, 301 NW 103 Ave\, Pembroke Pines\, FL\, 33026
CATEGORIES:Elders
END:VEVENT
BEGIN:VEVENT
DTSTART;TZID=America/New_York:20250523T103000
DTEND;TZID=America/New_York:20250523T113000
DTSTAMP:20260421T115844
CREATED:20250501T192938Z
LAST-MODIFIED:20250501T192938Z
UID:10007045-1747996200-1747999800@www.floridanutritioned.org
SUMMARY:Grains For Every Body
DESCRIPTION:Participants will learn about the health benefits of including more whole grains than refined grains when balancing their MyPlate food groups
URL:https://www.floridanutritioned.org/event/grains-for-every-body-2/
LOCATION:First Baptist Church of Hobe Sound\, 8515 SE Church St\, Hobe Sound\, FL\, 33455
CATEGORIES:Adults and Elders
END:VEVENT
BEGIN:VEVENT
DTSTART;TZID=America/New_York:20250523T100000
DTEND;TZID=America/New_York:20250523T110000
DTSTAMP:20260421T115844
CREATED:20250428T132836Z
LAST-MODIFIED:20250428T132836Z
UID:10006969-1747994400-1747998000@www.floridanutritioned.org
SUMMARY:MyPlate and Diabetes
DESCRIPTION:Participants will develop an awareness of different serving sizes and learn some healthful approaches to using that knowledge to eat healthier while still getting full
URL:https://www.floridanutritioned.org/event/myplate-and-diabetes/
LOCATION:Stone Creek Community Center\, 6320 SW 89th Ct Road\, Ocala\, FL\, 34481
CATEGORIES:Elders
END:VEVENT
BEGIN:VEVENT
DTSTART;TZID=America/New_York:20250522T130000
DTEND;TZID=America/New_York:20250522T140000
DTSTAMP:20260421T115844
CREATED:20250506T155334Z
LAST-MODIFIED:20250506T155334Z
UID:10007110-1747918800-1747922400@www.floridanutritioned.org
SUMMARY:Healthy for Life
DESCRIPTION:
URL:https://www.floridanutritioned.org/event/healthy-for-life-134/
LOCATION:Hialeah Gardens Library\, 13451 NW 107 Ave\, Hialeah Gardens\, FL\, 33018
CATEGORIES:Adults
END:VEVENT
BEGIN:VEVENT
DTSTART;TZID=America/New_York:20250522T130000
DTEND;TZID=America/New_York:20250522T140000
DTSTAMP:20260421T115844
CREATED:20250423T185956Z
LAST-MODIFIED:20250423T185956Z
UID:10006950-1747918800-1747922400@www.floridanutritioned.org
SUMMARY:Weight & Body Size
DESCRIPTION:Recipe: Greek Salad Wrap
URL:https://www.floridanutritioned.org/event/weight-body-size-3/
LOCATION:Federation Plaza Apartments\, 3081 Taft St\, Hollywood\, FL\, 33021
CATEGORIES:Elders
END:VEVENT
BEGIN:VEVENT
DTSTART;TZID=America/New_York:20250522T100000
DTEND;TZID=America/New_York:20250522T110000
DTSTAMP:20260421T115844
CREATED:20250502T122145Z
LAST-MODIFIED:20250502T122145Z
UID:10007061-1747908000-1747911600@www.floridanutritioned.org
SUMMARY:10 Tips for Adults: Part 2 (Eating Better on a Budget)
DESCRIPTION:
URL:https://www.floridanutritioned.org/event/10-tips-for-adults-part-2-eating-better-on-a-budget-4/
LOCATION:Galen Wilson Senior Center\, 8600 Galen Wilson Blvd\, Port Richey\, FL\, 34668
END:VEVENT
BEGIN:VEVENT
DTSTART;TZID=America/New_York:20250522T100000
DTEND;TZID=America/New_York:20250522T110000
DTSTAMP:20260421T115844
CREATED:20250501T192938Z
LAST-MODIFIED:20250501T192938Z
UID:10007044-1747908000-1747911600@www.floridanutritioned.org
SUMMARY:Reading Food Labels For Every Body
DESCRIPTION:Make better food choices by learning how to compare two parts of a food package- the nutrition label and the ingredients list.
URL:https://www.floridanutritioned.org/event/reading-food-labels-for-every-body/
LOCATION:Gifford Youth Achievement Center\, 4875 43rd Ave\, Gifford\, FL\, 32967
CATEGORIES:Elders
END:VEVENT
BEGIN:VEVENT
DTSTART;TZID=America/New_York:20250522T100000
DTEND;TZID=America/New_York:20250522T110000
DTSTAMP:20260421T115844
CREATED:20250501T151522Z
LAST-MODIFIED:20250501T151522Z
UID:10007021-1747908000-1747911600@www.floridanutritioned.org
SUMMARY:Food Smarts
DESCRIPTION:Feeding the Gulf Coast is helping our community learn about nutrition. This program is all about making learning fun and respectful. We believe that when learning is enjoyable and sensitive to people’s feelings and experiences\, it can help us make better choices about what we eat. Let’s learn together!
URL:https://www.floridanutritioned.org/event/food-smarts-142/
LOCATION:Glenwood Community Center\, 722 E Ct.\, Panama City\, FL\, 32401
CATEGORIES:Adults and Elders
END:VEVENT
BEGIN:VEVENT
DTSTART;TZID=America/New_York:20250522T100000
DTEND;TZID=America/New_York:20250522T110000
DTSTAMP:20260421T115844
CREATED:20250428T163515Z
LAST-MODIFIED:20250428T163515Z
UID:10006999-1747908000-1747911600@www.floridanutritioned.org
SUMMARY:Food Smarts: Know Your Serving Size
DESCRIPTION:Identify how much is in a serving size and how to make thoughtful decisions about food portions.
URL:https://www.floridanutritioned.org/event/food-smarts-know-your-serving-size-5/
LOCATION:The Heights Foundation\, 15570 Hagie Dr\, Fort Myers\, FL\, 33908
CATEGORIES:Elders
END:VEVENT
BEGIN:VEVENT
DTSTART;TZID=America/New_York:20250522T100000
DTEND;TZID=America/New_York:20250522T110000
DTSTAMP:20260421T115844
CREATED:20250428T133206Z
LAST-MODIFIED:20250428T133206Z
UID:10006988-1747908000-1747911600@www.floridanutritioned.org
SUMMARY:Vary Your Veggies
DESCRIPTION:W will discuss the different vegetables that are packed with vitamins\, minerals and fiber\, which are all essential for digestion\, immune function\, stong and healthy blood as well as energy levels
URL:https://www.floridanutritioned.org/event/vary-your-veggies/
LOCATION:Central Manor\, 136 Fairview Avenue\, Daytona Beach\, FL\, 32114
CATEGORIES:Elders
END:VEVENT
BEGIN:VEVENT
DTSTART;TZID=America/New_York:20250522T093000
DTEND;TZID=America/New_York:20250522T103000
DTSTAMP:20260421T115844
CREATED:20250506T155333Z
LAST-MODIFIED:20250506T155333Z
UID:10007109-1747906200-1747909800@www.floridanutritioned.org
SUMMARY:Healthy for Life
DESCRIPTION:
URL:https://www.floridanutritioned.org/event/healthy-for-life-133/
LOCATION:NE Transportation Center               ( Rebuilding Me)\, 5901 NW 27 Ave\, Miami\, FL\, 33142
CATEGORIES:Adults
END:VEVENT
BEGIN:VEVENT
DTSTART;TZID=America/New_York:20250522T090000
DTEND;TZID=America/New_York:20250522T100000
DTSTAMP:20260421T115844
CREATED:20250505T162335Z
LAST-MODIFIED:20250505T162335Z
UID:10007092-1747904400-1747908000@www.floridanutritioned.org
SUMMARY:Eating a variety of vegetables
DESCRIPTION:Exploring easy ways to add inexpensive vegetables to a variety of meals.
URL:https://www.floridanutritioned.org/event/eating-a-variety-of-vegetables-5/
LOCATION:Promised Land Family Ministry\, 6886 SW 74th Way\, Lake Butler\, FL\, 32054
CATEGORIES:Adults,and Children,Elders
END:VEVENT
BEGIN:VEVENT
DTSTART;TZID=America/New_York:20250522T090000
DTEND;TZID=America/New_York:20250522T100000
DTSTAMP:20260421T115844
CREATED:20250501T192113Z
LAST-MODIFIED:20250501T192113Z
UID:10007035-1747904400-1747908000@www.floridanutritioned.org
SUMMARY:Know What You're Eating
DESCRIPTION:This class is taught with a trauma-inforced curriculum to empower adults\, 18 years and older\, to make holistic health choices
URL:https://www.floridanutritioned.org/event/know-what-youre-eating-13/
LOCATION:Beth Page Missionary Baptist Church Mobile FM Transmitter\, 379 Bethpage Road\, Monticello\, FL\, 32344
CATEGORIES:Adults and Elders
END:VEVENT
END:VCALENDAR