BEGIN:VCALENDAR
VERSION:2.0
PRODID:-//Florida Nutrition Education - ECPv6.15.20//NONSGML v1.0//EN
CALSCALE:GREGORIAN
METHOD:PUBLISH
X-ORIGINAL-URL:https://www.floridanutritioned.org
X-WR-CALDESC:Events for Florida Nutrition Education
REFRESH-INTERVAL;VALUE=DURATION:PT1H
X-Robots-Tag:noindex
X-PUBLISHED-TTL:PT1H
BEGIN:VTIMEZONE
TZID:America/New_York
BEGIN:DAYLIGHT
TZOFFSETFROM:-0500
TZOFFSETTO:-0400
TZNAME:EDT
DTSTART:20230312T070000
END:DAYLIGHT
BEGIN:STANDARD
TZOFFSETFROM:-0400
TZOFFSETTO:-0500
TZNAME:EST
DTSTART:20231105T060000
END:STANDARD
BEGIN:DAYLIGHT
TZOFFSETFROM:-0500
TZOFFSETTO:-0400
TZNAME:EDT
DTSTART:20240310T070000
END:DAYLIGHT
BEGIN:STANDARD
TZOFFSETFROM:-0400
TZOFFSETTO:-0500
TZNAME:EST
DTSTART:20241103T060000
END:STANDARD
BEGIN:DAYLIGHT
TZOFFSETFROM:-0500
TZOFFSETTO:-0400
TZNAME:EDT
DTSTART:20250309T070000
END:DAYLIGHT
BEGIN:STANDARD
TZOFFSETFROM:-0400
TZOFFSETTO:-0500
TZNAME:EST
DTSTART:20251102T060000
END:STANDARD
END:VTIMEZONE
BEGIN:VEVENT
DTSTART;TZID=America/New_York:20240312T110000
DTEND;TZID=America/New_York:20240312T113000
DTSTAMP:20260421T061806
CREATED:20240226T213851Z
LAST-MODIFIED:20240226T213851Z
UID:10003166-1710241200-1710243000@www.floridanutritioned.org
SUMMARY:Food Smarts with Feeding the Gulf Coast
DESCRIPTION:Feeding the Gulf Coast is helping our community learn about nutrition. This program is all about making learning fun and respectful. We believe that when learning is enjoyable and sensitive to people’s feelings and experiences\, it can help us make better choices about what we eat. Let’s learn together!
URL:https://www.floridanutritioned.org/event/food-smarts-with-feeding-the-gulf-coast-24/
LOCATION:Valparaiso Senior Center\, 268 Glenview Avenue\, Valparaiso\, FL\, 32580
CATEGORIES:Elders
END:VEVENT
BEGIN:VEVENT
DTSTART;TZID=America/New_York:20240312T110000
DTEND;TZID=America/New_York:20240312T120000
DTSTAMP:20260421T061806
CREATED:20240228T174604Z
LAST-MODIFIED:20240228T174604Z
UID:10003263-1710241200-1710244800@www.floridanutritioned.org
SUMMARY:Leah's Pantry: Food Smarts (Adult)
DESCRIPTION:Interactive\, trauma-informed nutrition lessons that include a food demo and focus on moving your body\, adding more nutrients to your daily eating\, setting realistic health goals\, and meal prepping/grocery shopping on a budget
URL:https://www.floridanutritioned.org/event/leahs-pantry-food-smarts-adult-172/
LOCATION:Cano Health – 41 Armenia\, 4144 N. Armenia Avenue Suite 150\, Tampa\, FL\, 33607
END:VEVENT
BEGIN:VEVENT
DTSTART;TZID=America/New_York:20240312T110000
DTEND;TZID=America/New_York:20240312T120000
DTSTAMP:20260421T061806
CREATED:20240228T195024Z
LAST-MODIFIED:20240228T195024Z
UID:10003292-1710241200-1710244800@www.floridanutritioned.org
SUMMARY:Leah's Pantry: Food Processing & Fats
DESCRIPTION:Are all fats bad for us? Do we need fats in our diet? Come and learn all about fats and how they affect our body.
URL:https://www.floridanutritioned.org/event/leahs-pantry-food-processing-fats-2/
LOCATION:St. Cloud Library\, 810 13th St\, St. Cloud\, FL\, 34769
CATEGORIES:Adults and Elders
END:VEVENT
BEGIN:VEVENT
DTSTART;TZID=America/New_York:20240312T110000
DTEND;TZID=America/New_York:20240312T120000
DTSTAMP:20260421T061806
CREATED:20240326T191336Z
LAST-MODIFIED:20240326T191336Z
UID:10003629-1710241200-1710244800@www.floridanutritioned.org
SUMMARY:Eat Smart\, Live Strong: Reach you goals step by step
DESCRIPTION:
URL:https://www.floridanutritioned.org/event/eat-smart-live-strong-reach-you-goals-step-by-step-2/
LOCATION:Saint Monica Gardens\, 3425 NW 189th St\, Miami Gardens\, FL\, 33056
CATEGORIES:Adults
END:VEVENT
BEGIN:VEVENT
DTSTART;TZID=America/New_York:20240312T120000
DTEND;TZID=America/New_York:20240312T130000
DTSTAMP:20260421T061806
CREATED:20240228T200141Z
LAST-MODIFIED:20240228T200141Z
UID:10003312-1710244800-1710248400@www.floridanutritioned.org
SUMMARY:My Plate - Healthy Eating from Head to Toe
DESCRIPTION:Make food choices that benefit your entire body
URL:https://www.floridanutritioned.org/event/my-plate-healthy-eating-from-head-to-toe-3/
LOCATION:Conviva Care Center – Orange City\, 876 Saxon Blvd\, Daytona Beach\, FL\, 32163
CATEGORIES:Elders
END:VEVENT
BEGIN:VEVENT
DTSTART;TZID=America/New_York:20240312T120000
DTEND;TZID=America/New_York:20240312T130000
DTSTAMP:20260421T061806
CREATED:20240304T183831Z
LAST-MODIFIED:20240304T183831Z
UID:10003395-1710244800-1710248400@www.floridanutritioned.org
SUMMARY:Start Simple with MyPlate- Healthy Food Prep       Recipe: Jerk Chickpea Tacos & Pineapple Salsa
DESCRIPTION:
URL:https://www.floridanutritioned.org/event/start-simple-with-myplate-healthy-food-prep-recipe-jerk-chickpea-tacos-pineapple-salsa/
LOCATION:YMCA 3161\, 3161 Taft St\, Hollywood\, FL\, 33021
CATEGORIES:Elders
END:VEVENT
BEGIN:VEVENT
DTSTART;TZID=America/New_York:20240312T120000
DTEND;TZID=America/New_York:20240312T133000
DTSTAMP:20260421T061806
CREATED:20240229T203108Z
LAST-MODIFIED:20240229T203108Z
UID:10003371-1710244800-1710250200@www.floridanutritioned.org
SUMMARY:Food Smarts for Adults
DESCRIPTION:One Time Class- Fat Lesson
URL:https://www.floridanutritioned.org/event/food-smarts-for-adults-11/
LOCATION:Florida Blue\, 2116 Apalachee Parkway\, Tallahassee\, FL\, 32301
CATEGORIES:Adults
END:VEVENT
BEGIN:VEVENT
DTSTART;TZID=America/New_York:20240312T123000
DTEND;TZID=America/New_York:20240312T133000
DTSTAMP:20260421T061806
CREATED:20240228T174427Z
LAST-MODIFIED:20240228T174427Z
UID:10003198-1710246600-1710250200@www.floridanutritioned.org
SUMMARY:Leah's Pantry: Food Smarts (Adult)
DESCRIPTION:Interactive\, trauma-informed nutrition lessons that include a food demo and focus on moving your body\, adding more nutrients to your daily eating\, setting realistic health goals\, and meal prepping/grocery shopping on a budget
URL:https://www.floridanutritioned.org/event/leahs-pantry-food-smarts-adult-148/
LOCATION:Vincent House\, 11145 Denton Ave\, Hudson\, FL\, 34669
END:VEVENT
BEGIN:VEVENT
DTSTART;TZID=America/New_York:20240312T130000
DTEND;TZID=America/New_York:20240312T140000
DTSTAMP:20260421T061806
CREATED:20240228T174446Z
LAST-MODIFIED:20240228T174446Z
UID:10003207-1710248400-1710252000@www.floridanutritioned.org
SUMMARY:Leah's Pantry: Food Smarts (Adult)
DESCRIPTION:Interactive\, trauma-informed nutrition lessons that include a food demo and focus on moving your body\, adding more nutrients to your daily eating\, setting realistic health goals\, and meal prepping/grocery shopping on a budget
URL:https://www.floridanutritioned.org/event/leahs-pantry-food-smarts-adult-153/
LOCATION:Mount Moriah A.M.E Church\, 722 South Disston Ave\, Tarpon Springs\, FL\, 34689
END:VEVENT
BEGIN:VEVENT
DTSTART;TZID=America/New_York:20240312T130000
DTEND;TZID=America/New_York:20240312T140000
DTSTAMP:20260421T061806
CREATED:20240304T183832Z
LAST-MODIFIED:20240304T183832Z
UID:10003396-1710248400-1710252000@www.floridanutritioned.org
SUMMARY:Leah's Pantry:Food Smarts Food Labels - Smart Shopping Strategies
DESCRIPTION:
URL:https://www.floridanutritioned.org/event/leahs-pantryfood-smarts-food-labels-smart-shopping-strategies/
LOCATION:Margate Library\, 5810 Park Dr\, Margate\, FL\, 33063
CATEGORIES:Adults and Elders
END:VEVENT
BEGIN:VEVENT
DTSTART;TZID=America/New_York:20240312T130000
DTEND;TZID=America/New_York:20240312T140000
DTSTAMP:20260421T061806
CREATED:20240326T191642Z
LAST-MODIFIED:20240326T191642Z
UID:10003646-1710248400-1710252000@www.floridanutritioned.org
SUMMARY:Leah's Pantry: Building Balanced Meals
DESCRIPTION:
URL:https://www.floridanutritioned.org/event/leahs-pantry-building-balanced-meals-4/
LOCATION:Leisureville\, 2921 W Golf Blvd\, Broward\, FL\, 33064
CATEGORIES:Elders
END:VEVENT
BEGIN:VEVENT
DTSTART;TZID=America/New_York:20240312T143000
DTEND;TZID=America/New_York:20240312T153000
DTSTAMP:20260421T061806
CREATED:20240305T161256Z
LAST-MODIFIED:20240305T161256Z
UID:10003446-1710253800-1710257400@www.floridanutritioned.org
SUMMARY:Leah's Pantry - Marketing de Alimentos
DESCRIPTION:
URL:https://www.floridanutritioned.org/event/leahs-pantry-marketing-de-alimentos/
LOCATION:AHEPA Housing\, 350 NE 141 St\, Miami\, FL\, 33161
CATEGORIES:Elders
END:VEVENT
BEGIN:VEVENT
DTSTART;TZID=America/New_York:20240312T150000
DTEND;TZID=America/New_York:20240312T160000
DTSTAMP:20260421T061806
CREATED:20240319T194731Z
LAST-MODIFIED:20240319T194731Z
UID:10003514-1710255600-1710259200@www.floridanutritioned.org
SUMMARY:Leah's Pantry: Decoding Food Labels
DESCRIPTION:
URL:https://www.floridanutritioned.org/event/leahs-pantry-decoding-food-labels-19/
LOCATION:Chapman Partnership\, 28205 SW 124th Ct.\, Homestead\, FL\, 33033
CATEGORIES:Adult
END:VEVENT
BEGIN:VEVENT
DTSTART;TZID=America/New_York:20240312T183000
DTEND;TZID=America/New_York:20240312T193000
DTSTAMP:20260421T061806
CREATED:20240305T173239Z
LAST-MODIFIED:20240305T173239Z
UID:10003463-1710268200-1710271800@www.floridanutritioned.org
SUMMARY:Foodsmarts
DESCRIPTION:This class is taught with a trauma- inforced curriculum to empower adults\, 18 years and older\, to make holistic health choices.
URL:https://www.floridanutritioned.org/event/foodsmarts-120/
LOCATION:Wakulla Giving Hands\, 4330 Carwfordville HWY\, Crawfordville\, FL\, 32327
END:VEVENT
BEGIN:VEVENT
DTSTART;TZID=America/New_York:20240313T090000
DTEND;TZID=America/New_York:20240313T090000
DTSTAMP:20260421T061806
CREATED:20240229T190119Z
LAST-MODIFIED:20240229T190119Z
UID:10003347-1710320400-1710320400@www.floridanutritioned.org
SUMMARY:Cooking Matters: The Power of Planning
DESCRIPTION:Parents and caregivers will gain confidence to plan and prepare quick\, budget-friendly\, enjoyable meals at home.
URL:https://www.floridanutritioned.org/event/cooking-matters-the-power-of-planning/
LOCATION:Healing Stitches\, 1621 N Tamiami Trail\, North Fort Myers\, FL\, 33903
END:VEVENT
BEGIN:VEVENT
DTSTART;TZID=America/New_York:20240313T090000
DTEND;TZID=America/New_York:20240313T100000
DTSTAMP:20260421T061806
CREATED:20240304T183931Z
LAST-MODIFIED:20240304T183931Z
UID:10003397-1710320400-1710324000@www.floridanutritioned.org
SUMMARY:MyPlate for My Family: Family Meals
DESCRIPTION:
URL:https://www.floridanutritioned.org/event/myplate-for-my-family-family-meals-38/
LOCATION:Pompano Prenatal Care Center\, 601 W Atlantic Blvd\, Pompano Beach\, FL\, 33060
CATEGORIES:Adults
END:VEVENT
BEGIN:VEVENT
DTSTART;TZID=America/New_York:20240313T093000
DTEND;TZID=America/New_York:20240313T103000
DTSTAMP:20260421T061806
CREATED:20240319T194734Z
LAST-MODIFIED:20240319T194734Z
UID:10003516-1710322200-1710325800@www.floridanutritioned.org
SUMMARY:Leah's Pantry: Glossary of Recipe Terms + How to Read a Recipe
DESCRIPTION:
URL:https://www.floridanutritioned.org/event/leahs-pantry-glossary-of-recipe-terms-how-to-read-a-recipe/
LOCATION:SW Transportation Terminal\, 15501 SW 117th Ave.\, Miami\, FL 33177\, Miami\, FL\, 33177
CATEGORIES:Adult
END:VEVENT
BEGIN:VEVENT
DTSTART;TZID=America/New_York:20240313T093000
DTEND;TZID=America/New_York:20240313T120000
DTSTAMP:20260421T061806
CREATED:20240327T190528Z
LAST-MODIFIED:20240327T190528Z
UID:10003703-1710322200-1710331200@www.floridanutritioned.org
SUMMARY:Food Smarts\, Building a Wholesome Diet
DESCRIPTION:
URL:https://www.floridanutritioned.org/event/food-smarts-building-a-wholesome-diet-18/
LOCATION:Baker County Ministry Association (BCMA)\, 6444 US 90\, Saint Mary\, FL\, 32040
CATEGORIES:Adults and Elders
END:VEVENT
BEGIN:VEVENT
DTSTART;TZID=America/New_York:20240313T094500
DTEND;TZID=America/New_York:20240313T101500
DTSTAMP:20260421T061806
CREATED:20240226T213851Z
LAST-MODIFIED:20240226T213851Z
UID:10003167-1710323100-1710324900@www.floridanutritioned.org
SUMMARY:Food Smarts with Feeding the Gulf Coast
DESCRIPTION:Feeding the Gulf Coast is helping our community learn about nutrition. This program is all about making learning fun and respectful. We believe that when learning is enjoyable and sensitive to people’s feelings and experiences\, it can help us make better choices about what we eat. Let’s learn together!
URL:https://www.floridanutritioned.org/event/food-smarts-with-feeding-the-gulf-coast-25/
LOCATION:The ARC\, 6225 Dixie Road\, Milton\, FL\, 32570
CATEGORIES:Adults
END:VEVENT
BEGIN:VEVENT
DTSTART;TZID=America/New_York:20240313T100000
DTEND;TZID=America/New_York:20240313T110000
DTSTAMP:20260421T061806
CREATED:20240228T195024Z
LAST-MODIFIED:20240228T195024Z
UID:10003293-1710324000-1710327600@www.floridanutritioned.org
SUMMARY:Leah's Pantry: Veggies
DESCRIPTION:We will discuss the wonderful benefits that veggies offer us\, such as how they offer protection against various diseases such as inflammation\, high blood pressure\, diabetes\, obesity\, heart disease\, etc. We will review the health benefits of each vegetable\, such as red onions (compared to white and yellow onions); yellow\, red and green peppers; carrots; yellow squash; zucchini; broccoli and many others as well.
URL:https://www.floridanutritioned.org/event/leahs-pantry-veggies-5/
LOCATION:Oakleaf Landings\, 2350 North Central Avenue\, Kissimmee\, FL\, 34741
CATEGORIES:Adults and Elders
END:VEVENT
BEGIN:VEVENT
DTSTART;TZID=America/New_York:20240313T100000
DTEND;TZID=America/New_York:20240313T110000
DTSTAMP:20260421T061806
CREATED:20240304T183932Z
LAST-MODIFIED:20240304T183932Z
UID:10003398-1710324000-1710327600@www.floridanutritioned.org
SUMMARY:MyPlate for My Family: Family Meals
DESCRIPTION:
URL:https://www.floridanutritioned.org/event/myplate-for-my-family-family-meals-39/
LOCATION:Pompano Prenatal Care Center\, 601 W Atlantic Blvd\, Pompano Beach\, FL\, 33060
CATEGORIES:Adults
END:VEVENT
BEGIN:VEVENT
DTSTART;TZID=America/New_York:20240313T100000
DTEND;TZID=America/New_York:20240313T230000
DTSTAMP:20260421T061806
CREATED:20240305T173239Z
LAST-MODIFIED:20240305T173239Z
UID:10003464-1710324000-1710370800@www.floridanutritioned.org
SUMMARY:Foodsmarts
DESCRIPTION:This class is taught with a trauma- inforced curriculum to empower adults\, 18 years and older\, to make holistic health choices.
URL:https://www.floridanutritioned.org/event/foodsmarts-121/
LOCATION:Blountstown Seniors\, 16859 Cayson St\, Blountstown\, FL\, 32424
END:VEVENT
BEGIN:VEVENT
DTSTART;TZID=America/New_York:20240313T103000
DTEND;TZID=America/New_York:20240313T110000
DTSTAMP:20260421T061806
CREATED:20240229T183647Z
LAST-MODIFIED:20240229T183647Z
UID:10003328-1710325800-1710327600@www.floridanutritioned.org
SUMMARY:Leah's Pantry: Cooking for One
DESCRIPTION:Cooking isn’t always easy\, especially when you’re cooking only for yourself. There are not many recipes out there that tell you how to make an individual serving. Join us to learn how to scale down most recipes and how to use batch cooking to prepare your weekly meals.
URL:https://www.floridanutritioned.org/event/leahs-pantry-cooking-for-one-5/
LOCATION:Woody Simpson Community Center\, 1590 Schoolhouse Street\, Merrit Island\, FL\, 32953
CATEGORIES:Elders
END:VEVENT
BEGIN:VEVENT
DTSTART;TZID=America/New_York:20240313T110000
DTEND;TZID=America/New_York:20240313T110000
DTSTAMP:20260421T061806
CREATED:20240305T161358Z
LAST-MODIFIED:20240311T135008Z
UID:10003453-1710327600-1710327600@www.floridanutritioned.org
SUMMARY:Leahs Pantry: Choosing Whole Foods
DESCRIPTION:Leahs Pantry: Choosing Whole Foods
URL:https://www.floridanutritioned.org/event/leahs-pantry-choosing-whole-foods-4/
LOCATION:The Senior Care Foundation\, 6109 Pembroke Rd\, Hollywood\, FL\, 33023
CATEGORIES:Elders
END:VEVENT
BEGIN:VEVENT
DTSTART;TZID=America/New_York:20240313T110000
DTEND;TZID=America/New_York:20240313T113000
DTSTAMP:20260421T061806
CREATED:20240226T213851Z
LAST-MODIFIED:20240226T213851Z
UID:10003168-1710327600-1710329400@www.floridanutritioned.org
SUMMARY:Food Smarts with Feeding the Gulf Coast
DESCRIPTION:Feeding the Gulf Coast is helping our community learn about nutrition. This program is all about making learning fun and respectful. We believe that when learning is enjoyable and sensitive to people’s feelings and experiences\, it can help us make better choices about what we eat. Let’s learn together!
URL:https://www.floridanutritioned.org/event/food-smarts-with-feeding-the-gulf-coast-26/
LOCATION:Bob Hope Village – Knife’s Edge Restaurant\, 30 Holly Avenue\, Shalimar\, FL\, 32526
CATEGORIES:Elders
END:VEVENT
BEGIN:VEVENT
DTSTART;TZID=America/New_York:20240313T110000
DTEND;TZID=America/New_York:20240313T120000
DTSTAMP:20260421T061806
CREATED:20240228T195024Z
LAST-MODIFIED:20240228T195024Z
UID:10003294-1710327600-1710331200@www.floridanutritioned.org
SUMMARY:Leah's Pantry: Veggies
DESCRIPTION:We will discuss the wonderful benefits that veggies offer us\, such as how they offer protection against various diseases such as inflammation\, high blood pressure\, diabetes\, obesity\, heart disease\, etc. We will review the health benefits of each vegetable\, such as red onions (compared to white and yellow onions); yellow\, red and green peppers; carrots; yellow squash; zucchini; broccoli and many others as well.
URL:https://www.floridanutritioned.org/event/leahs-pantry-veggies-6/
LOCATION:Oakleaf Landings\, 2350 North Central Avenue\, Kissimmee\, FL\, 34741
CATEGORIES:Adults and Elders
END:VEVENT
BEGIN:VEVENT
DTSTART;TZID=America/New_York:20240313T110000
DTEND;TZID=America/New_York:20240313T120000
DTSTAMP:20260421T061806
CREATED:20240228T200141Z
LAST-MODIFIED:20240228T200141Z
UID:10003313-1710327600-1710331200@www.floridanutritioned.org
SUMMARY:My Plate - Healthy Eating from Head to Toe
DESCRIPTION:Make food choices that benefit your entire body
URL:https://www.floridanutritioned.org/event/my-plate-healthy-eating-from-head-to-toe-4/
LOCATION:Conviva Care Center – Port Orange\, 4770 S Ridgewood Avenue\, Port Orange\, FL\, 32763
CATEGORIES:Elders
END:VEVENT
BEGIN:VEVENT
DTSTART;TZID=America/New_York:20240313T113000
DTEND;TZID=America/New_York:20240313T123000
DTSTAMP:20260421T061806
CREATED:20240229T190120Z
LAST-MODIFIED:20240229T190120Z
UID:10003348-1710329400-1710333000@www.floridanutritioned.org
SUMMARY:MyPlate for My Family: Make Half Your Grains Whole Grains
DESCRIPTION:Encourage participants to eat more whole grains and fewer refined grains.
URL:https://www.floridanutritioned.org/event/myplate-for-my-family-make-half-your-grains-whole-grains-2/
LOCATION:Villa San Carlos 2\, 22250 Vick St\, Port Charlotte\, FL\, 33980
END:VEVENT
BEGIN:VEVENT
DTSTART;TZID=America/New_York:20240313T120000
DTEND;TZID=America/New_York:20240313T130000
DTSTAMP:20260421T061806
CREATED:20240229T203112Z
LAST-MODIFIED:20240229T203112Z
UID:10003372-1710331200-1710334800@www.floridanutritioned.org
SUMMARY:Food Smarts for Adults
DESCRIPTION:One Time Class
URL:https://www.floridanutritioned.org/event/food-smarts-for-adults-12/
LOCATION:DeSoto Department of Health\, 34 S Baldwin Ave.\, Arcadia\, FL\, 34266
CATEGORIES:Adults
END:VEVENT
BEGIN:VEVENT
DTSTART;TZID=America/New_York:20240313T120000
DTEND;TZID=America/New_York:20240313T130000
DTSTAMP:20260421T061806
CREATED:20240305T204413Z
LAST-MODIFIED:20240305T204413Z
UID:10003482-1710331200-1710334800@www.floridanutritioned.org
SUMMARY:Cooking Matters: Shopping on a Budget
DESCRIPTION:Discuss ways to use available food resources and compare unit prices when purchasing food.
URL:https://www.floridanutritioned.org/event/cooking-matters-shopping-on-a-budget-11/
LOCATION:Goodwill Industries\, 3226 Del Prado Blvd\, Cape Coral\, FL\, 33909
END:VEVENT
END:VCALENDAR