BEGIN:VCALENDAR
VERSION:2.0
PRODID:-//Florida Nutrition Education - ECPv6.15.20//NONSGML v1.0//EN
CALSCALE:GREGORIAN
METHOD:PUBLISH
X-ORIGINAL-URL:https://www.floridanutritioned.org
X-WR-CALDESC:Events for Florida Nutrition Education
REFRESH-INTERVAL;VALUE=DURATION:PT1H
X-Robots-Tag:noindex
X-PUBLISHED-TTL:PT1H
BEGIN:VTIMEZONE
TZID:America/New_York
BEGIN:DAYLIGHT
TZOFFSETFROM:-0500
TZOFFSETTO:-0400
TZNAME:EDT
DTSTART:20220313T070000
END:DAYLIGHT
BEGIN:STANDARD
TZOFFSETFROM:-0400
TZOFFSETTO:-0500
TZNAME:EST
DTSTART:20221106T060000
END:STANDARD
BEGIN:DAYLIGHT
TZOFFSETFROM:-0500
TZOFFSETTO:-0400
TZNAME:EDT
DTSTART:20230312T070000
END:DAYLIGHT
BEGIN:STANDARD
TZOFFSETFROM:-0400
TZOFFSETTO:-0500
TZNAME:EST
DTSTART:20231105T060000
END:STANDARD
BEGIN:DAYLIGHT
TZOFFSETFROM:-0500
TZOFFSETTO:-0400
TZNAME:EDT
DTSTART:20240310T070000
END:DAYLIGHT
BEGIN:STANDARD
TZOFFSETFROM:-0400
TZOFFSETTO:-0500
TZNAME:EST
DTSTART:20241103T060000
END:STANDARD
END:VTIMEZONE
BEGIN:VEVENT
DTSTART;TZID=America/New_York:20230817T100000
DTEND;TZID=America/New_York:20230817T120000
DTSTAMP:20260423T050543
CREATED:20230726T131939Z
LAST-MODIFIED:20230726T131939Z
UID:10000927-1692266400-1692273600@www.floridanutritioned.org
SUMMARY:Food Smarts “Setting the Stage for Healthy Habits”
DESCRIPTION:This class will focus on food safety tips and food pantry basics. We will also learn how to prepare a new\, healthy recipe!
URL:https://www.floridanutritioned.org/event/food-smarts-setting-the-stage-for-healthy-habits-10/
LOCATION:Bradford County Community Center\, 721 Old Lawtey Road\, Starke\, FL\, 32091
CATEGORIES:Adults and Elders
END:VEVENT
BEGIN:VEVENT
DTSTART;TZID=America/New_York:20230817T103000
DTEND;TZID=America/New_York:20230817T103000
DTSTAMP:20260423T050543
CREATED:20230707T164444Z
LAST-MODIFIED:20230707T164444Z
UID:10000873-1692268200-1692268200@www.floridanutritioned.org
SUMMARY:Leahs Pantry: Understanding Labels and Ingredients
DESCRIPTION:Please send an e-mail to register for class. To learn how to select products and ingredients using the information on packaging
URL:https://www.floridanutritioned.org/event/leahs-pantry-understanding-labels-and-ingredients-4/
LOCATION:United Against Poverty\, 2520 Orange Avenue\, Fort Pierce\, FL\, 34947
CATEGORIES:Adults
END:VEVENT
BEGIN:VEVENT
DTSTART;TZID=America/New_York:20230817T110000
DTEND;TZID=America/New_York:20230817T120000
DTSTAMP:20260423T050543
CREATED:20230726T172531Z
LAST-MODIFIED:20230726T172531Z
UID:10000932-1692270000-1692273600@www.floridanutritioned.org
SUMMARY:Leah's Pantry: Food Smarts (Adults)
DESCRIPTION:Interactive\, trauma-informed nutrition lessons that include a food demo and focus on moving your body\, adding more nutrients to your daily eating\, setting realistic health goals\, and meal prepping/grocery shopping on a budget
URL:https://www.floridanutritioned.org/event/leahs-pantry-food-smarts-adults-2/
LOCATION:Revello wellness Center\, 210 Sebring Square\, Sebring\, FL\, 33870
CATEGORIES:Adults
END:VEVENT
BEGIN:VEVENT
DTSTART;TZID=America/New_York:20230817T110000
DTEND;TZID=America/New_York:20230817T120000
DTSTAMP:20260423T050543
CREATED:20230727T163310Z
LAST-MODIFIED:20230802T122643Z
UID:10001032-1692270000-1692273600@www.floridanutritioned.org
SUMMARY:MyPlate for My Family
DESCRIPTION:Whole Grains
URL:https://www.floridanutritioned.org/event/leahs-pantry-72/
LOCATION:Osceola County Council on Aging\, 700 Generation Point\, Kissimmee\, FL\, 34744
CATEGORIES:Adults
END:VEVENT
BEGIN:VEVENT
DTSTART;TZID=America/New_York:20230817T110000
DTEND;TZID=America/New_York:20230817T120000
DTSTAMP:20260423T050543
CREATED:20230810T191331Z
LAST-MODIFIED:20230810T191331Z
UID:10001177-1692270000-1692273600@www.floridanutritioned.org
SUMMARY:Eat Smart\, Live Strong - Session 1
DESCRIPTION:
URL:https://www.floridanutritioned.org/event/eat-smart-live-strong-session-1-16/
LOCATION:Conviva Activity Center – West Kendall Dr\, 15516 SW 88 St\, Miami\, FL\, 33196
CATEGORIES:Adults
END:VEVENT
BEGIN:VEVENT
DTSTART;TZID=America/New_York:20230817T123000
DTEND;TZID=America/New_York:20230817T133000
DTSTAMP:20260423T050543
CREATED:20230726T172940Z
LAST-MODIFIED:20230726T172940Z
UID:10000985-1692275400-1692279000@www.floridanutritioned.org
SUMMARY:Leah's Pantry: Food Smarts (Adults)
DESCRIPTION:Interactive\, trauma-informed nutrition lessons that include a food demo and focus on moving your body\, adding more nutrients to your daily eating\, setting realistic health goals\, and meal prepping/grocery shopping on a budget
URL:https://www.floridanutritioned.org/event/leahs-pantry-food-smarts-adults-21/
LOCATION:FL
END:VEVENT
BEGIN:VEVENT
DTSTART;TZID=America/New_York:20230817T130000
DTEND;TZID=America/New_York:20230817T140000
DTSTAMP:20260423T050543
CREATED:20230727T170118Z
LAST-MODIFIED:20230727T170118Z
UID:10001059-1692277200-1692280800@www.floridanutritioned.org
SUMMARY:Leah's Pantry
DESCRIPTION:My Plate
URL:https://www.floridanutritioned.org/event/leahs-pantry-88/
LOCATION:Casa San Pablo\, 401 N Ridgewood Avenue\, Daytona Beach\, FL\, 32114
CATEGORIES:Elders
END:VEVENT
BEGIN:VEVENT
DTSTART;TZID=America/New_York:20230817T140000
DTEND;TZID=America/New_York:20230817T150000
DTSTAMP:20260423T050543
CREATED:20230726T172739Z
LAST-MODIFIED:20230726T172739Z
UID:10000965-1692280800-1692284400@www.floridanutritioned.org
SUMMARY:Eat Smart\, Live Strong
DESCRIPTION:intervention designed to improve fruit and vegetable consumption and physical activity among 60-74 year olds.
URL:https://www.floridanutritioned.org/event/eat-smart-live-strong-104/
LOCATION:Sunshine Health\, 200 W Waters Avenue\, Tampa\, FL\, 33604
END:VEVENT
BEGIN:VEVENT
DTSTART;TZID=America/New_York:20230817T140000
DTEND;TZID=America/New_York:20230817T150000
DTSTAMP:20260423T050543
CREATED:20240815T124231Z
LAST-MODIFIED:20240815T124231Z
UID:10005125-1692280800-1692284400@www.floridanutritioned.org
SUMMARY:Cooking Matters
DESCRIPTION:
URL:https://www.floridanutritioned.org/event/cooking-matters-78/
LOCATION:Las Palmas\, 740 NW 25th Ave\, Miami\, FL\, 33125
CATEGORIES:Elders
END:VEVENT
BEGIN:VEVENT
DTSTART;TZID=America/New_York:20230817T143000
DTEND;TZID=America/New_York:20230817T153000
DTSTAMP:20260423T050543
CREATED:20230815T164258Z
LAST-MODIFIED:20230815T164258Z
UID:10001200-1692282600-1692286200@www.floridanutritioned.org
SUMMARY:MyPlate for My Family: MyPlate My Family Meals
DESCRIPTION:
URL:https://www.floridanutritioned.org/event/myplate-for-my-family-myplate-my-family-meals-9/
LOCATION:FL
CATEGORIES:Adults
END:VEVENT
BEGIN:VEVENT
DTSTART;TZID=America/New_York:20230817T153000
DTEND;TZID=America/New_York:20230817T170000
DTSTAMP:20260423T050543
CREATED:20230815T135940Z
LAST-MODIFIED:20230815T135940Z
UID:10001183-1692286200-1692291600@www.floridanutritioned.org
SUMMARY:FoodSmarts
DESCRIPTION:This class is taught with a trauma- inforced curriculum to empower adults\, 18 years and older\, to make holistic health choices.
URL:https://www.floridanutritioned.org/event/foodsmarts-20/
LOCATION:AMIKids Gadsden\, 363 E Crawfors St\, Quincy\, FL\, 32351
CATEGORIES:Children
END:VEVENT
BEGIN:VEVENT
DTSTART;TZID=America/New_York:20230817T160000
DTEND;TZID=America/New_York:20230817T170000
DTSTAMP:20260423T050543
CREATED:20230727T173120Z
LAST-MODIFIED:20230727T173120Z
UID:10001063-1692288000-1692291600@www.floridanutritioned.org
SUMMARY:Leah's Pantry: Food Smarts (Youth)
DESCRIPTION:Interactive\, trauma-informed nutrition lessons that include a food demo and focus on  how to nourish your body\, moving your body in safe & enjoyable ways\, exploring where foods come from\, and health goal setting
URL:https://www.floridanutritioned.org/event/leahs-pantry-food-smarts-youth-15/
LOCATION:Dream Center of Tampa\, 2806 North 15th St\, Tampa\, FL\, 33605
CATEGORIES:Children
END:VEVENT
BEGIN:VEVENT
DTSTART;TZID=America/New_York:20230818T100000
DTEND;TZID=America/New_York:20230818T110000
DTSTAMP:20260423T050543
CREATED:20230731T192559Z
LAST-MODIFIED:20230731T192559Z
UID:10001090-1692352800-1692356400@www.floridanutritioned.org
SUMMARY:Food Smart Series
DESCRIPTION:Food Smart Series
URL:https://www.floridanutritioned.org/event/food-smart-series-5/
LOCATION:Bereca Baptisit Church\, 905 Roberts Ave\, Immokalee\, FL\, 34142
CATEGORIES:Elders
END:VEVENT
BEGIN:VEVENT
DTSTART;TZID=America/New_York:20230818T100000
DTEND;TZID=America/New_York:20230818T120000
DTSTAMP:20260423T050543
CREATED:20230727T163310Z
LAST-MODIFIED:20230802T122813Z
UID:10001033-1692352800-1692360000@www.floridanutritioned.org
SUMMARY:Leah's Pantry - Outsmarting the Grocery Store
DESCRIPTION:We will create a grocery list and meal plan\, focusing on where the healthiest foods are located and discussing how to identify and compare and contrast brand-name and generic brand products.
URL:https://www.floridanutritioned.org/event/leahs-pantry-73/
LOCATION:Oakleaf Landings\, 2350 North Central Avenue\, Kissimmee\, FL\, 34741
CATEGORIES:Adults
END:VEVENT
BEGIN:VEVENT
DTSTART;TZID=America/New_York:20230818T110000
DTEND;TZID=America/New_York:20230818T130000
DTSTAMP:20260423T050543
CREATED:20230727T163310Z
LAST-MODIFIED:20230802T122914Z
UID:10001034-1692356400-1692363600@www.floridanutritioned.org
SUMMARY:Leah's Pantry - Outsmarting the Grocery Store
DESCRIPTION:We will create a grocery list and meal plan\, focusing on where the healthiest foods are located and discussing how to identify and compare and contrast brand-name and generic brand products.
URL:https://www.floridanutritioned.org/event/leahs-pantry-74/
LOCATION:Oakleaf Landings\, 2350 North Central Avenue\, Kissimmee\, FL\, 34741
CATEGORIES:Adults
END:VEVENT
BEGIN:VEVENT
DTSTART;TZID=America/New_York:20230818T123000
DTEND;TZID=America/New_York:20230825T133000
DTSTAMP:20260423T050543
CREATED:20230726T172539Z
LAST-MODIFIED:20230726T172539Z
UID:10000940-1692361800-1692970200@www.floridanutritioned.org
SUMMARY:Leah's Pantry: Food Smarts (Adults)
DESCRIPTION:Interactive\, trauma-informed nutrition lessons that include a food demo and focus on moving your body\, adding more nutrients to your daily eating\, setting realistic health goals\, and meal prepping/grocery shopping on a budget
URL:https://www.floridanutritioned.org/event/leahs-pantry-food-smarts-adults-7/
LOCATION:Providence Church Food Pantry\, 6000 Mariner Blvd\, Spring Hill\, FL\, 34609
END:VEVENT
BEGIN:VEVENT
DTSTART;TZID=America/New_York:20230818T130000
DTEND;TZID=America/New_York:20230818T140000
DTSTAMP:20260423T050543
CREATED:20230731T192359Z
LAST-MODIFIED:20230809T183236Z
UID:10001083-1692363600-1692367200@www.floridanutritioned.org
SUMMARY:My Plate for My Family
DESCRIPTION:My Plate for My Family
URL:https://www.floridanutritioned.org/event/my-plate-for-my-family-18/
LOCATION:Community Cooperative\, 3429 Dr. Martin Luther King Blvd\, Fort Myers\, FL\, 33916
CATEGORIES:Adults and Elders
END:VEVENT
BEGIN:VEVENT
DTSTART;TZID=America/New_York:20230818T133000
DTEND;TZID=America/New_York:20230818T143000
DTSTAMP:20260423T050543
CREATED:20230801T135206Z
LAST-MODIFIED:20230801T135206Z
UID:10001101-1692365400-1692369000@www.floridanutritioned.org
SUMMARY:10 Tips Series A: Proteins
DESCRIPTION:Vary your protein by learning all 10 tips to incorporate a variety of protein in the diet.
URL:https://www.floridanutritioned.org/event/10-tips-series-a-proteins/
LOCATION:Madison Vines Apartments\, 955 Tumblin Kling Rd\, Fort Pierce\, FL\, 34982
CATEGORIES:Adults
END:VEVENT
BEGIN:VEVENT
DTSTART;TZID=America/New_York:20230819T090000
DTEND;TZID=America/New_York:20230819T100000
DTSTAMP:20260423T050543
CREATED:20230815T164054Z
LAST-MODIFIED:20230815T164054Z
UID:10001187-1692435600-1692439200@www.floridanutritioned.org
SUMMARY:MyPlate for My Family: MyPlate My Family Meals
DESCRIPTION:Food Pantry
URL:https://www.floridanutritioned.org/event/myplate-for-my-family-myplate-my-family-meals-3/
LOCATION:540 Town Center\, 540 2nd Ave. South\, St. Petersburg\, FL\, 33701
CATEGORIES:Adults
END:VEVENT
BEGIN:VEVENT
DTSTART;TZID=America/New_York:20230819T100000
DTEND;TZID=America/New_York:20230819T110000
DTSTAMP:20260423T050543
CREATED:20230815T164055Z
LAST-MODIFIED:20230815T164055Z
UID:10001188-1692439200-1692442800@www.floridanutritioned.org
SUMMARY:MyPlate for My Family: MyPlate My Family Meals
DESCRIPTION:Food Pantry
URL:https://www.floridanutritioned.org/event/myplate-for-my-family-myplate-my-family-meals-4/
LOCATION:540 Town Center\, 540 2nd Ave. South\, St. Petersburg\, FL\, 33701
CATEGORIES:Adults
END:VEVENT
BEGIN:VEVENT
DTSTART;TZID=America/New_York:20230819T100000
DTEND;TZID=America/New_York:20230819T110000
DTSTAMP:20260423T050543
CREATED:20230822T174817Z
LAST-MODIFIED:20230822T174817Z
UID:10001228-1692439200-1692442800@www.floridanutritioned.org
SUMMARY:MyPlate MyWins- Eat Healthy on a Budget       Recipe: Fruit Cups
DESCRIPTION:Health Fair
URL:https://www.floridanutritioned.org/event/myplate-mywins-eat-healthy-on-a-budget-recipe-fruit-cups/
LOCATION:The Power of Faith Ministries International\, 6337 SW 27 St\, Miramar\, FL\, 33023
CATEGORIES:Adults Elders and Chlidren
END:VEVENT
BEGIN:VEVENT
DTSTART;TZID=America/New_York:20230819T110000
DTEND;TZID=America/New_York:20230819T120000
DTSTAMP:20260423T050543
CREATED:20230822T174817Z
LAST-MODIFIED:20230822T174817Z
UID:10001229-1692442800-1692446400@www.floridanutritioned.org
SUMMARY:MyPlate MyWins- Eat Healthy on a Budget       Recipe: Fruit Cups
DESCRIPTION:Health Fair
URL:https://www.floridanutritioned.org/event/myplate-mywins-eat-healthy-on-a-budget-recipe-fruit-cups-2/
LOCATION:The Power of Faith Ministries International\, 6337 SW 27 St\, Miramar\, FL\, 33023
CATEGORIES:Adults Elders and Chlidren
END:VEVENT
BEGIN:VEVENT
DTSTART;TZID=America/New_York:20230819T120000
DTEND;TZID=America/New_York:20230819T130000
DTSTAMP:20260423T050543
CREATED:20230822T174817Z
LAST-MODIFIED:20230822T174817Z
UID:10001230-1692446400-1692450000@www.floridanutritioned.org
SUMMARY:MyPlate MyWins- Eat Healthy on a Budget       Recipe: Fruit Cups
DESCRIPTION:Health Fair
URL:https://www.floridanutritioned.org/event/myplate-mywins-eat-healthy-on-a-budget-recipe-fruit-cups-3/
LOCATION:The Power of Faith Ministries International\, 6337 SW 27 St\, Miramar\, FL\, 33023
CATEGORIES:Adults Elders and Chlidren
END:VEVENT
BEGIN:VEVENT
DTSTART;TZID=America/New_York:20230819T130000
DTEND;TZID=America/New_York:20230819T140000
DTSTAMP:20260423T050543
CREATED:20230822T174818Z
LAST-MODIFIED:20230822T174818Z
UID:10001231-1692450000-1692453600@www.floridanutritioned.org
SUMMARY:MyPlate MyWins- Eat Healthy on a Budget       Recipe: Fruit Cups
DESCRIPTION:Health Fair
URL:https://www.floridanutritioned.org/event/myplate-mywins-eat-healthy-on-a-budget-recipe-fruit-cups-4/
LOCATION:The Power of Faith Ministries International\, 6337 SW 27 St\, Miramar\, FL\, 33023
CATEGORIES:Adults Elders and Chlidren
END:VEVENT
BEGIN:VEVENT
DTSTART;TZID=America/New_York:20230821T090000
DTEND;TZID=America/New_York:20230821T120000
DTSTAMP:20260423T050543
CREATED:20230727T163311Z
LAST-MODIFIED:20230802T130420Z
UID:10001035-1692608400-1692619200@www.floridanutritioned.org
SUMMARY:Leah's Pantry : Food Processing
DESCRIPTION:Are all Fats Bad? Is their Good Fats? Does our Body need fat? Come learn the difference between the two and learn new methods of cooking with healthier fats.
URL:https://www.floridanutritioned.org/event/leahs-pantry-food-processing-4/
LOCATION:Osceola Council Of Aging: Poinciana\, 395 Marigold Ave\, Poinciana\, FL\, 34759
CATEGORIES:Adults and Elders
END:VEVENT
BEGIN:VEVENT
DTSTART;TZID=America/New_York:20230821T104500
DTEND;TZID=America/New_York:20230821T114500
DTSTAMP:20260423T050543
CREATED:20230815T164058Z
LAST-MODIFIED:20230815T164058Z
UID:10001190-1692614700-1692618300@www.floridanutritioned.org
SUMMARY:Leah's Pantry: Food Labels part 2
DESCRIPTION:
URL:https://www.floridanutritioned.org/event/leahs-pantry-food-labels-part-2/
LOCATION:Aventura Turnberry Jewish Center\, 20400 NE 30 Ave\, Aventura\, FL\, 33180
CATEGORIES:Adults
END:VEVENT
BEGIN:VEVENT
DTSTART;TZID=America/New_York:20230821T110000
DTEND;TZID=America/New_York:20230821T120000
DTSTAMP:20260423T050543
CREATED:20230726T131941Z
LAST-MODIFIED:20230726T131941Z
UID:10000928-1692615600-1692619200@www.floridanutritioned.org
SUMMARY:Food Smarts “Food Processing”
DESCRIPTION:This class will focus on food marketing and processing. We will also learn how to prepare a new\, healthy recipe!
URL:https://www.floridanutritioned.org/event/food-smarts-food-processing-4/
LOCATION:SWAG Family Resource Center\, 807 SW 64th Terrace\, Gainesville\, FL\, 32607
CATEGORIES:Adults and Elders
END:VEVENT
BEGIN:VEVENT
DTSTART;TZID=America/New_York:20230821T120000
DTEND;TZID=America/New_York:20230821T130000
DTSTAMP:20260423T050543
CREATED:20230801T191422Z
LAST-MODIFIED:20230801T191422Z
UID:10001155-1692619200-1692622800@www.floridanutritioned.org
SUMMARY:Cooking Matters
DESCRIPTION:Week 3 of series.
URL:https://www.floridanutritioned.org/event/cooking-matters-27/
LOCATION:Mothers Helping Mothers\, 5933 N Washington Blvd.\, Sarasota\, FL\, 34243
CATEGORIES:Adults
END:VEVENT
BEGIN:VEVENT
DTSTART;TZID=America/New_York:20230821T130000
DTEND;TZID=America/New_York:20230821T140000
DTSTAMP:20260423T050543
CREATED:20230727T163311Z
LAST-MODIFIED:20230802T122941Z
UID:10001036-1692622800-1692626400@www.floridanutritioned.org
SUMMARY:MyPlate for My Family
DESCRIPTION:Proteins
URL:https://www.floridanutritioned.org/event/leahs-pantry-75/
LOCATION:Buenaventura Lakes (BVL) Library\, 405 Buenaventura Blvd\, Kissimmee\, FL\, 34743
CATEGORIES:Adults
END:VEVENT
BEGIN:VEVENT
DTSTART;TZID=America/New_York:20230821T130000
DTEND;TZID=America/New_York:20230821T140000
DTSTAMP:20260423T050543
CREATED:20230727T182247Z
LAST-MODIFIED:20230727T182247Z
UID:10001068-1692622800-1692626400@www.floridanutritioned.org
SUMMARY:Leah's Pantry - Adult Lesson - 5 weeks
DESCRIPTION:
URL:https://www.floridanutritioned.org/event/leahs-pantry-adult-lesson-5-weeks/
LOCATION:YMCA: Hallandale Beach Family Center\, 501 SE 1st Ave\, Hallandale Beach\, FL\, 33009
CATEGORIES:Elders
END:VEVENT
END:VCALENDAR