BEGIN:VCALENDAR
VERSION:2.0
PRODID:-//Florida Nutrition Education - ECPv6.15.20//NONSGML v1.0//EN
CALSCALE:GREGORIAN
METHOD:PUBLISH
X-ORIGINAL-URL:https://www.floridanutritioned.org
X-WR-CALDESC:Events for Florida Nutrition Education
REFRESH-INTERVAL;VALUE=DURATION:PT1H
X-Robots-Tag:noindex
X-PUBLISHED-TTL:PT1H
BEGIN:VTIMEZONE
TZID:America/New_York
BEGIN:DAYLIGHT
TZOFFSETFROM:-0500
TZOFFSETTO:-0400
TZNAME:EDT
DTSTART:20240310T070000
END:DAYLIGHT
BEGIN:STANDARD
TZOFFSETFROM:-0400
TZOFFSETTO:-0500
TZNAME:EST
DTSTART:20241103T060000
END:STANDARD
BEGIN:DAYLIGHT
TZOFFSETFROM:-0500
TZOFFSETTO:-0400
TZNAME:EDT
DTSTART:20250309T070000
END:DAYLIGHT
BEGIN:STANDARD
TZOFFSETFROM:-0400
TZOFFSETTO:-0500
TZNAME:EST
DTSTART:20251102T060000
END:STANDARD
BEGIN:DAYLIGHT
TZOFFSETFROM:-0500
TZOFFSETTO:-0400
TZNAME:EDT
DTSTART:20260308T070000
END:DAYLIGHT
BEGIN:STANDARD
TZOFFSETFROM:-0400
TZOFFSETTO:-0500
TZNAME:EST
DTSTART:20261101T060000
END:STANDARD
END:VTIMEZONE
BEGIN:VEVENT
DTSTART;TZID=America/New_York:20250507T100000
DTEND;TZID=America/New_York:20250507T110000
DTSTAMP:20260423T045254
CREATED:20250502T122144Z
LAST-MODIFIED:20250502T122144Z
UID:10007057-1746612000-1746615600@www.floridanutritioned.org
SUMMARY:Leah's Pantry\, Food Smarts for Adults: Best Practices for Healthy Living
DESCRIPTION:
URL:https://www.floridanutritioned.org/event/leahs-pantry-food-smarts-for-adults-best-practices-for-healthy-living-7/
LOCATION:Volunteers of America\, 1430 55th Ave West\, Bradenton\, FL\, 343207
END:VEVENT
BEGIN:VEVENT
DTSTART;TZID=America/New_York:20250507T103000
DTEND;TZID=America/New_York:20250507T113000
DTSTAMP:20260423T045254
CREATED:20250501T192008Z
LAST-MODIFIED:20250501T192008Z
UID:10007023-1746613800-1746617400@www.floridanutritioned.org
SUMMARY:Food Processing and Plant Focused Diet
DESCRIPTION:This class is taught with a trauma-inforced curriculum to empower adults\, 18 years and older\, to make holistic health choices
URL:https://www.floridanutritioned.org/event/food-processing-and-plant-focused-diet/
LOCATION:Havana Senior Center\, 705 E 4th Street\, Havana\, FL\, 32333
CATEGORIES:Adults and Elders
END:VEVENT
BEGIN:VEVENT
DTSTART;TZID=America/New_York:20250507T110000
DTEND;TZID=America/New_York:20250507T120000
DTSTAMP:20260423T045254
CREATED:20250502T122145Z
LAST-MODIFIED:20250502T122145Z
UID:10007058-1746615600-1746619200@www.floridanutritioned.org
SUMMARY:10 Tips for Adults: Part 1 (Whole Grains)
DESCRIPTION:
URL:https://www.floridanutritioned.org/event/10-tips-for-adults-part-1-whole-grains-3/
LOCATION:Advent Health Well 65+\, 7866 Gall Boulevard\, Zephyrhills\, FL\, 33541
END:VEVENT
BEGIN:VEVENT
DTSTART;TZID=America/New_York:20250507T110000
DTEND;TZID=America/New_York:20250507T200000
DTSTAMP:20260423T045254
CREATED:20250506T155229Z
LAST-MODIFIED:20250506T155229Z
UID:10007101-1746615600-1746648000@www.floridanutritioned.org
SUMMARY:Cooking Matters-My Plate Your Way
DESCRIPTION:
URL:https://www.floridanutritioned.org/event/cooking-matters-my-plate-your-way/
LOCATION:Pembroke Park Pantry\, 2501 SW 32nd Terrace\, Pembroke Park\, FL\, 33023
CATEGORIES:Adults
END:VEVENT
BEGIN:VEVENT
DTSTART;TZID=America/New_York:20250507T160000
DTEND;TZID=America/New_York:20250507T170000
DTSTAMP:20260423T045254
CREATED:20250430T145344Z
LAST-MODIFIED:20250430T145344Z
UID:10007009-1746633600-1746637200@www.floridanutritioned.org
SUMMARY:Healthy for Life
DESCRIPTION:
URL:https://www.floridanutritioned.org/event/healthy-for-life-124/
LOCATION:Edison Center Branch Library\, 531 NW 62 St\, Miami\, FL\, 33150
CATEGORIES:Adults
END:VEVENT
BEGIN:VEVENT
DTSTART;TZID=America/New_York:20250508T090000
DTEND;TZID=America/New_York:20250508T100000
DTSTAMP:20260423T045254
CREATED:20250505T162235Z
LAST-MODIFIED:20250505T162235Z
UID:10007088-1746694800-1746698400@www.floridanutritioned.org
SUMMARY:Eating a variety of vegetables
DESCRIPTION:Exploring easy ways to add inexpensive vegetables to a variety of meals.
URL:https://www.floridanutritioned.org/event/eating-a-variety-of-vegetables/
LOCATION:Gamble Rodgers Middle School\, 6250 US-1\, St. Augustine\, FL\, 32086
CATEGORIES:Adults,and Children,Elders
END:VEVENT
BEGIN:VEVENT
DTSTART;TZID=America/New_York:20250508T093000
DTEND;TZID=America/New_York:20250508T103000
DTSTAMP:20260423T045254
CREATED:20250430T145345Z
LAST-MODIFIED:20250430T145345Z
UID:10007010-1746696600-1746700200@www.floridanutritioned.org
SUMMARY:Healthy for Life
DESCRIPTION:
URL:https://www.floridanutritioned.org/event/healthy-for-life-125/
LOCATION:NE Transportation- Rebuilding Me\, 5901 NW 27 Ave\, Miami\, FL\, 33142
CATEGORIES:Adults
END:VEVENT
BEGIN:VEVENT
DTSTART;TZID=America/New_York:20250508T103000
DTEND;TZID=America/New_York:20250508T113000
DTSTAMP:20260423T045254
CREATED:20250502T122207Z
LAST-MODIFIED:20250502T122207Z
UID:10007076-1746700200-1746703800@www.floridanutritioned.org
SUMMARY:Leah's Pantry\, Waste Reduction for Adults: Food Safety and Storage
DESCRIPTION:Senior Center
URL:https://www.floridanutritioned.org/event/leahs-pantry-waste-reduction-for-adults-food-safety-and-storage-2/
LOCATION:Neighborhood Service Center\, 608 Ave S NE\, Winter Haven\, FL\, 33881
END:VEVENT
BEGIN:VEVENT
DTSTART;TZID=America/New_York:20250508T120000
DTEND;TZID=America/New_York:20250508T130000
DTSTAMP:20260423T045254
CREATED:20250428T133003Z
LAST-MODIFIED:20250428T133003Z
UID:10006974-1746705600-1746709200@www.floridanutritioned.org
SUMMARY:Sodium and Healthy Blood Pressure
DESCRIPTION:Come learn all about salt and its benefits (and non-benefits) for our health. Learn cooking tricks to help reduce the use of salt in your meals.
URL:https://www.floridanutritioned.org/event/sodium-and-healthy-blood-pressure-2/
LOCATION:West Osceola Library\, 305 Campus Street\, Kissimmee\, FL\, 34747
CATEGORIES:Adults and Elders
END:VEVENT
BEGIN:VEVENT
DTSTART;TZID=America/New_York:20250508T120000
DTEND;TZID=America/New_York:20250508T130000
DTSTAMP:20260423T045254
CREATED:20250428T163415Z
LAST-MODIFIED:20250428T163415Z
UID:10006994-1746705600-1746709200@www.floridanutritioned.org
SUMMARY:Food Smarts: Know Your Serving Size
DESCRIPTION:Identify how much is in a serving size and how to make thoughtful decisions about food portions.
URL:https://www.floridanutritioned.org/event/food-smarts-know-your-serving-size-3/
LOCATION:Fort Myers YMCA\, 1360 Royal Palm Square Blvd\, Fort Myers\, FL\, 33919
CATEGORIES:Adults
END:VEVENT
BEGIN:VEVENT
DTSTART;TZID=America/New_York:20250508T130000
DTEND;TZID=America/New_York:20250508T140000
DTSTAMP:20260423T045254
CREATED:20250430T145345Z
LAST-MODIFIED:20250430T145345Z
UID:10007011-1746709200-1746712800@www.floridanutritioned.org
SUMMARY:Healthy for Life
DESCRIPTION:
URL:https://www.floridanutritioned.org/event/healthy-for-life-126/
LOCATION:Hialeah Gardens Branch Library\, 13451 NW 107 Ave\, Hialeah Gardens\, FL\, 33018
CATEGORIES:Adults
END:VEVENT
BEGIN:VEVENT
DTSTART;TZID=America/New_York:20250509T080000
DTEND;TZID=America/New_York:20250509T090000
DTSTAMP:20260423T045254
CREATED:20250501T192009Z
LAST-MODIFIED:20250501T192009Z
UID:10007025-1746777600-1746781200@www.floridanutritioned.org
SUMMARY:Know What You're Eating
DESCRIPTION:This class is taught with a trauma-inforced curriculum to empower adults\, 18 years and older\, to make holistic health choices
URL:https://www.floridanutritioned.org/event/know-what-youre-eating-9/
LOCATION:Sopchoppy Church Mobile FM Transmitter\, 83 Sheldon Street\, Sopchoppy\, FL\, 32358
CATEGORIES:Adults and Elders
END:VEVENT
BEGIN:VEVENT
DTSTART;TZID=America/New_York:20250509T090000
DTEND;TZID=America/New_York:20250509T100000
DTSTAMP:20260423T045254
CREATED:20250505T162235Z
LAST-MODIFIED:20250505T162235Z
UID:10007089-1746781200-1746784800@www.floridanutritioned.org
SUMMARY:Eating a variety of vegetables
DESCRIPTION:Exploring easy ways to add inexpensive vegetables to a variety of meals.
URL:https://www.floridanutritioned.org/event/eating-a-variety-of-vegetables-2/
LOCATION:The Refuge\, 614 N 18th St\, Palatka\, FL\, 32177
CATEGORIES:Adults,and Children,Elders
END:VEVENT
BEGIN:VEVENT
DTSTART;TZID=America/New_York:20250509T100000
DTEND;TZID=America/New_York:20250509T110000
DTSTAMP:20260423T045254
CREATED:20250428T133004Z
LAST-MODIFIED:20250428T133004Z
UID:10006978-1746784800-1746788400@www.floridanutritioned.org
SUMMARY:Diabetes - Know Your Risk
DESCRIPTION:Come learn all about how to pick lower sugar products\, as well as how to choose healthier snacks for your family\, while staying within budget and not spending too much time.
URL:https://www.floridanutritioned.org/event/diabetes-know-your-risk/
LOCATION:Advance Community Center\, 1209 E Donegan Avenue\, Kissimmee\, FL\, 34744
CATEGORIES:Adults and Elders
END:VEVENT
BEGIN:VEVENT
DTSTART;TZID=America/New_York:20250509T100000
DTEND;TZID=America/New_York:20250509T110000
DTSTAMP:20260423T045254
CREATED:20250428T163415Z
LAST-MODIFIED:20250428T163415Z
UID:10006995-1746784800-1746788400@www.floridanutritioned.org
SUMMARY:Food Smarts: Know Your Serving Size
DESCRIPTION:Identify how much is in a serving size and how to make thoughtful decisions about food portions.
URL:https://www.floridanutritioned.org/event/food-smarts-know-your-serving-size-4/
LOCATION:Charlotte Towers\, 2295 Aaron St\, Port Charlotte\, FL\, 33952
CATEGORIES:Elders
END:VEVENT
BEGIN:VEVENT
DTSTART;TZID=America/New_York:20250509T103000
DTEND;TZID=America/New_York:20250509T113000
DTSTAMP:20260423T045254
CREATED:20250501T192934Z
LAST-MODIFIED:20250501T192934Z
UID:10007039-1746786600-1746790200@www.floridanutritioned.org
SUMMARY:Better Beverage Choices for Every Body
DESCRIPTION:Learn about the nutritional value in various drinks and the benefits of drinking more water
URL:https://www.floridanutritioned.org/event/better-beverage-choices-for-every-body-2/
LOCATION:First Baptist Church of Hobe Sound\, 8515 SE Church St\, Hobe Sound\, FL\, 33455
CATEGORIES:Adults and Elders
END:VEVENT
BEGIN:VEVENT
DTSTART;TZID=America/New_York:20250509T110000
DTEND;TZID=America/New_York:20250509T120000
DTSTAMP:20260423T045254
CREATED:20250505T162231Z
LAST-MODIFIED:20250505T162231Z
UID:10007083-1746788400-1746792000@www.floridanutritioned.org
SUMMARY:Shifting to Healthier Choices
DESCRIPTION:How to identify areas we can improve our eating and snacking habits throughout the day
URL:https://www.floridanutritioned.org/event/shifting-to-healthier-choices-7/
LOCATION:COA Baker\, 5426 Willis Hodges Rd.\, Macclenny\, FL\, 32063
CATEGORIES:Adults and Elders
END:VEVENT
BEGIN:VEVENT
DTSTART;TZID=America/New_York:20250510T090000
DTEND;TZID=America/New_York:20250510T100000
DTSTAMP:20260423T045254
CREATED:20250430T145341Z
LAST-MODIFIED:20250430T145341Z
UID:10007005-1746867600-1746871200@www.floridanutritioned.org
SUMMARY:Cooking Matters
DESCRIPTION:
URL:https://www.floridanutritioned.org/event/cooking-matters-85/
LOCATION:Light of the World Clinic\, 5333 W Dixie Hwy\, Oakland Park\, FL\, 33334
CATEGORIES:Adults and Elders
END:VEVENT
BEGIN:VEVENT
DTSTART;TZID=America/New_York:20250510T090000
DTEND;TZID=America/New_York:20250510T100000
DTSTAMP:20260423T045254
CREATED:20250505T162235Z
LAST-MODIFIED:20250505T162235Z
UID:10007090-1746867600-1746871200@www.floridanutritioned.org
SUMMARY:Eating a variety of vegetables
DESCRIPTION:Exploring easy ways to add inexpensive vegetables to a variety of meals.
URL:https://www.floridanutritioned.org/event/eating-a-variety-of-vegetables-3/
LOCATION:Primera Iglesia Palm Coast\, 5500 Belle Terre Pkwy\, Palm Coast\, FL\, 32137
CATEGORIES:Adults,and Children,Elders
END:VEVENT
BEGIN:VEVENT
DTSTART;TZID=America/New_York:20250510T100000
DTEND;TZID=America/New_York:20250510T110000
DTSTAMP:20260423T045254
CREATED:20250423T185952Z
LAST-MODIFIED:20250423T185952Z
UID:10006945-1746871200-1746874800@www.floridanutritioned.org
SUMMARY:Make Every Bite Count with the Dietary Guidelines for Americans
DESCRIPTION:
URL:https://www.floridanutritioned.org/event/make-every-bite-count-with-the-dietary-guidelines-for-americans/
LOCATION:Jackson Health System\, 8900 SW 168 St\, Miami\, FL\, 33157
CATEGORIES:Adults
END:VEVENT
BEGIN:VEVENT
DTSTART;TZID=America/New_York:20250510T100000
DTEND;TZID=America/New_York:20250510T110000
DTSTAMP:20260423T045254
CREATED:20250430T145341Z
LAST-MODIFIED:20250430T145341Z
UID:10007006-1746871200-1746874800@www.floridanutritioned.org
SUMMARY:Cooking Matters
DESCRIPTION:
URL:https://www.floridanutritioned.org/event/cooking-matters-86/
LOCATION:Light of the World Clinic\, 5333 W Dixie Hwy\, Oakland Park\, FL\, 33334
CATEGORIES:Adults and Elders
END:VEVENT
BEGIN:VEVENT
DTSTART;TZID=America/New_York:20250510T110000
DTEND;TZID=America/New_York:20250510T120000
DTSTAMP:20260423T045254
CREATED:20250423T185952Z
LAST-MODIFIED:20250423T185952Z
UID:10006946-1746874800-1746878400@www.floridanutritioned.org
SUMMARY:Make Every Bite Count with the Dietary Guidelines for Americans
DESCRIPTION:
URL:https://www.floridanutritioned.org/event/make-every-bite-count-with-the-dietary-guidelines-for-americans-2/
LOCATION:Jackson Health System\, 8900 SW 168 St\, Miami\, FL\, 33157
CATEGORIES:Adults
END:VEVENT
BEGIN:VEVENT
DTSTART;TZID=America/New_York:20250510T110000
DTEND;TZID=America/New_York:20250510T120000
DTSTAMP:20260423T045254
CREATED:20250506T155232Z
LAST-MODIFIED:20250506T155232Z
UID:10007102-1746874800-1746878400@www.floridanutritioned.org
SUMMARY:Healthy for Life
DESCRIPTION:
URL:https://www.floridanutritioned.org/event/healthy-for-life-127/
LOCATION:The Nubian Sisterhood\, 5120 NW 24 Ave\, Miami\, FL\, 33142
CATEGORIES:Adults
END:VEVENT
BEGIN:VEVENT
DTSTART;TZID=America/New_York:20250510T120000
DTEND;TZID=America/New_York:20250510T130000
DTSTAMP:20260423T045254
CREATED:20250423T185952Z
LAST-MODIFIED:20250423T185952Z
UID:10006947-1746878400-1746882000@www.floridanutritioned.org
SUMMARY:Make Every Bite Count with the Dietary Guidelines for Americans
DESCRIPTION:
URL:https://www.floridanutritioned.org/event/make-every-bite-count-with-the-dietary-guidelines-for-americans-3/
LOCATION:Jackson Health System\, 8900 SW 168 St\, Miami\, FL\, 33157
CATEGORIES:Adults
END:VEVENT
BEGIN:VEVENT
DTSTART;TZID=America/New_York:20250510T130000
DTEND;TZID=America/New_York:20250510T140000
DTSTAMP:20260423T045254
CREATED:20250423T185953Z
LAST-MODIFIED:20250423T185953Z
UID:10006948-1746882000-1746885600@www.floridanutritioned.org
SUMMARY:Make Every Bite Count with the Dietary Guidelines for Americans
DESCRIPTION:
URL:https://www.floridanutritioned.org/event/make-every-bite-count-with-the-dietary-guidelines-for-americans-4/
LOCATION:Jackson Health System\, 8900 SW 168 St\, Miami\, FL\, 33157
CATEGORIES:Adults
END:VEVENT
BEGIN:VEVENT
DTSTART;TZID=America/New_York:20250512T080000
DTEND;TZID=America/New_York:20250512T090000
DTSTAMP:20260423T045254
CREATED:20250501T192009Z
LAST-MODIFIED:20250501T192009Z
UID:10007026-1747036800-1747040400@www.floridanutritioned.org
SUMMARY:Know What You're Eating
DESCRIPTION:This class is taught with a trauma-inforced curriculum to empower adults\, 18 years and older\, to make holistic health choices
URL:https://www.floridanutritioned.org/event/know-what-youre-eating-10/
LOCATION:St. Paul AME Church Mobile FM Transmitter\, 5180 Fl-273\, Campbellton\, FL\, 32426
CATEGORIES:Adults and Elders
END:VEVENT
BEGIN:VEVENT
DTSTART;TZID=America/New_York:20250512T090000
DTEND;TZID=America/New_York:20250512T100000
DTSTAMP:20260423T045254
CREATED:20250502T122139Z
LAST-MODIFIED:20250502T122139Z
UID:10007053-1747040400-1747044000@www.floridanutritioned.org
SUMMARY:Leah's Pantry\, Food Smarts for Adults: Understanding Labels and Ingredients
DESCRIPTION:
URL:https://www.floridanutritioned.org/event/leahs-pantry-food-smarts-for-adults-understanding-labels-and-ingredients-10/
LOCATION:S’Well at Causeway Center\, 3624 Causeway Blvd\, Tampa\, FL\, 33619
END:VEVENT
BEGIN:VEVENT
DTSTART;TZID=America/New_York:20250512T094500
DTEND;TZID=America/New_York:20250512T104500
DTSTAMP:20260423T045254
CREATED:20250501T192934Z
LAST-MODIFIED:20250501T192934Z
UID:10007040-1747043100-1747046700@www.floridanutritioned.org
SUMMARY:Breakfast Made Easy
DESCRIPTION:Learn about the health benefits of eating a nutritious breakfast
URL:https://www.floridanutritioned.org/event/breakfast-made-easy-2/
LOCATION:Okeechobee Senior Services\, 1690 NW 9th Ave.\, Okeechobee\, FL\, 34972
CATEGORIES:Adults and Elders
END:VEVENT
BEGIN:VEVENT
DTSTART;TZID=America/New_York:20250512T103000
DTEND;TZID=America/New_York:20250512T113000
DTSTAMP:20260423T045254
CREATED:20250428T163415Z
LAST-MODIFIED:20250428T163415Z
UID:10006996-1747045800-1747049400@www.floridanutritioned.org
SUMMARY:MyPlate for My Family: Vary Your Protein Routine
DESCRIPTION:Participants will learn to select different types of protein during the week.
URL:https://www.floridanutritioned.org/event/myplate-for-my-family-vary-your-protein-routine/
LOCATION:Renaissance Preserve\, 4221 Othello Lane\, Fort Myers\, FL\, 33916
CATEGORIES:Elders
END:VEVENT
BEGIN:VEVENT
DTSTART;TZID=America/New_York:20250512T110000
DTEND;TZID=America/New_York:20250512T130000
DTSTAMP:20260423T045254
CREATED:20250428T132632Z
LAST-MODIFIED:20250428T132632Z
UID:10006956-1747047600-1747054800@www.floridanutritioned.org
SUMMARY:Know Your Fats
DESCRIPTION:Low fat diets are some of the most popular ones for a lot of reasons. But are fats really the enemy in the battle for good health? Join us as we discuss beneficial fats vs unhealthy ones and learn to tell which foods have the better fats.
URL:https://www.floridanutritioned.org/event/know-your-fats/
LOCATION:Central Brevard Sharing Center\, 113 Aurora Street\, Cocoa\, FL\, 32922
CATEGORIES:Adults and Children
END:VEVENT
END:VCALENDAR