BEGIN:VCALENDAR
VERSION:2.0
PRODID:-//Florida Nutrition Education - ECPv6.15.20//NONSGML v1.0//EN
CALSCALE:GREGORIAN
METHOD:PUBLISH
X-WR-CALNAME:Florida Nutrition Education
X-ORIGINAL-URL:https://www.floridanutritioned.org
X-WR-CALDESC:Events for Florida Nutrition Education
REFRESH-INTERVAL;VALUE=DURATION:PT1H
X-Robots-Tag:noindex
X-PUBLISHED-TTL:PT1H
BEGIN:VTIMEZONE
TZID:America/New_York
BEGIN:DAYLIGHT
TZOFFSETFROM:-0500
TZOFFSETTO:-0400
TZNAME:EDT
DTSTART:20230312T070000
END:DAYLIGHT
BEGIN:STANDARD
TZOFFSETFROM:-0400
TZOFFSETTO:-0500
TZNAME:EST
DTSTART:20231105T060000
END:STANDARD
BEGIN:DAYLIGHT
TZOFFSETFROM:-0500
TZOFFSETTO:-0400
TZNAME:EDT
DTSTART:20240310T070000
END:DAYLIGHT
BEGIN:STANDARD
TZOFFSETFROM:-0400
TZOFFSETTO:-0500
TZNAME:EST
DTSTART:20241103T060000
END:STANDARD
BEGIN:DAYLIGHT
TZOFFSETFROM:-0500
TZOFFSETTO:-0400
TZNAME:EDT
DTSTART:20250309T070000
END:DAYLIGHT
BEGIN:STANDARD
TZOFFSETFROM:-0400
TZOFFSETTO:-0500
TZNAME:EST
DTSTART:20251102T060000
END:STANDARD
END:VTIMEZONE
BEGIN:VEVENT
DTSTART;TZID=America/New_York:20240708T103000
DTEND;TZID=America/New_York:20240708T113000
DTSTAMP:20260421T093235
CREATED:20240626T194035Z
LAST-MODIFIED:20240626T194035Z
UID:10004569-1720434600-1720438200@www.floridanutritioned.org
SUMMARY:Food Smarts: Eating out and Staying Healthy
DESCRIPTION:Participants will identify strategies for healthier decision-making when eating out.
URL:https://www.floridanutritioned.org/event/food-smarts-eating-out-and-staying-healthy-2/
LOCATION:Royal Palm Apartments\, 2424 Edwards Dr\, Fort Myers\, FL\, 33901
CATEGORIES:Elders
END:VEVENT
BEGIN:VEVENT
DTSTART;TZID=America/New_York:20240708T103000
DTEND;TZID=America/New_York:20240708T113000
DTSTAMP:20260421T093235
CREATED:20240626T192013Z
LAST-MODIFIED:20240626T192013Z
UID:10004528-1720434600-1720438200@www.floridanutritioned.org
SUMMARY:Healthy for Life
DESCRIPTION:Designed to change relationships with food and nutrition by inspiring individuals and families to make healthy food choices part of their everyday lives
URL:https://www.floridanutritioned.org/event/healthy-for-life-2/
LOCATION:Zephyrhills Senior Center\, 5855 16th St\, Zephyrhills\, FL\, 33542
CATEGORIES:Elders
END:VEVENT
BEGIN:VEVENT
DTSTART;TZID=America/New_York:20240708T103000
DTEND;TZID=America/New_York:20240708T111500
DTSTAMP:20260421T093235
CREATED:20240626T170854Z
LAST-MODIFIED:20240626T170854Z
UID:10004476-1720434600-1720437300@www.floridanutritioned.org
SUMMARY:Leah's Pantry: Understanding Labels and Ingredients
DESCRIPTION:Participants will learn how to select products and ingredients using information found on the packaging.\, as well as how to identify and discuss the meanings of common word and terms used on labels.  They will also review the key parts of a nutrition label\, and then analyze and compare the different terms that are used on labels.
URL:https://www.floridanutritioned.org/event/leahs-pantry-understanding-labels-and-ingredients-31/
LOCATION:Central Florida Hope Center\, 1010 South Dillard Street\, Winter Garden\, FL\, 34787
CATEGORIES:Adults and Elders
END:VEVENT
BEGIN:VEVENT
DTSTART;TZID=America/New_York:20240708T090000
DTEND;TZID=America/New_York:20240708T100000
DTSTAMP:20260421T093235
CREATED:20240709T150649Z
LAST-MODIFIED:20240709T150649Z
UID:10004776-1720429200-1720432800@www.floridanutritioned.org
SUMMARY:Eat Smart\, Live Strong
DESCRIPTION:Week 1: Participants will set goals for eating more fruits and vegetables and being more physically active.
URL:https://www.floridanutritioned.org/event/eat-smart-live-strong-217/
LOCATION:Senior Friendship Center\, 2350 Scenic Dr.\, Venice\, FL\, 34293
CATEGORIES:Elders
END:VEVENT
BEGIN:VEVENT
DTSTART;TZID=America/New_York:20240704T121500
DTEND;TZID=America/New_York:20240704T130000
DTSTAMP:20260421T093235
CREATED:20240628T124344Z
LAST-MODIFIED:20240628T124344Z
UID:10004681-1720095300-1720098000@www.floridanutritioned.org
SUMMARY:Food Smarts with Feeding the Gulf Coast
DESCRIPTION:Feeding the Gulf Coast is helping our community learn about nutrition. This program is all about making learning fun and respectful. We believe that when learning is enjoyable and sensitive to people’s feelings and experiences\, it can help us make better choices about what we eat. Let’s learn together!
URL:https://www.floridanutritioned.org/event/food-smarts-with-feeding-the-gulf-coast-65/
LOCATION:Project Hope\, 3691 US-90 E\, Crestview\, FL\, 32539
CATEGORIES:Adults
END:VEVENT
BEGIN:VEVENT
DTSTART;TZID=America/New_York:20240703T153000
DTEND;TZID=America/New_York:20240703T163000
DTSTAMP:20260421T093235
CREATED:20240627T184958Z
LAST-MODIFIED:20240627T184958Z
UID:10004635-1720020600-1720024200@www.floridanutritioned.org
SUMMARY:10 Tips: Smart Shopping for Veggies and Fruits
DESCRIPTION:
URL:https://www.floridanutritioned.org/event/10-tips-smart-shopping-for-veggies-and-fruits-6/
LOCATION:American Legion Post 199\, 1020 11th St\, West Palm Beach\, FL\, 33401
CATEGORIES:Adults and Elders
END:VEVENT
BEGIN:VEVENT
DTSTART;TZID=America/New_York:20240703T150000
DTEND;TZID=America/New_York:20240703T160000
DTSTAMP:20260421T093235
CREATED:20240702T161202Z
LAST-MODIFIED:20240702T161202Z
UID:10004763-1720018800-1720022400@www.floridanutritioned.org
SUMMARY:Leah's Pantry: Weight and Body Size
DESCRIPTION:
URL:https://www.floridanutritioned.org/event/leahs-pantry-weight-and-body-size-4/
LOCATION:Little River Public Library\, 160 NE 79 St\, Miami\, FL\, 33138
END:VEVENT
BEGIN:VEVENT
DTSTART;TZID=America/New_York:20240703T143000
DTEND;TZID=America/New_York:20240703T153000
DTSTAMP:20260421T093235
CREATED:20240627T184957Z
LAST-MODIFIED:20240627T184957Z
UID:10004634-1720017000-1720020600@www.floridanutritioned.org
SUMMARY:10 Tips: Smart Shopping for Veggies and Fruits
DESCRIPTION:
URL:https://www.floridanutritioned.org/event/10-tips-smart-shopping-for-veggies-and-fruits-5/
LOCATION:American Legion Post 199\, 1020 11th St\, West Palm Beach\, FL\, 33401
CATEGORIES:Adults and Elders
END:VEVENT
BEGIN:VEVENT
DTSTART;TZID=America/New_York:20240703T140000
DTEND;TZID=America/New_York:20240703T150000
DTSTAMP:20260421T093235
CREATED:20240626T194035Z
LAST-MODIFIED:20240626T194035Z
UID:10004568-1720015200-1720018800@www.floridanutritioned.org
SUMMARY:Cooking Matters: Hack Your Snack
DESCRIPTION:Parents and caregivers will gain confidence to make choices about snacks.
URL:https://www.floridanutritioned.org/event/cooking-matters-hack-your-snack/
LOCATION:Bonita Springs Public Library\, 10560 Reynolds St\, Bonita Springs\, FL\, 34135
CATEGORIES:Adults
END:VEVENT
BEGIN:VEVENT
DTSTART;TZID=America/New_York:20240703T140000
DTEND;TZID=America/New_York:20240703T143000
DTSTAMP:20260421T093235
CREATED:20240626T170854Z
LAST-MODIFIED:20240626T170854Z
UID:10004475-1720015200-1720017000@www.floridanutritioned.org
SUMMARY:MyPlate: Whole Grains
DESCRIPTION:Whole Grains: Eating whole grains as part of a healthy diet may reduce the risk of getting heart disease. Eating whole grain foods that have fiber\, as part of an overall healthy diet\, can support healthy digestion. Eating whole grains\, as part of an overall healthy diet\, may help with weight management.
URL:https://www.floridanutritioned.org/event/myplate-whole-grains-3/
LOCATION:Brookdale Conway Assisted Living\, 5501 E Michigan Street\, Orlando\, FL\, 32822
CATEGORIES:Elders
END:VEVENT
BEGIN:VEVENT
DTSTART;TZID=America/New_York:20240703T133000
DTEND;TZID=America/New_York:20240703T143000
DTSTAMP:20260421T093235
CREATED:20240627T184957Z
LAST-MODIFIED:20240627T184957Z
UID:10004633-1720013400-1720017000@www.floridanutritioned.org
SUMMARY:10 Tips: Smart Shopping for Veggies and Fruits
DESCRIPTION:
URL:https://www.floridanutritioned.org/event/10-tips-smart-shopping-for-veggies-and-fruits-4/
LOCATION:American Legion Post 199\, 1020 11th St\, West Palm Beach\, FL\, 33401
CATEGORIES:Adults and Elders
END:VEVENT
BEGIN:VEVENT
DTSTART;TZID=America/New_York:20240703T133000
DTEND;TZID=America/New_York:20240703T143000
DTSTAMP:20260421T093235
CREATED:20240627T184000Z
LAST-MODIFIED:20240627T184000Z
UID:10004605-1720013400-1720017000@www.floridanutritioned.org
SUMMARY:Start Simple with MyPlate: Vary Your Protein Routine             Recipe: Beef & Potatoes
DESCRIPTION:
URL:https://www.floridanutritioned.org/event/start-simple-with-myplate-vary-your-protein-routine-recipe-beef-potatoes/
LOCATION:Federation Towers\, 757 West Ave\, Miami Beach\, FL\, 33139\, Miami\, FL\, 33139
CATEGORIES:Elders
END:VEVENT
BEGIN:VEVENT
DTSTART;TZID=America/New_York:20240703T130000
DTEND;TZID=America/New_York:20240703T140000
DTSTAMP:20260421T093235
CREATED:20240701T183323Z
LAST-MODIFIED:20240701T183323Z
UID:10004705-1720011600-1720015200@www.floridanutritioned.org
SUMMARY:10 Tips - Got Your Dairy Today? - Session 4
DESCRIPTION:To teach participants how to incorporate dairy into their daily diet and discuss its benefits.
URL:https://www.floridanutritioned.org/event/10-tips-got-your-dairy-today-session-4/
LOCATION:Good News Missionary Baptist Church (Florida Blue Center)\, 510 N 9th St.\, Fort Pierce\, FL\, 34950
CATEGORIES:Adults and Elders
END:VEVENT
BEGIN:VEVENT
DTSTART;TZID=America/New_York:20240703T124500
DTEND;TZID=America/New_York:20240703T133000
DTSTAMP:20260421T093235
CREATED:20240626T192620Z
LAST-MODIFIED:20240626T192620Z
UID:10004556-1720010700-1720013400@www.floridanutritioned.org
SUMMARY:10 Tips for Adults
DESCRIPTION:Intervention designed to help individuals increase fruit and vegetable consumption\, physical activity\, water intake\, and provide SNAP-Ed adults with the skills to purchase healthy foods on a budget.
URL:https://www.floridanutritioned.org/event/10-tips-for-adults-272/
LOCATION:Pinellas Empowerment Center\, 6330 54th Ave North\, St. Petersburg\, FL\, 33709
CATEGORIES:Adults
END:VEVENT
BEGIN:VEVENT
DTSTART;TZID=America/New_York:20240703T123000
DTEND;TZID=America/New_York:20240703T133000
DTSTAMP:20260421T093235
CREATED:20240626T194032Z
LAST-MODIFIED:20240626T194032Z
UID:10004567-1720009800-1720013400@www.floridanutritioned.org
SUMMARY:Food Smarts: Gut Health
DESCRIPTION:Participants will learn about different foods to eat that can help their gut and digestive system as well as the benefits of having a healthy gut microbiome.
URL:https://www.floridanutritioned.org/event/food-smarts-gut-health/
LOCATION:Goodwill Industries of SWFL\, 3226 Del Prado Blvd S\, Cape Coral\, FL\, 33904
CATEGORIES:Adults
END:VEVENT
BEGIN:VEVENT
DTSTART;TZID=America/New_York:20240703T113000
DTEND;TZID=America/New_York:20240703T123000
DTSTAMP:20260421T093235
CREATED:20240626T194032Z
LAST-MODIFIED:20240626T194032Z
UID:10004566-1720006200-1720009800@www.floridanutritioned.org
SUMMARY:Cooking Matters: Making Meals with Fruits\, Vegetables\, and Whole Grains
DESCRIPTION:We will be planning\, purchasing\, and preparing meals for families.
URL:https://www.floridanutritioned.org/event/cooking-matters-making-meals-with-fruits-vegetables-and-whole-grains-4/
LOCATION:Providence Family Life Center\, 3592 Broadway\, Fort Myers\, FL\, 33901
CATEGORIES:Adults and Elders
END:VEVENT
BEGIN:VEVENT
DTSTART;TZID=America/New_York:20240703T103000
DTEND;TZID=America/New_York:20240703T113000
DTSTAMP:20260421T093235
CREATED:20240701T120206Z
LAST-MODIFIED:20240701T120206Z
UID:10004689-1720002600-1720006200@www.floridanutritioned.org
SUMMARY:Food Smarts - Leah's Pantry
DESCRIPTION:This class is taught with a trauma- inforced curriculum to empower adults\, 18 years and older\, to make holistic health choices.
URL:https://www.floridanutritioned.org/event/food-smarts-leahs-pantry-35/
LOCATION:Chattahoochee Senior Center\, 680 Maple Street\, Chattahoochee\, FL\, 32324
CATEGORIES:Adults and Elders
END:VEVENT
BEGIN:VEVENT
DTSTART;TZID=America/New_York:20240703T103000
DTEND;TZID=America/New_York:20240703T113000
DTSTAMP:20260421T093235
CREATED:20240626T192012Z
LAST-MODIFIED:20240626T192012Z
UID:10004527-1720002600-1720006200@www.floridanutritioned.org
SUMMARY:Leah's Pantry: Food Smarts (Adults)
DESCRIPTION:Interactive\, trauma-informed nutrition lessons that include a food demo and focus on moving your body\, adding more nutrients to your daily eating\, setting realistic health goals\, and meal prepping/grocery shopping on a budget
URL:https://www.floridanutritioned.org/event/leahs-pantry-food-smarts-adults-112/
LOCATION:Pasco Terrace\, 11801 Pasco Terrace Ct\, Port Richey\, FL\, 34668
CATEGORIES:Elders
END:VEVENT
BEGIN:VEVENT
DTSTART;TZID=America/New_York:20240703T103000
DTEND;TZID=America/New_York:20240703T110000
DTSTAMP:20260421T093235
CREATED:20240626T165550Z
LAST-MODIFIED:20240626T165550Z
UID:10004453-1720002600-1720004400@www.floridanutritioned.org
SUMMARY:Leah's Pantry: Fuel Your Brain
DESCRIPTION:Did you know that what you eat affects your brain? Join us at this class to learn some easy ways to fuel your brain.
URL:https://www.floridanutritioned.org/event/leahs-pantry-fuel-your-brain-3/
LOCATION:St. James A.M.E. Church\, 625 Dummitt Avenue\, Titusville\, FL\, 32796
CATEGORIES:Elders
END:VEVENT
BEGIN:VEVENT
DTSTART;TZID=America/New_York:20240703T100000
DTEND;TZID=America/New_York:20240703T110000
DTSTAMP:20260421T093235
CREATED:20240626T194032Z
LAST-MODIFIED:20240626T194032Z
UID:10004565-1720000800-1720004400@www.floridanutritioned.org
SUMMARY:10 Tips for Adults: Plan Meals Ahead
DESCRIPTION:Introduce participants to tools they can use to plan ahead and build healthy meals at home.
URL:https://www.floridanutritioned.org/event/10-tips-for-adults-plan-meals-ahead-3/
LOCATION:Hope Connections Labelle\, 475 E Cowboy Way\, La Belle\, FL\, 33935
CATEGORIES:Elders
END:VEVENT
BEGIN:VEVENT
DTSTART;TZID=America/New_York:20240703T090000
DTEND;TZID=America/New_York:20240703T110000
DTSTAMP:20260421T093235
CREATED:20240702T161203Z
LAST-MODIFIED:20240702T161203Z
UID:10004766-1719997200-1720004400@www.floridanutritioned.org
SUMMARY:Leah's Pantry
DESCRIPTION:
URL:https://www.floridanutritioned.org/event/leahs-pantry-268/
LOCATION:Pompano Prenatal\, 601 W Atlantic Blvd\, Broward\, FL\, 33060
END:VEVENT
BEGIN:VEVENT
DTSTART;TZID=America/New_York:20240702T150000
DTEND;TZID=America/New_York:20240702T160000
DTSTAMP:20260421T093235
CREATED:20240723T185840Z
LAST-MODIFIED:20240723T185840Z
UID:10004803-1719932400-1719936000@www.floridanutritioned.org
SUMMARY:Leah's Pantry: MyPlate + Food Processing
DESCRIPTION:
URL:https://www.floridanutritioned.org/event/leahs-pantry-myplate-food-processing-11/
LOCATION:Chapman Partnership\, 28205 SW 124th Ct.\, Homestead\, FL\, 33033
CATEGORIES:Adult
END:VEVENT
BEGIN:VEVENT
DTSTART;TZID=America/New_York:20240702T133000
DTEND;TZID=America/New_York:20240702T140000
DTSTAMP:20260421T093235
CREATED:20240626T170853Z
LAST-MODIFIED:20240626T170853Z
UID:10004474-1719927000-1719928800@www.floridanutritioned.org
SUMMARY:MyPlate: Physical Activity
DESCRIPTION:Physical Activty: Regular physical activity is one of the most important things people can do to improve their health. Moving more and sitting less have tremendous benefits for everyone\, regardless of age\, sex\, race\, ethnicity\, or current fitness level.
URL:https://www.floridanutritioned.org/event/myplate-physical-activity-2/
LOCATION:Calvary Towers\, 1099 Clay Street\, Winter Park\, FL\, 32789
CATEGORIES:Elders
END:VEVENT
BEGIN:VEVENT
DTSTART;TZID=America/New_York:20240702T130000
DTEND;TZID=America/New_York:20240702T170000
DTSTAMP:20260421T093235
CREATED:20240627T185404Z
LAST-MODIFIED:20240627T185404Z
UID:10004676-1719925200-1719939600@www.floridanutritioned.org
SUMMARY:Spend Smart Eat Smart: How to Organize your Refrigerator
DESCRIPTION:
URL:https://www.floridanutritioned.org/event/spend-smart-eat-smart-how-to-organize-your-refrigerator-6/
LOCATION:FSF Client Choice Pantry\, 2501 SW 32 Terr\, Pembroke Park\, FL\, 33023
END:VEVENT
BEGIN:VEVENT
DTSTART;TZID=America/New_York:20240702T130000
DTEND;TZID=America/New_York:20240702T140000
DTSTAMP:20260421T093235
CREATED:20240627T184201Z
LAST-MODIFIED:20240627T184201Z
UID:10004616-1719925200-1719928800@www.floridanutritioned.org
SUMMARY:10 Tips for Adults - series B
DESCRIPTION:
URL:https://www.floridanutritioned.org/event/10-tips-for-adults-series-b-14/
LOCATION:Margate Library\, 5810 Park Dr\, Margate\, FL\, 33063
CATEGORIES:Adults and Elders
END:VEVENT
BEGIN:VEVENT
DTSTART;TZID=America/New_York:20240702T130000
DTEND;TZID=America/New_York:20240702T140000
DTSTAMP:20260421T093235
CREATED:20240626T192421Z
LAST-MODIFIED:20240626T192421Z
UID:10004555-1719925200-1719928800@www.floridanutritioned.org
SUMMARY:10 Tips for Adults
DESCRIPTION:Intervention designed to help individuals increase fruit and vegetable consumption\, physical activity\, water intake\, and provide SNAP-Ed adults with the skills to purchase healthy foods on a budget.
URL:https://www.floridanutritioned.org/event/10-tips-for-adults-271/
LOCATION:Mount Moriah A.M.E Church\, 722 South Disston Ave\, Tarpon Springs\, FL\, 34689
CATEGORIES:Elders
END:VEVENT
BEGIN:VEVENT
DTSTART;TZID=America/New_York:20240702T121500
DTEND;TZID=America/New_York:20240702T130000
DTSTAMP:20260421T093235
CREATED:20240628T124343Z
LAST-MODIFIED:20240628T124343Z
UID:10004680-1719922500-1719925200@www.floridanutritioned.org
SUMMARY:Food Smarts with Feeding the Gulf Coast
DESCRIPTION:Feeding the Gulf Coast is helping our community learn about nutrition. This program is all about making learning fun and respectful. We believe that when learning is enjoyable and sensitive to people’s feelings and experiences\, it can help us make better choices about what we eat. Let’s learn together!
URL:https://www.floridanutritioned.org/event/food-smarts-with-feeding-the-gulf-coast-64/
LOCATION:Project Hope\, 3691 US-90 E\, Crestview\, FL\, 32539
CATEGORIES:Adults
END:VEVENT
BEGIN:VEVENT
DTSTART;TZID=America/New_York:20240702T120000
DTEND;TZID=America/New_York:20240702T130000
DTSTAMP:20260421T093235
CREATED:20240702T161121Z
LAST-MODIFIED:20240702T161121Z
UID:10004744-1719921600-1719925200@www.floridanutritioned.org
SUMMARY:Leah's Pantry: Eat the Rainbow
DESCRIPTION:
URL:https://www.floridanutritioned.org/event/leahs-pantry-eat-the-rainbow-39/
LOCATION:YMCA Family Center 3161\, 3161 Taft St\, Hollywood\, FL\, 33021
CATEGORIES:Elders
END:VEVENT
BEGIN:VEVENT
DTSTART;TZID=America/New_York:20240702T110000
DTEND;TZID=America/New_York:20240702T120000
DTSTAMP:20260421T093235
CREATED:20240701T183322Z
LAST-MODIFIED:20240701T183322Z
UID:10004704-1719918000-1719921600@www.floridanutritioned.org
SUMMARY:Leah's Pantry: Food Processing
DESCRIPTION:Participants will learn about whole foods\, minimally-processed foods\, and ultra-processed foods.
URL:https://www.floridanutritioned.org/event/leahs-pantry-food-processing-41/
LOCATION:Big Mound Park\, 15205 SW Indian Mound Dr.\, Indiantown\, FL\, 34956
CATEGORIES:Elders
END:VEVENT
BEGIN:VEVENT
DTSTART;TZID=America/New_York:20240702T110000
DTEND;TZID=America/New_York:20240702T120000
DTSTAMP:20260421T093235
CREATED:20240627T184758Z
LAST-MODIFIED:20240627T184758Z
UID:10004632-1719918000-1719921600@www.floridanutritioned.org
SUMMARY:10 Tips: Smart Shopping for Veggies and Fruits
DESCRIPTION:
URL:https://www.floridanutritioned.org/event/10-tips-smart-shopping-for-veggies-and-fruits-3/
LOCATION:Driftwood Terrace Apartments\, 7300 Davie Road Ext\, Hollywood\, FL\, 33024
CATEGORIES:Adults and Elders
END:VEVENT
END:VCALENDAR