BEGIN:VCALENDAR
VERSION:2.0
PRODID:-//Florida Nutrition Education - ECPv6.15.20//NONSGML v1.0//EN
CALSCALE:GREGORIAN
METHOD:PUBLISH
X-WR-CALNAME:Florida Nutrition Education
X-ORIGINAL-URL:https://www.floridanutritioned.org
X-WR-CALDESC:Events for Florida Nutrition Education
REFRESH-INTERVAL;VALUE=DURATION:PT1H
X-Robots-Tag:noindex
X-PUBLISHED-TTL:PT1H
BEGIN:VTIMEZONE
TZID:America/New_York
BEGIN:DAYLIGHT
TZOFFSETFROM:-0500
TZOFFSETTO:-0400
TZNAME:EDT
DTSTART:20240310T070000
END:DAYLIGHT
BEGIN:STANDARD
TZOFFSETFROM:-0400
TZOFFSETTO:-0500
TZNAME:EST
DTSTART:20241103T060000
END:STANDARD
BEGIN:DAYLIGHT
TZOFFSETFROM:-0500
TZOFFSETTO:-0400
TZNAME:EDT
DTSTART:20250309T070000
END:DAYLIGHT
BEGIN:STANDARD
TZOFFSETFROM:-0400
TZOFFSETTO:-0500
TZNAME:EST
DTSTART:20251102T060000
END:STANDARD
BEGIN:DAYLIGHT
TZOFFSETFROM:-0500
TZOFFSETTO:-0400
TZNAME:EDT
DTSTART:20260308T070000
END:DAYLIGHT
BEGIN:STANDARD
TZOFFSETFROM:-0400
TZOFFSETTO:-0500
TZNAME:EST
DTSTART:20261101T060000
END:STANDARD
END:VTIMEZONE
BEGIN:VEVENT
DTSTART;TZID=America/New_York:20250908T170000
DTEND;TZID=America/New_York:20250908T180000
DTSTAMP:20260425T084502
CREATED:20250918T180408Z
LAST-MODIFIED:20250918T180408Z
UID:10007765-1757350800-1757354400@www.floridanutritioned.org
SUMMARY:Food Labels
DESCRIPTION:learn to decode food labels\, understand food labels and nutrition facts\, learn things to look out for on a food label
URL:https://www.floridanutritioned.org/event/food-labels-6/
LOCATION:Astor Public Library\, 54905 Alco Rd\, Astor\, FL\, 32102
CATEGORIES:Adults
END:VEVENT
BEGIN:VEVENT
DTSTART;TZID=America/New_York:20250908T143000
DTEND;TZID=America/New_York:20250908T150000
DTSTAMP:20260425T084502
CREATED:20250923T192528Z
LAST-MODIFIED:20250923T192528Z
UID:10007792-1757341800-1757343600@www.floridanutritioned.org
SUMMARY:Intro to MyPlate
DESCRIPTION:In this class\, participants will learn about the 5 food groups that make up the MyPlate and how each of them helps our bodies in different ways
URL:https://www.floridanutritioned.org/event/intro-to-myplate-21/
LOCATION:YMCA Oviedo\, 7900 Red Bug Lake Road\, Oviedo\, FL\, 32765
END:VEVENT
BEGIN:VEVENT
DTSTART;TZID=America/New_York:20250908T110000
DTEND;TZID=America/New_York:20250908T130000
DTSTAMP:20260425T084502
CREATED:20250918T180303Z
LAST-MODIFIED:20250918T180303Z
UID:10007755-1757329200-1757336400@www.floridanutritioned.org
SUMMARY:Add More Vegetables To Your Day
DESCRIPTION:Eating fruits and vegetables is a great way to improve your eating style. Join us to learn some tips for adding more vegetables into your daily food routine.
URL:https://www.floridanutritioned.org/event/add-more-vegetables-to-your-day-3/
LOCATION:Central Brevard Sharing Center\, 113 Aurora Street\, Cocoa\, FL\, 32922
CATEGORIES:Adults,and Children,Elders
END:VEVENT
BEGIN:VEVENT
DTSTART;TZID=America/New_York:20250904T153000
DTEND;TZID=America/New_York:20250904T163000
DTSTAMP:20260425T084502
CREATED:20250918T180408Z
LAST-MODIFIED:20250918T180408Z
UID:10007764-1756999800-1757003400@www.floridanutritioned.org
SUMMARY:Intro to MyPlate
DESCRIPTION:Learn about MyPlate and important things to incorporate into your meals. Compare the differences between MyPlate and the Healthy Eating Plate. Learn about portion sizes.
URL:https://www.floridanutritioned.org/event/intro-to-myplate-18/
LOCATION:The Crossings\, 2510 Sennett Dr\, Leesburg\, FL\, 34748
CATEGORIES:Children
END:VEVENT
BEGIN:VEVENT
DTSTART;TZID=America/New_York:20250904T133000
DTEND;TZID=America/New_York:20250904T143000
DTSTAMP:20260425T084502
CREATED:20250918T180408Z
LAST-MODIFIED:20250918T180408Z
UID:10007763-1756992600-1756996200@www.floridanutritioned.org
SUMMARY:Food Labels
DESCRIPTION:learn to decode food labels\, understand food labels and nutrition facts\, learn things to look out for on a food label
URL:https://www.floridanutritioned.org/event/food-labels-5/
LOCATION:Silver Pointe Seniors\, 2400 Silver Pointe Circle\, Leesburg\, FL\, 34748
CATEGORIES:Elders
END:VEVENT
BEGIN:VEVENT
DTSTART;TZID=America/New_York:20250904T103000
DTEND;TZID=America/New_York:20250904T110000
DTSTAMP:20260425T084502
CREATED:20250918T180302Z
LAST-MODIFIED:20250918T180302Z
UID:10007754-1756981800-1756983600@www.floridanutritioned.org
SUMMARY:Make Better Beverage Choices
DESCRIPTION:A healthy eating style includes all foods and beverages. Many beverages contain added sugars and offer little to no nutrients or excessive calories. Join us to learn some tips for making better beverage choices.
URL:https://www.floridanutritioned.org/event/make-better-beverage-choices-5/
LOCATION:Eddie Lee Taylor Community Center\, 3316 Monroe Street\, Melbourne\, FL\, 32901
CATEGORIES:Elders
END:VEVENT
BEGIN:VEVENT
DTSTART;TZID=America/New_York:20250903T120000
DTEND;TZID=America/New_York:20250903T130000
DTSTAMP:20260425T084502
CREATED:20250918T180716Z
LAST-MODIFIED:20250918T180716Z
UID:10007777-1756900800-1756904400@www.floridanutritioned.org
SUMMARY:Best Practices for Healthy Living
DESCRIPTION:We will discuss the importance of daily exercise and discuss varios opportunities to get in movement each day. Gut health will also be discussed about the connection between the digestive system and both physical and mental health.
URL:https://www.floridanutritioned.org/event/best-practices-for-healthy-living-31/
LOCATION:Central Florida Hope Center\, 1010 South Dillard Street\, Winter Garden\, FL\, 34787
CATEGORIES:Adults and Elders
END:VEVENT
BEGIN:VEVENT
DTSTART;TZID=America/New_York:20250903T110000
DTEND;TZID=America/New_York:20250903T120000
DTSTAMP:20260425T084502
CREATED:20250918T180618Z
LAST-MODIFIED:20250918T180618Z
UID:10007776-1756897200-1756900800@www.floridanutritioned.org
SUMMARY:Best Practices for Healthy Living
DESCRIPTION:We will discuss the importance of daily exercise and discuss varios opportunities to get in movement each day. Gut health will also be discussed about the connection between the digestive system and both physical and mental health.
URL:https://www.floridanutritioned.org/event/best-practices-for-healthy-living-30/
LOCATION:Central Florida Hope Center\, 1010 South Dillard Street\, Winter Garden\, FL\, 34787
CATEGORIES:Adults and Elders
END:VEVENT
BEGIN:VEVENT
DTSTART;TZID=America/New_York:20250903T103000
DTEND;TZID=America/New_York:20250903T113000
DTSTAMP:20260425T084502
CREATED:20250903T133354Z
LAST-MODIFIED:20250903T133354Z
UID:10007750-1756895400-1756899000@www.floridanutritioned.org
SUMMARY:Gut Health and Sodium/Healthy Blood Pressure
DESCRIPTION:This class is taught with a trauma-inforced curriculum to empower adults\, 18 years and older\, to make holistic health choices.
URL:https://www.floridanutritioned.org/event/gut-health-and-sodium-healthy-blood-pressure/
LOCATION:Quincy Senior Center\, 79 Lasalle Leffall Drive\, Quincy\, FL\, 32351
CATEGORIES:Adults and Elders
END:VEVENT
BEGIN:VEVENT
DTSTART;TZID=America/New_York:20250903T103000
DTEND;TZID=America/New_York:20250903T110000
DTSTAMP:20260425T084502
CREATED:20250918T180302Z
LAST-MODIFIED:20250918T180302Z
UID:10007753-1756895400-1756897200@www.floridanutritioned.org
SUMMARY:Build a Healthy Meal
DESCRIPTION:Each meal is a building block in your healthy eating style. Join us for 10 tips to help you learn to build a healthy meal.
URL:https://www.floridanutritioned.org/event/build-a-healthy-meal-14/
LOCATION:Woody Simpson Community Center\, 1590 Schoolhouse Street\, Merrit Island\, FL\, 32953
CATEGORIES:Elders
END:VEVENT
BEGIN:VEVENT
DTSTART;TZID=America/New_York:20250902T130000
DTEND;TZID=America/New_York:20250902T140000
DTSTAMP:20260425T084502
CREATED:20250918T180717Z
LAST-MODIFIED:20250918T180717Z
UID:10007779-1756818000-1756821600@www.floridanutritioned.org
SUMMARY:Rethink Your Drink
DESCRIPTION:Guess the amount of sugar in some of your favorite drinks and learn ways to drink more water during the day. Learn about ways to still enjoy your drinks by making them healthier!
URL:https://www.floridanutritioned.org/event/rethink-your-drink-30/
LOCATION:Fern Grove Apartments\, 3750 W D Judge Drive\, Orlando\, FL\, 32808
CATEGORIES:Adults
END:VEVENT
BEGIN:VEVENT
DTSTART;TZID=America/New_York:20250902T103000
DTEND;TZID=America/New_York:20250902T110000
DTSTAMP:20260425T084502
CREATED:20250918T180301Z
LAST-MODIFIED:20250918T180301Z
UID:10007752-1756809000-1756810800@www.floridanutritioned.org
SUMMARY:Choose MyPlate
DESCRIPTION:MyPlate is an amazing tool to help you make better food choices. Join us to learn how to use MyPlate to build your healthy eating style and maintain it for a lifetime.
URL:https://www.floridanutritioned.org/event/choose-myplate-2/
LOCATION:St. James AME\, 625 Dummitt Avenue\, Titusville\, FL\, 32796
CATEGORIES:Elders
END:VEVENT
BEGIN:VEVENT
DTSTART;TZID=America/New_York:20250902T100000
DTEND;TZID=America/New_York:20250902T110000
DTSTAMP:20260425T084502
CREATED:20250918T181003Z
LAST-MODIFIED:20250918T181003Z
UID:10007787-1756807200-1756810800@www.floridanutritioned.org
SUMMARY:Building a Healthy Meal
DESCRIPTION:Learn how to build a healthy meal by choosing a variety of nutritious foods from all 5 food groups\, and make sure you are  meeting your nutritional needs throghout the day.
URL:https://www.floridanutritioned.org/event/building-a-healthy-meal/
LOCATION:Volusia Council on Aging – Deltona\, 1640 Dr. Martin Luther King Jr. Blvd.\, Deltona\, FL\, 32725
CATEGORIES:Adults and Elders
END:VEVENT
BEGIN:VEVENT
DTSTART;TZID=America/New_York:20250829T103000
DTEND;TZID=America/New_York:20250829T120000
DTSTAMP:20260425T084502
CREATED:20250702T182937Z
LAST-MODIFIED:20250818T173725Z
UID:10007521-1756463400-1756468800@www.floridanutritioned.org
SUMMARY:Tracking Food Expenses
DESCRIPTION:Recipe:Mediterranean Turkey Burgers
URL:https://www.floridanutritioned.org/event/tracking-food-expenses-2/
LOCATION:SouthWest Focal Point (SWFP)\, 301 NW 103 Ave\, Pembroke Pines\, #REF!\, 33026
END:VEVENT
BEGIN:VEVENT
DTSTART;TZID=America/New_York:20250829T100000
DTEND;TZID=America/New_York:20250829T110000
DTSTAMP:20260425T084502
CREATED:20250801T140536Z
LAST-MODIFIED:20250801T140536Z
UID:10007630-1756461600-1756465200@www.floridanutritioned.org
SUMMARY:Leah's Pantry\, Food Smarts for Adults: Building a Wholesome Diet
DESCRIPTION:Interactive\, trauma-informed nutrition lessons that include a food demonstration\, while focusing on how to nourish your body\, moving your body in safe and enjoyable ways\, exploring where foods come from\, and health goal setting
URL:https://www.floridanutritioned.org/event/leahs-pantry-food-smarts-for-adults-building-a-wholesome-diet-30/
LOCATION:Eloise Resource Center\, 710 Snively Ave.\, Eloise\, FL\, 33880
CATEGORIES:Elders
END:VEVENT
BEGIN:VEVENT
DTSTART;TZID=America/New_York:20250828T183000
DTEND;TZID=America/New_York:20250828T193000
DTSTAMP:20260425T084502
CREATED:20250801T140435Z
LAST-MODIFIED:20250801T140435Z
UID:10007623-1756405800-1756409400@www.floridanutritioned.org
SUMMARY:Healthy for Life: Gardening in Your Neighborhood
DESCRIPTION:Interactive\, trauma-informed nutrition lessons that include a food demonstration\, while focusing on how to nourish your body\, moving your body in safe and enjoyable ways\, exploring where foods come from\, and health goal setting
URL:https://www.floridanutritioned.org/event/healthy-for-life-gardening-in-your-neighborhood-9/
LOCATION:Tampa Family Health Centers\, 4620 N 22nd St\, Tampa\, FL\, 33610
CATEGORIES:Adults and Elders
END:VEVENT
BEGIN:VEVENT
DTSTART;TZID=America/New_York:20250828T180000
DTEND;TZID=America/New_York:20250828T190000
DTSTAMP:20260425T084502
CREATED:20250801T141239Z
LAST-MODIFIED:20250801T141239Z
UID:10007650-1756404000-1756407600@www.floridanutritioned.org
SUMMARY:10  Tips for Adults
DESCRIPTION:Interactive\, trauma-informed nutrition lessons that include a food demonstration\, while focusing on how to nourish your body\, moving your body in safe and enjoyable ways\, exploring where foods come from\, and health goal setting
URL:https://www.floridanutritioned.org/event/10-tips-for-adults-370/
LOCATION:Hernando County Library- Main Branch\, 238 Howell Avenue\, Brooksville\, FL\, 34601
CATEGORIES:Adults and Elders
END:VEVENT
BEGIN:VEVENT
DTSTART;TZID=America/New_York:20250828T130000
DTEND;TZID=America/New_York:20250828T140000
DTSTAMP:20260425T084502
CREATED:20250801T141037Z
LAST-MODIFIED:20250801T141037Z
UID:10007641-1756386000-1756389600@www.floridanutritioned.org
SUMMARY:Leah's Pantry Food Smarts for Adults: Creating Balanced Meals
DESCRIPTION:Interactive\, trauma-informed nutrition lessons that include a food demonstration\, while focusing on how to nourish your body\, moving your body in safe and enjoyable ways\, exploring where foods come from\, and health goal setting
URL:https://www.floridanutritioned.org/event/leahs-pantry-food-smarts-for-adults-creating-balanced-meals-7/
LOCATION:Trinity House\, 5701 16th St South\, Saint Petersburg\, FL\, 33705
CATEGORIES:Elders
END:VEVENT
BEGIN:VEVENT
DTSTART;TZID=America/New_York:20250828T113000
DTEND;TZID=America/New_York:20250828T123000
DTSTAMP:20260425T084502
CREATED:20250804T150622Z
LAST-MODIFIED:20250804T150622Z
UID:10007700-1756380600-1756384200@www.floridanutritioned.org
SUMMARY:Dietary Fats:  Fact or Fiction?
DESCRIPTION:Come to this class to learn the difference between good fats and bad fats\, as well as the health benefits of consuming healthy fats
URL:https://www.floridanutritioned.org/event/dietary-fats-fact-or-fiction-6/
LOCATION:Volusia Council on Aging – New Smyrna Beach\, 1050 Live Oak Street\, New Smyrna Beach\, FL\, 32168
CATEGORIES:Adults and Elders
END:VEVENT
BEGIN:VEVENT
DTSTART;TZID=America/New_York:20250828T113000
DTEND;TZID=America/New_York:20250828T123000
DTSTAMP:20260425T084502
CREATED:20250804T145916Z
LAST-MODIFIED:20250804T155753Z
UID:10007675-1756380600-1756384200@www.floridanutritioned.org
SUMMARY:Make Moving Fun
DESCRIPTION:Learn about the benefits of exercise\, including how much you should exercise. Learn ways to be more active in your day to day.
URL:https://www.floridanutritioned.org/event/make-moving-fun-14/
LOCATION:Neighborhood  Center of South Lake\, 14727 Timber Village Road\, Groveland\, FL\, 34736
CATEGORIES:Adults and Elders
END:VEVENT
BEGIN:VEVENT
DTSTART;TZID=America/New_York:20250828T110000
DTEND;TZID=America/New_York:20250828T120000
DTSTAMP:20260425T084502
CREATED:20250815T132120Z
LAST-MODIFIED:20250815T132120Z
UID:10007749-1756378800-1756382400@www.floridanutritioned.org
SUMMARY:Leah's Pantry Food Smarts for Adults: Smart Strategies for Shopping and Planning
DESCRIPTION:Interactive\, trauma-informed nutrition lessons that include a food demonstration\, while focusing on how to nourish your body\, moving your body in safe and enjoyable ways\, exploring where foods come from\, and health goal setting.
URL:https://www.floridanutritioned.org/event/leahs-pantry-food-smarts-for-adults-smart-strategies-for-shopping-and-planning-7/
LOCATION:ACTS Clubhouse\, 201 East Yukon Street\, Tampa\, 33604\, United States
CATEGORIES:Adults
END:VEVENT
BEGIN:VEVENT
DTSTART;TZID=America/New_York:20250828T103000
DTEND;TZID=America/New_York:20250828T110000
DTSTAMP:20260425T084502
CREATED:20250804T145614Z
LAST-MODIFIED:20250804T145614Z
UID:10007662-1756377000-1756378800@www.floridanutritioned.org
SUMMARY:Build A Healthy Meal
DESCRIPTION:Each meal is a building block in your healthy eating style. Join us for 10 tips to help you learn to build a healthy meal.
URL:https://www.floridanutritioned.org/event/build-a-healthy-meal-13/
LOCATION:Port St. John Community Center\, 6650 Corto Road\, Port St. John\, FL\, 32927
CATEGORIES:Elders
END:VEVENT
BEGIN:VEVENT
DTSTART;TZID=America/New_York:20250828T090000
DTEND;TZID=America/New_York:20250828T100000
DTSTAMP:20260425T084502
CREATED:20250804T150116Z
LAST-MODIFIED:20250821T130543Z
UID:10007676-1756371600-1756375200@www.floridanutritioned.org
SUMMARY:Decoding Food Labels
DESCRIPTION:Learn how to read the labels on food\, including basic definitions of nutrition terms and common practices used in food labeling with nutrition terms.
URL:https://www.floridanutritioned.org/event/decoding-food-labels-8/
LOCATION:Hope Lake Weir\, 10495 SE Sunset Harbor Rd\, Summerfield\, FL\, 34479
CATEGORIES:Adults and Elders
END:VEVENT
BEGIN:VEVENT
DTSTART;TZID=America/New_York:20250827T170000
DTEND;TZID=America/New_York:20250827T180000
DTSTAMP:20260425T084502
CREATED:20250801T140435Z
LAST-MODIFIED:20250801T140435Z
UID:10007622-1756314000-1756317600@www.floridanutritioned.org
SUMMARY:Leah's Pantry Food Smarts for Adults: Setting the Stage for Healthy Habits
DESCRIPTION:Interactive\, trauma-informed nutrition lessons that include a food demonstration\, while focusing on how to nourish your body\, moving your body in safe and enjoyable ways\, exploring where foods come from\, and health goal setting
URL:https://www.floridanutritioned.org/event/leahs-pantry-food-smarts-for-adults-setting-the-stage-for-healthy-habits-10/
LOCATION:Metropolitan Ministries\, 3216 Us Hwy 19\, Holiday\, FL\, 34691
CATEGORIES:Adults and Children
END:VEVENT
BEGIN:VEVENT
DTSTART;TZID=America/New_York:20250827T110000
DTEND;TZID=America/New_York:20250827T120000
DTSTAMP:20260425T084502
CREATED:20250702T182936Z
LAST-MODIFIED:20250702T182936Z
UID:10007518-1756292400-1756296000@www.floridanutritioned.org
SUMMARY:Healthy for Life
DESCRIPTION:
URL:https://www.floridanutritioned.org/event/healthy-for-life-145/
LOCATION:North Lauderdale Saraniero Branch\, 6901 Kimberly Blvd\, North Lauderdale\, #REF!\, 33068
CATEGORIES:Adults
END:VEVENT
BEGIN:VEVENT
DTSTART;TZID=America/New_York:20250827T103000
DTEND;TZID=America/New_York:20250827T113000
DTSTAMP:20260425T084502
CREATED:20250801T140536Z
LAST-MODIFIED:20250801T140536Z
UID:10007629-1756290600-1756294200@www.floridanutritioned.org
SUMMARY:Healthy for Life: Cooking Skills and Food
DESCRIPTION:Interactive\, trauma-informed nutrition lessons that include a food demonstration\, while focusing on how to nourish your body\, moving your body in safe and enjoyable ways\, exploring where foods come from\, and health goal setting
URL:https://www.floridanutritioned.org/event/healthy-for-life-cooking-skills-and-food-12/
LOCATION:St. Joseph Catholic Church\, 210 W Lemon St\, Lakeland\, FL\, 33815
CATEGORIES:Elders
END:VEVENT
BEGIN:VEVENT
DTSTART;TZID=America/New_York:20250827T100000
DTEND;TZID=America/New_York:20250827T110000
DTSTAMP:20260425T084502
CREATED:20250811T153508Z
LAST-MODIFIED:20250811T153508Z
UID:10007735-1756288800-1756292400@www.floridanutritioned.org
SUMMARY:Leah's Pantry Food Smarts for Adults: Smart Strategies for Shopping
DESCRIPTION:Interactive\, trauma-informed nutrition lessons that include a food demonstration\, while focusing on how to nourish your body\, moving your body in safe and enjoyable ways\, exploring where foods come from\, and health goal setting
URL:https://www.floridanutritioned.org/event/leahs-pantry-food-smarts-for-adults-smart-strategies-for-shopping-12/
LOCATION:Reach/Gracepoint Wellness\, 5300 North Nebraska Avenue\, Tampa\, 33603\, United States
CATEGORIES:Adults
END:VEVENT
BEGIN:VEVENT
DTSTART;TZID=America/New_York:20250827T100000
DTEND;TZID=America/New_York:20250827T110000
DTSTAMP:20260425T084502
CREATED:20250804T162101Z
LAST-MODIFIED:20250804T162101Z
UID:10007710-1756288800-1756292400@www.floridanutritioned.org
SUMMARY:Food Smarts
DESCRIPTION:Feeding the Gulf Coast is helping our community learn about nutrition. This program is all about making learning fun and respectful. We believe that when learning is enjoyable and sensitive to people’s feelings and experiences\, it can help us make better choices about what we eat. Let’s learn together!
URL:https://www.floridanutritioned.org/event/food-smarts-187/
LOCATION:COA Washington\, 1348 South Blvd\, Chipley\, FL\, 32428
CATEGORIES:Elders
END:VEVENT
BEGIN:VEVENT
DTSTART;TZID=America/New_York:20250827T100000
DTEND;TZID=America/New_York:20250827T110000
DTSTAMP:20260425T084502
CREATED:20250804T162100Z
LAST-MODIFIED:20250804T162100Z
UID:10007709-1756288800-1756292400@www.floridanutritioned.org
SUMMARY:Food Smarts
DESCRIPTION:Feeding the Gulf Coast is helping our community learn about nutrition. This program is all about making learning fun and respectful. We believe that when learning is enjoyable and sensitive to people’s feelings and experiences\, it can help us make better choices about what we eat. Let’s learn together!
URL:https://www.floridanutritioned.org/event/food-smarts-186/
LOCATION:Bagdad Community Center\, 6872 Pooley Street\, Milton\, FL\, 32583
CATEGORIES:Adults and Elders
END:VEVENT
BEGIN:VEVENT
DTSTART;TZID=America/New_York:20250827T100000
DTEND;TZID=America/New_York:20250827T110000
DTSTAMP:20260425T084502
CREATED:20250801T140636Z
LAST-MODIFIED:20250801T140636Z
UID:10007634-1756288800-1756292400@www.floridanutritioned.org
SUMMARY:10 Tips for Adults: Part 2 (Build a Healthy Meal)
DESCRIPTION:Interactive\, trauma-informed nutrition lessons that include a food demonstration\, while focusing on how to nourish your body\, moving your body in safe and enjoyable ways\, exploring where foods come from\, and health goal setting
URL:https://www.floridanutritioned.org/event/10-tips-for-adults-part-2-build-a-healthy-meal-7/
LOCATION:Volunteers of America\, 1430 55th Ave West\, Bradenton\, FL\, 343207
CATEGORIES:Adults
END:VEVENT
END:VCALENDAR