BEGIN:VCALENDAR
VERSION:2.0
PRODID:-//Florida Nutrition Education - ECPv6.15.20//NONSGML v1.0//EN
CALSCALE:GREGORIAN
METHOD:PUBLISH
X-ORIGINAL-URL:https://www.floridanutritioned.org
X-WR-CALDESC:Events for Florida Nutrition Education
REFRESH-INTERVAL;VALUE=DURATION:PT1H
X-Robots-Tag:noindex
X-PUBLISHED-TTL:PT1H
BEGIN:VTIMEZONE
TZID:America/New_York
BEGIN:DAYLIGHT
TZOFFSETFROM:-0500
TZOFFSETTO:-0400
TZNAME:EDT
DTSTART:20220313T070000
END:DAYLIGHT
BEGIN:STANDARD
TZOFFSETFROM:-0400
TZOFFSETTO:-0500
TZNAME:EST
DTSTART:20221106T060000
END:STANDARD
BEGIN:DAYLIGHT
TZOFFSETFROM:-0500
TZOFFSETTO:-0400
TZNAME:EDT
DTSTART:20230312T070000
END:DAYLIGHT
BEGIN:STANDARD
TZOFFSETFROM:-0400
TZOFFSETTO:-0500
TZNAME:EST
DTSTART:20231105T060000
END:STANDARD
BEGIN:DAYLIGHT
TZOFFSETFROM:-0500
TZOFFSETTO:-0400
TZNAME:EDT
DTSTART:20240310T070000
END:DAYLIGHT
BEGIN:STANDARD
TZOFFSETFROM:-0400
TZOFFSETTO:-0500
TZNAME:EST
DTSTART:20241103T060000
END:STANDARD
END:VTIMEZONE
BEGIN:VEVENT
DTSTART;TZID=America/New_York:20230920T160000
DTEND;TZID=America/New_York:20230920T180000
DTSTAMP:20260422T142702
CREATED:20230905T184229Z
LAST-MODIFIED:20230905T184229Z
UID:10001446-1695225600-1695232800@www.floridanutritioned.org
SUMMARY:Foodsmarts
DESCRIPTION:This class is taught with a trauma- inforced curriculum to empower adults\, 18 years and older\, to make holistic health choices.
URL:https://www.floridanutritioned.org/event/foodsmarts-30/
LOCATION:Bond Community Health Center\, 1549 S Monroe Street\, Tallahassee\, FL\, 32301
CATEGORIES:Adults and Elders
END:VEVENT
BEGIN:VEVENT
DTSTART;TZID=America/New_York:20230913T160000
DTEND;TZID=America/New_York:20230913T180000
DTSTAMP:20260422T142702
CREATED:20230905T184226Z
LAST-MODIFIED:20230905T184226Z
UID:10001442-1694620800-1694628000@www.floridanutritioned.org
SUMMARY:Foodsmarts
DESCRIPTION:This class is taught with a trauma- inforced curriculum to empower adults\, 18 years and older\, to make holistic health choices.
URL:https://www.floridanutritioned.org/event/foodsmarts-26/
LOCATION:Bond Community Health Center\, 1549 S Monroe Street\, Tallahassee\, FL\, 32301
CATEGORIES:Adults and Elders
END:VEVENT
END:VCALENDAR