BEGIN:VCALENDAR
VERSION:2.0
PRODID:-//Florida Nutrition Education - ECPv6.15.20//NONSGML v1.0//EN
CALSCALE:GREGORIAN
METHOD:PUBLISH
X-ORIGINAL-URL:https://www.floridanutritioned.org
X-WR-CALDESC:Events for Florida Nutrition Education
REFRESH-INTERVAL;VALUE=DURATION:PT1H
X-Robots-Tag:noindex
X-PUBLISHED-TTL:PT1H
BEGIN:VTIMEZONE
TZID:America/New_York
BEGIN:DAYLIGHT
TZOFFSETFROM:-0500
TZOFFSETTO:-0400
TZNAME:EDT
DTSTART:20230312T070000
END:DAYLIGHT
BEGIN:STANDARD
TZOFFSETFROM:-0400
TZOFFSETTO:-0500
TZNAME:EST
DTSTART:20231105T060000
END:STANDARD
BEGIN:DAYLIGHT
TZOFFSETFROM:-0500
TZOFFSETTO:-0400
TZNAME:EDT
DTSTART:20240310T070000
END:DAYLIGHT
BEGIN:STANDARD
TZOFFSETFROM:-0400
TZOFFSETTO:-0500
TZNAME:EST
DTSTART:20241103T060000
END:STANDARD
BEGIN:DAYLIGHT
TZOFFSETFROM:-0500
TZOFFSETTO:-0400
TZNAME:EDT
DTSTART:20250309T070000
END:DAYLIGHT
BEGIN:STANDARD
TZOFFSETFROM:-0400
TZOFFSETTO:-0500
TZNAME:EST
DTSTART:20251102T060000
END:STANDARD
END:VTIMEZONE
BEGIN:VEVENT
DTSTART;TZID=America/New_York:20241219T103000
DTEND;TZID=America/New_York:20241219T113000
DTSTAMP:20260422T061515
CREATED:20241127T122316Z
LAST-MODIFIED:20241127T122316Z
UID:10005984-1734604200-1734607800@www.floridanutritioned.org
SUMMARY:Eat Smart\, Live Strong
DESCRIPTION:Interactive\, trauma-informed nutrition lessons that include a food demo and focus on how to nourish your body\, moving your body in safe & enjoyable ways\, exploring where foods come from\, and health goal setting
URL:https://www.floridanutritioned.org/event/eat-smart-live-strong-260/
LOCATION:Cano Health Temple Terrace\, 13510 University Plaza St\, Tampa\, FL\, 33611
CATEGORIES:Elders
END:VEVENT
BEGIN:VEVENT
DTSTART;TZID=America/New_York:20241212T103000
DTEND;TZID=America/New_York:20241212T113000
DTSTAMP:20260422T061515
CREATED:20241127T122202Z
LAST-MODIFIED:20241127T122202Z
UID:10005978-1733999400-1734003000@www.floridanutritioned.org
SUMMARY:Eat Smart\, Live Strong
DESCRIPTION:Interactive\, trauma-informed nutrition lessons that include a food demo and focus on how to nourish your body\, moving your body in safe & enjoyable ways\, exploring where foods come from\, and health goal setting
URL:https://www.floridanutritioned.org/event/eat-smart-live-strong-258/
LOCATION:Cano Health Temple Terrace\, 13510 University Plaza St\, Tampa\, FL\, 33611
CATEGORIES:Elders
END:VEVENT
BEGIN:VEVENT
DTSTART;TZID=America/New_York:20241205T103000
DTEND;TZID=America/New_York:20241205T113000
DTSTAMP:20260422T061515
CREATED:20241127T122102Z
LAST-MODIFIED:20241127T122102Z
UID:10005975-1733394600-1733398200@www.floridanutritioned.org
SUMMARY:Eat Smart\, Live Strong
DESCRIPTION:Interactive\, trauma-informed nutrition lessons that include a food demo and focus on how to nourish your body\, moving your body in safe & enjoyable ways\, exploring where foods come from\, and health goal setting
URL:https://www.floridanutritioned.org/event/eat-smart-live-strong-256/
LOCATION:Cano Health Temple Terrace\, 13510 University Plaza St\, Tampa\, FL\, 33611
CATEGORIES:Elders
END:VEVENT
END:VCALENDAR