BEGIN:VCALENDAR
VERSION:2.0
PRODID:-//Florida Nutrition Education - ECPv6.15.20//NONSGML v1.0//EN
CALSCALE:GREGORIAN
METHOD:PUBLISH
X-WR-CALNAME:Florida Nutrition Education
X-ORIGINAL-URL:https://www.floridanutritioned.org
X-WR-CALDESC:Events for Florida Nutrition Education
REFRESH-INTERVAL;VALUE=DURATION:PT1H
X-Robots-Tag:noindex
X-PUBLISHED-TTL:PT1H
BEGIN:VTIMEZONE
TZID:America/New_York
BEGIN:DAYLIGHT
TZOFFSETFROM:-0500
TZOFFSETTO:-0400
TZNAME:EDT
DTSTART:20230312T070000
END:DAYLIGHT
BEGIN:STANDARD
TZOFFSETFROM:-0400
TZOFFSETTO:-0500
TZNAME:EST
DTSTART:20231105T060000
END:STANDARD
BEGIN:DAYLIGHT
TZOFFSETFROM:-0500
TZOFFSETTO:-0400
TZNAME:EDT
DTSTART:20240310T070000
END:DAYLIGHT
BEGIN:STANDARD
TZOFFSETFROM:-0400
TZOFFSETTO:-0500
TZNAME:EST
DTSTART:20241103T060000
END:STANDARD
BEGIN:DAYLIGHT
TZOFFSETFROM:-0500
TZOFFSETTO:-0400
TZNAME:EDT
DTSTART:20250309T070000
END:DAYLIGHT
BEGIN:STANDARD
TZOFFSETFROM:-0400
TZOFFSETTO:-0500
TZNAME:EST
DTSTART:20251102T060000
END:STANDARD
BEGIN:DAYLIGHT
TZOFFSETFROM:-0500
TZOFFSETTO:-0400
TZNAME:EDT
DTSTART:20260308T070000
END:DAYLIGHT
BEGIN:STANDARD
TZOFFSETFROM:-0400
TZOFFSETTO:-0500
TZNAME:EST
DTSTART:20261101T060000
END:STANDARD
END:VTIMEZONE
BEGIN:VEVENT
DTSTART;TZID=America/New_York:20250714T140000
DTEND;TZID=America/New_York:20250714T150000
DTSTAMP:20260421T134448
CREATED:20250627T174549Z
LAST-MODIFIED:20250627T174549Z
UID:10007412-1752501600-1752505200@www.floridanutritioned.org
SUMMARY:Food Smarts
DESCRIPTION:Being a smart consumer- Seafood and Mercury
URL:https://www.floridanutritioned.org/event/food-smarts-161/
LOCATION:Casa Santa Marta\, 1576 8th St.\, Sarasota\, FL\, 34236
CATEGORIES:Adults
END:VEVENT
BEGIN:VEVENT
DTSTART;TZID=America/New_York:20250519T140000
DTEND;TZID=America/New_York:20250519T150000
DTSTAMP:20260421T134448
CREATED:20250506T160251Z
LAST-MODIFIED:20250506T160251Z
UID:10007120-1747663200-1747666800@www.floridanutritioned.org
SUMMARY:Food Smarts
DESCRIPTION:Lesson 1: MyPlate
URL:https://www.floridanutritioned.org/event/food-smarts-145/
LOCATION:Casa Santa Marta\, 1576 8th St.\, Sarasota\, FL\, 34236
CATEGORIES:Elders
END:VEVENT
BEGIN:VEVENT
DTSTART;TZID=America/New_York:20240425T133000
DTEND;TZID=America/New_York:20240425T150000
DTSTAMP:20260421T134448
CREATED:20240403T142715Z
LAST-MODIFIED:20240403T142715Z
UID:10003820-1714051800-1714057200@www.floridanutritioned.org
SUMMARY:10 Tips
DESCRIPTION:Week 3 of series
URL:https://www.floridanutritioned.org/event/10-tips-23/
LOCATION:Casa Santa Marta\, 1576 8th St.\, Sarasota\, FL\, 34236
CATEGORIES:Adults
END:VEVENT
BEGIN:VEVENT
DTSTART;TZID=America/New_York:20240411T133000
DTEND;TZID=America/New_York:20240411T150000
DTSTAMP:20260421T134448
CREATED:20240403T142614Z
LAST-MODIFIED:20240403T142614Z
UID:10003813-1712842200-1712847600@www.floridanutritioned.org
SUMMARY:10 Tips
DESCRIPTION:Week 2 of series
URL:https://www.floridanutritioned.org/event/10-tips-20/
LOCATION:Casa Santa Marta\, 1576 8th St.\, Sarasota\, FL\, 34236
CATEGORIES:Elders
END:VEVENT
BEGIN:VEVENT
DTSTART;TZID=America/New_York:20240404T133000
DTEND;TZID=America/New_York:20240404T150000
DTSTAMP:20260421T134448
CREATED:20240403T142610Z
LAST-MODIFIED:20240403T142610Z
UID:10003809-1712237400-1712242800@www.floridanutritioned.org
SUMMARY:10 Tips
DESCRIPTION:Week 1 of series
URL:https://www.floridanutritioned.org/event/10-tips-19/
LOCATION:Casa Santa Marta\, 1576 8th St.\, Sarasota\, FL\, 34236
CATEGORIES:Elders
END:VEVENT
END:VCALENDAR