BEGIN:VCALENDAR
VERSION:2.0
PRODID:-//Florida Nutrition Education - ECPv6.15.20//NONSGML v1.0//EN
CALSCALE:GREGORIAN
METHOD:PUBLISH
X-ORIGINAL-URL:https://www.floridanutritioned.org
X-WR-CALDESC:Events for Florida Nutrition Education
REFRESH-INTERVAL;VALUE=DURATION:PT1H
X-Robots-Tag:noindex
X-PUBLISHED-TTL:PT1H
BEGIN:VTIMEZONE
TZID:America/New_York
BEGIN:DAYLIGHT
TZOFFSETFROM:-0500
TZOFFSETTO:-0400
TZNAME:EDT
DTSTART:20240310T070000
END:DAYLIGHT
BEGIN:STANDARD
TZOFFSETFROM:-0400
TZOFFSETTO:-0500
TZNAME:EST
DTSTART:20241103T060000
END:STANDARD
BEGIN:DAYLIGHT
TZOFFSETFROM:-0500
TZOFFSETTO:-0400
TZNAME:EDT
DTSTART:20250309T070000
END:DAYLIGHT
BEGIN:STANDARD
TZOFFSETFROM:-0400
TZOFFSETTO:-0500
TZNAME:EST
DTSTART:20251102T060000
END:STANDARD
BEGIN:DAYLIGHT
TZOFFSETFROM:-0500
TZOFFSETTO:-0400
TZNAME:EDT
DTSTART:20260308T070000
END:DAYLIGHT
BEGIN:STANDARD
TZOFFSETFROM:-0400
TZOFFSETTO:-0500
TZNAME:EST
DTSTART:20261101T060000
END:STANDARD
END:VTIMEZONE
BEGIN:VEVENT
DTSTART;TZID=America/New_York:20250812T133000
DTEND;TZID=America/New_York:20250812T143000
DTSTAMP:20260422T183320
CREATED:20250731T172951Z
LAST-MODIFIED:20250731T172951Z
UID:10007597-1755005400-1755009000@www.floridanutritioned.org
SUMMARY:Food Smarts: Eat The Rainbow
DESCRIPTION:Participants learn to associate eating a variety of colorful fruits and vegetables with obtaining a variety of nutrients.
URL:https://www.floridanutritioned.org/event/food-smarts-eat-the-rainbow-30/
LOCATION:Charlotte Care Center\, 1476 Kenesaw St\, Port Charlotte\, FL\, 33948
CATEGORIES:Elders
END:VEVENT
BEGIN:VEVENT
DTSTART;TZID=America/New_York:20250708T133000
DTEND;TZID=America/New_York:20250708T143000
DTSTAMP:20260422T183320
CREATED:20250627T193234Z
LAST-MODIFIED:20250627T193234Z
UID:10007424-1751981400-1751985000@www.floridanutritioned.org
SUMMARY:Cooking Matters: Drink to Your Health
DESCRIPTION:Participants will practice identifying addes sugar in foods and drinks using the food labels.
URL:https://www.floridanutritioned.org/event/cooking-matters-drink-to-your-health-10/
LOCATION:Charlotte Care Center\, 1476 Kenesaw St\, Port Charlotte\, FL\, 33948
CATEGORIES:Adults and Elders
END:VEVENT
END:VCALENDAR