BEGIN:VCALENDAR
VERSION:2.0
PRODID:-//Florida Nutrition Education - ECPv6.15.20//NONSGML v1.0//EN
CALSCALE:GREGORIAN
METHOD:PUBLISH
X-ORIGINAL-URL:https://www.floridanutritioned.org
X-WR-CALDESC:Events for Florida Nutrition Education
REFRESH-INTERVAL;VALUE=DURATION:PT1H
X-Robots-Tag:noindex
X-PUBLISHED-TTL:PT1H
BEGIN:VTIMEZONE
TZID:UTC
BEGIN:STANDARD
TZOFFSETFROM:+0000
TZOFFSETTO:+0000
TZNAME:UTC
DTSTART:20220101T000000
END:STANDARD
END:VTIMEZONE
BEGIN:VEVENT
DTSTART;TZID=UTC:20230630T130000
DTEND;TZID=UTC:20230630T140000
DTSTAMP:20260422T184617
CREATED:20230601T233841Z
LAST-MODIFIED:20230605T170423Z
UID:10000458-1688130000-1688133600@www.floridanutritioned.org
SUMMARY:10 Tips for Adults- Series A
DESCRIPTION:Make half your grains whole grains
URL:https://www.floridanutritioned.org/event/10-tips-for-adults-series-a-20/
LOCATION:Log Cabin Senior Center\, 2369 NE Dixie Hwy\, Jensen Beach\, FL\, 34957
END:VEVENT
BEGIN:VEVENT
DTSTART;TZID=UTC:20230522T123000
DTEND;TZID=UTC:20230522T133000
DTSTAMP:20260422T184617
CREATED:20230427T194013Z
LAST-MODIFIED:20230427T194013Z
UID:10000127-1684758600-1684762200@www.floridanutritioned.org
SUMMARY:10 Tips for Adults
DESCRIPTION:One Time Class
URL:https://www.floridanutritioned.org/event/10-tips-for-adults-25/
LOCATION:Log Cabin Senior Center\, 2369 NE Dixie Hwy\, Jensen Beach\, FL\, 34957
CATEGORIES:Adults
END:VEVENT
END:VCALENDAR