BEGIN:VCALENDAR
VERSION:2.0
PRODID:-//Florida Nutrition Education - ECPv6.15.20//NONSGML v1.0//EN
CALSCALE:GREGORIAN
METHOD:PUBLISH
X-ORIGINAL-URL:https://www.floridanutritioned.org
X-WR-CALDESC:Events for Florida Nutrition Education
REFRESH-INTERVAL;VALUE=DURATION:PT1H
X-Robots-Tag:noindex
X-PUBLISHED-TTL:PT1H
BEGIN:VTIMEZONE
TZID:America/New_York
BEGIN:DAYLIGHT
TZOFFSETFROM:-0500
TZOFFSETTO:-0400
TZNAME:EDT
DTSTART:20230312T070000
END:DAYLIGHT
BEGIN:STANDARD
TZOFFSETFROM:-0400
TZOFFSETTO:-0500
TZNAME:EST
DTSTART:20231105T060000
END:STANDARD
BEGIN:DAYLIGHT
TZOFFSETFROM:-0500
TZOFFSETTO:-0400
TZNAME:EDT
DTSTART:20240310T070000
END:DAYLIGHT
BEGIN:STANDARD
TZOFFSETFROM:-0400
TZOFFSETTO:-0500
TZNAME:EST
DTSTART:20241103T060000
END:STANDARD
BEGIN:DAYLIGHT
TZOFFSETFROM:-0500
TZOFFSETTO:-0400
TZNAME:EDT
DTSTART:20250309T070000
END:DAYLIGHT
BEGIN:STANDARD
TZOFFSETFROM:-0400
TZOFFSETTO:-0500
TZNAME:EST
DTSTART:20251102T060000
END:STANDARD
BEGIN:DAYLIGHT
TZOFFSETFROM:-0500
TZOFFSETTO:-0400
TZNAME:EDT
DTSTART:20260308T070000
END:DAYLIGHT
BEGIN:STANDARD
TZOFFSETFROM:-0400
TZOFFSETTO:-0500
TZNAME:EST
DTSTART:20261101T060000
END:STANDARD
END:VTIMEZONE
BEGIN:VEVENT
DTSTART;TZID=America/New_York:20250112T123000
DTEND;TZID=America/New_York:20250112T133000
DTSTAMP:20260423T063648
CREATED:20250210T183902Z
LAST-MODIFIED:20250210T183902Z
UID:10006574-1736685000-1736688600@www.floridanutritioned.org
SUMMARY:Healthy Choices for Every Body
DESCRIPTION:Healthy Choices for Every Body
URL:https://www.floridanutritioned.org/event/healthy-choices-for-every-body-7/
LOCATION:Dye Clay Family YMCA\, 3322 Moody Ave\, Orange Park\, FL\, 32065
CATEGORIES:Adults and Elders
END:VEVENT
BEGIN:VEVENT
DTSTART;TZID=America/New_York:20240906T173000
DTEND;TZID=America/New_York:20240906T183000
DTSTAMP:20260423T063648
CREATED:20240830T185619Z
LAST-MODIFIED:20240830T185619Z
UID:10005272-1725643800-1725647400@www.floridanutritioned.org
SUMMARY:Sweetened Drinks
DESCRIPTION:
URL:https://www.floridanutritioned.org/event/sweetened-drinks-2/
LOCATION:Dye Clay Family YMCA\, 3322 Moody Ave\, Orange Park\, FL\, 32065
END:VEVENT
BEGIN:VEVENT
DTSTART;TZID=America/New_York:20240904T120000
DTEND;TZID=America/New_York:20240904T130000
DTSTAMP:20260423T063648
CREATED:20240830T185616Z
LAST-MODIFIED:20240830T185616Z
UID:10005274-1725451200-1725454800@www.floridanutritioned.org
SUMMARY:Building a Wholesome Diet
DESCRIPTION:
URL:https://www.floridanutritioned.org/event/building-a-wholesome-diet-14/
LOCATION:Dye Clay Family YMCA\, 3322 Moody Ave\, Orange Park\, FL\, 32065
CATEGORIES:Adults and Elders
END:VEVENT
BEGIN:VEVENT
DTSTART;TZID=America/New_York:20240807T120000
DTEND;TZID=America/New_York:20240807T130000
DTSTAMP:20260423T063648
CREATED:20240806T145045Z
LAST-MODIFIED:20240806T145045Z
UID:10005061-1723032000-1723035600@www.floridanutritioned.org
SUMMARY:Setting the Stage for Healthy Habits
DESCRIPTION:
URL:https://www.floridanutritioned.org/event/setting-the-stage-for-healthy-habits-8/
LOCATION:Dye Clay Family YMCA\, 3322 Moody Ave\, Orange Park\, FL\, 32065
CATEGORIES:Elders
END:VEVENT
BEGIN:VEVENT
DTSTART;TZID=America/New_York:20240802T173000
DTEND;TZID=America/New_York:20240802T183000
DTSTAMP:20260423T063648
CREATED:20240806T145041Z
LAST-MODIFIED:20240806T145041Z
UID:10005055-1722619800-1722623400@www.floridanutritioned.org
SUMMARY:Sweetened Drinks
DESCRIPTION:
URL:https://www.floridanutritioned.org/event/sweetened-drinks/
LOCATION:Dye Clay Family YMCA\, 3322 Moody Ave\, Orange Park\, FL\, 32065
CATEGORIES:Adults and Children
END:VEVENT
END:VCALENDAR