BEGIN:VCALENDAR
VERSION:2.0
PRODID:-//Florida Nutrition Education - ECPv6.15.20//NONSGML v1.0//EN
CALSCALE:GREGORIAN
METHOD:PUBLISH
X-ORIGINAL-URL:https://www.floridanutritioned.org
X-WR-CALDESC:Events for Florida Nutrition Education
REFRESH-INTERVAL;VALUE=DURATION:PT1H
X-Robots-Tag:noindex
X-PUBLISHED-TTL:PT1H
BEGIN:VTIMEZONE
TZID:America/New_York
BEGIN:DAYLIGHT
TZOFFSETFROM:-0500
TZOFFSETTO:-0400
TZNAME:EDT
DTSTART:20230312T070000
END:DAYLIGHT
BEGIN:STANDARD
TZOFFSETFROM:-0400
TZOFFSETTO:-0500
TZNAME:EST
DTSTART:20231105T060000
END:STANDARD
BEGIN:DAYLIGHT
TZOFFSETFROM:-0500
TZOFFSETTO:-0400
TZNAME:EDT
DTSTART:20240310T070000
END:DAYLIGHT
BEGIN:STANDARD
TZOFFSETFROM:-0400
TZOFFSETTO:-0500
TZNAME:EST
DTSTART:20241103T060000
END:STANDARD
BEGIN:DAYLIGHT
TZOFFSETFROM:-0500
TZOFFSETTO:-0400
TZNAME:EDT
DTSTART:20250309T070000
END:DAYLIGHT
BEGIN:STANDARD
TZOFFSETFROM:-0400
TZOFFSETTO:-0500
TZNAME:EST
DTSTART:20251102T060000
END:STANDARD
BEGIN:DAYLIGHT
TZOFFSETFROM:-0500
TZOFFSETTO:-0400
TZNAME:EDT
DTSTART:20260308T070000
END:DAYLIGHT
BEGIN:STANDARD
TZOFFSETFROM:-0400
TZOFFSETTO:-0500
TZNAME:EST
DTSTART:20261101T060000
END:STANDARD
END:VTIMEZONE
BEGIN:VEVENT
DTSTART;TZID=America/New_York:20250515T100000
DTEND;TZID=America/New_York:20250515T110000
DTSTAMP:20260421T120758
CREATED:20250428T132735Z
LAST-MODIFIED:20250428T132735Z
UID:10006964-1747303200-1747306800@www.floridanutritioned.org
SUMMARY:Understanding Food Labels
DESCRIPTION:Learn how to decode food labels\, understand ingredients and nutrition facts\, and learn what to look out for on a food label.
URL:https://www.floridanutritioned.org/event/understanding-food-labels-9/
LOCATION:First Baptist Church of Paisley\, 25145 Fishermans Road\, Paisley\, FL\, 32767
CATEGORIES:Adults and Elders
END:VEVENT
BEGIN:VEVENT
DTSTART;TZID=America/New_York:20250417T100000
DTEND;TZID=America/New_York:20250417T110000
DTSTAMP:20260421T120758
CREATED:20250326T180321Z
LAST-MODIFIED:20250326T180321Z
UID:10006736-1744884000-1744887600@www.floridanutritioned.org
SUMMARY:Sodium and Healthy Blood Pressure
DESCRIPTION:Learn what a healthy blood pressure is. Learn the risks of having high blood pressure. Learn how to prevent high blood pressure.
URL:https://www.floridanutritioned.org/event/sodium-and-healthy-blood-pressure/
LOCATION:First Baptist Church of Paisley\, 25145 Fishermans Road\, Paisley\, FL\, 32767
CATEGORIES:Adults and Elders
END:VEVENT
BEGIN:VEVENT
DTSTART;TZID=America/New_York:20250220T100000
DTEND;TZID=America/New_York:20250220T110000
DTSTAMP:20260421T120758
CREATED:20250128T160041Z
LAST-MODIFIED:20250128T160041Z
UID:10006343-1740045600-1740049200@www.floridanutritioned.org
SUMMARY:Choosing and Using Healthy Fats
DESCRIPTION:Learn the difference between Saturated Fats\, Unsaturated Fats\, and Trans Fats. Learn what fats come from which foods and the health effects of each.
URL:https://www.floridanutritioned.org/event/choosing-and-using-healthy-fats/
LOCATION:First Baptist Church of Paisley\, 25145 Fishermans Road\, Paisley\, FL\, 32767
END:VEVENT
BEGIN:VEVENT
DTSTART;TZID=America/New_York:20250121T100000
DTEND;TZID=America/New_York:20250121T110000
DTSTAMP:20260421T120758
CREATED:20241230T134507Z
LAST-MODIFIED:20241230T134507Z
UID:10006140-1737453600-1737457200@www.floridanutritioned.org
SUMMARY:Leah's Pantry - Setting Healthy Goals for 2025
DESCRIPTION:Learn how to set SMART goals. Learn how you can make healthier food choices in  2025.
URL:https://www.floridanutritioned.org/event/leahs-pantry-setting-healthy-goals-for-2025-3/
LOCATION:First Baptist Church of Paisley\, 25145 Fishermans Road\, Paisley\, FL\, 32767
CATEGORIES:Adults and Elders
END:VEVENT
BEGIN:VEVENT
DTSTART;TZID=America/New_York:20241119T110000
DTEND;TZID=America/New_York:20241119T120000
DTSTAMP:20260421T120758
CREATED:20241104T020426Z
LAST-MODIFIED:20241104T020426Z
UID:10005870-1732014000-1732017600@www.floridanutritioned.org
SUMMARY:Leah's Pantry - Eating Healthy During the Holidays
DESCRIPTION:Using MyPlate tools\, we will look at how we can make our plates healthier during the holiday season while still enjoying our food. We’ll look at serving sizes\, side dish substitutions\, drink substitutions\, and healthier desserts.
URL:https://www.floridanutritioned.org/event/leahs-pantry-eating-healthy-during-the-holidays-3/
LOCATION:First Baptist Church of Paisley\, 25145 Fishermans Road\, Paisley\, FL\, 32767
CATEGORIES:Adults and Elders
END:VEVENT
BEGIN:VEVENT
DTSTART;TZID=America/New_York:20241022T110000
DTEND;TZID=America/New_York:20241022T120000
DTSTAMP:20260421T120758
CREATED:20240926T171452Z
LAST-MODIFIED:20240926T171452Z
UID:10005379-1729594800-1729598400@www.floridanutritioned.org
SUMMARY:Leah's Pantry - Food Processing
DESCRIPTION:Learn what food processing is as well as what the different forms of food processing are. Learn how to identify if a food is whole\, minimally-processed\, or ultra-processed.
URL:https://www.floridanutritioned.org/event/leahs-pantry-food-processing-44/
LOCATION:First Baptist Church of Paisley\, 25145 Fishermans Road\, Paisley\, FL\, 32767
CATEGORIES:Adults and Elders
END:VEVENT
BEGIN:VEVENT
DTSTART;TZID=America/New_York:20240820T110000
DTEND;TZID=America/New_York:20240820T120000
DTSTAMP:20260421T120758
CREATED:20240726T130940Z
LAST-MODIFIED:20240726T130940Z
UID:10004864-1724151600-1724155200@www.floridanutritioned.org
SUMMARY:Leah's Pantry: Make Your Grains Whole
DESCRIPTION:Explore the differences between whole grains and refined grains. Determine which products are a source of whole grains. Learn about the health benefits of eating whole grains.
URL:https://www.floridanutritioned.org/event/leahs-pantry-make-your-grains-whole-5/
LOCATION:First Baptist Church of Paisley\, 25145 Fishermans Road\, Paisley\, FL\, 32767
CATEGORIES:Adults and Elders
END:VEVENT
BEGIN:VEVENT
DTSTART;TZID=America/New_York:20240716T110000
DTEND;TZID=America/New_York:20240716T120000
DTSTAMP:20260421T120758
CREATED:20240626T170126Z
LAST-MODIFIED:20240626T170126Z
UID:10004465-1721127600-1721131200@www.floridanutritioned.org
SUMMARY:Leah's Pantry -Gut Health
DESCRIPTION:Learn what gut health is and what it means. Learn about why having a healthy gut is so important as well as ways we can improve our gut health.
URL:https://www.floridanutritioned.org/event/leahs-pantry-gut-health-26/
LOCATION:First Baptist Church of Paisley\, 25145 Fishermans Road\, Paisley\, FL\, 32767
CATEGORIES:Adults and Elders
END:VEVENT
BEGIN:VEVENT
DTSTART;TZID=America/New_York:20240618T110000
DTEND;TZID=America/New_York:20240618T120000
DTSTAMP:20260421T120758
CREATED:20240523T142036Z
LAST-MODIFIED:20240523T142036Z
UID:10004177-1718708400-1718712000@www.floridanutritioned.org
SUMMARY:Leah's Pantry -Food Labels
DESCRIPTION:Learn to decode food labels\, understand ingredients and nutrition facts\, and learn what you need to most be on the lookout for on a food label.
URL:https://www.floridanutritioned.org/event/leahs-pantry-food-labels-6/
LOCATION:First Baptist Church of Paisley\, 25145 Fishermans Road\, Paisley\, FL\, 32767
CATEGORIES:Adults and Elders
END:VEVENT
BEGIN:VEVENT
DTSTART;TZID=America/New_York:20240521T110000
DTEND;TZID=America/New_York:20240521T120000
DTSTAMP:20260421T120758
CREATED:20240426T134131Z
LAST-MODIFIED:20240426T134131Z
UID:10003928-1716289200-1716292800@www.floridanutritioned.org
SUMMARY:Leah's Pantry - Intro to MyPlate
DESCRIPTION:Learn about MyPlate and important things to incorporate onto your plate. Compare the differences between MyPlate and the Healthy Eating Plate. Learn about portion sizes.
URL:https://www.floridanutritioned.org/event/leahs-pantry-intro-to-myplate/
LOCATION:First Baptist Church of Paisley\, 25145 Fishermans Road\, Paisley\, FL\, 32767
CATEGORIES:Adults and Elders
END:VEVENT
BEGIN:VEVENT
DTSTART;TZID=America/New_York:20240417T080000
DTEND;TZID=America/New_York:20240417T090000
DTSTAMP:20260421T120758
CREATED:20240326T182327Z
LAST-MODIFIED:20240326T182327Z
UID:10003540-1713340800-1713344400@www.floridanutritioned.org
SUMMARY:Leah's Pantry - MyPlate
DESCRIPTION:Learn about MyPlate and important things to incorporate on your plate. Compare the differences between MyPlate and the Healthy Eating  Plate. We’ll also talk about portion sizes.
URL:https://www.floridanutritioned.org/event/leahs-pantry-myplate-4/
LOCATION:First Baptist Church of Paisley\, 25145 Fishermans Road\, Paisley\, FL\, 32767
CATEGORIES:Adults and Elders
END:VEVENT
END:VCALENDAR