BEGIN:VCALENDAR
VERSION:2.0
PRODID:-//Florida Nutrition Education - ECPv6.15.20//NONSGML v1.0//EN
CALSCALE:GREGORIAN
METHOD:PUBLISH
X-WR-CALNAME:Florida Nutrition Education
X-ORIGINAL-URL:https://www.floridanutritioned.org
X-WR-CALDESC:Events for Florida Nutrition Education
REFRESH-INTERVAL;VALUE=DURATION:PT1H
X-Robots-Tag:noindex
X-PUBLISHED-TTL:PT1H
BEGIN:VTIMEZONE
TZID:America/New_York
BEGIN:DAYLIGHT
TZOFFSETFROM:-0500
TZOFFSETTO:-0400
TZNAME:EDT
DTSTART:20220313T070000
END:DAYLIGHT
BEGIN:STANDARD
TZOFFSETFROM:-0400
TZOFFSETTO:-0500
TZNAME:EST
DTSTART:20221106T060000
END:STANDARD
BEGIN:DAYLIGHT
TZOFFSETFROM:-0500
TZOFFSETTO:-0400
TZNAME:EDT
DTSTART:20230312T070000
END:DAYLIGHT
BEGIN:STANDARD
TZOFFSETFROM:-0400
TZOFFSETTO:-0500
TZNAME:EST
DTSTART:20231105T060000
END:STANDARD
BEGIN:DAYLIGHT
TZOFFSETFROM:-0500
TZOFFSETTO:-0400
TZNAME:EDT
DTSTART:20240310T070000
END:DAYLIGHT
BEGIN:STANDARD
TZOFFSETFROM:-0400
TZOFFSETTO:-0500
TZNAME:EST
DTSTART:20241103T060000
END:STANDARD
BEGIN:DAYLIGHT
TZOFFSETFROM:-0500
TZOFFSETTO:-0400
TZNAME:EDT
DTSTART:20250309T070000
END:DAYLIGHT
BEGIN:STANDARD
TZOFFSETFROM:-0400
TZOFFSETTO:-0500
TZNAME:EST
DTSTART:20251102T060000
END:STANDARD
END:VTIMEZONE
BEGIN:VEVENT
DTSTART;TZID=America/New_York:20240108T163000
DTEND;TZID=America/New_York:20240108T173000
DTSTAMP:20260421T134810
CREATED:20240108T191349Z
LAST-MODIFIED:20240108T191349Z
UID:10002774-1704731400-1704735000@www.floridanutritioned.org
SUMMARY:Leah's Pantry: Make Half Your Grains Whole + Grain Game
DESCRIPTION:
URL:https://www.floridanutritioned.org/event/leahs-pantry-make-half-your-grains-whole-grain-game/
LOCATION:Florida Keys Children’s Shelter\, 73 High Point Rd\, Tavernier\, FL\, 33070
END:VEVENT
BEGIN:VEVENT
DTSTART;TZID=America/New_York:20231110T170000
DTEND;TZID=America/New_York:20231110T180000
DTSTAMP:20260421T134810
CREATED:20231127T131236Z
LAST-MODIFIED:20231129T120932Z
UID:10002154-1699635600-1699639200@www.floridanutritioned.org
SUMMARY:Leah's Pantry: Garden Sort/Plant Part We Eat/Eating in Season
DESCRIPTION:
URL:https://www.floridanutritioned.org/event/leahs-pantry-garden-sort-plant-part-we-eat-eating-in-season/
LOCATION:Florida Keys Children’s Shelter\, 73 High Point Rd\, Tavernier\, FL\, 33070
CATEGORIES:Children
END:VEVENT
END:VCALENDAR