BEGIN:VCALENDAR
VERSION:2.0
PRODID:-//Florida Nutrition Education - ECPv6.15.20//NONSGML v1.0//EN
CALSCALE:GREGORIAN
METHOD:PUBLISH
X-ORIGINAL-URL:https://www.floridanutritioned.org
X-WR-CALDESC:Events for Florida Nutrition Education
REFRESH-INTERVAL;VALUE=DURATION:PT1H
X-Robots-Tag:noindex
X-PUBLISHED-TTL:PT1H
BEGIN:VTIMEZONE
TZID:America/New_York
BEGIN:DAYLIGHT
TZOFFSETFROM:-0500
TZOFFSETTO:-0400
TZNAME:EDT
DTSTART:20230312T070000
END:DAYLIGHT
BEGIN:STANDARD
TZOFFSETFROM:-0400
TZOFFSETTO:-0500
TZNAME:EST
DTSTART:20231105T060000
END:STANDARD
BEGIN:DAYLIGHT
TZOFFSETFROM:-0500
TZOFFSETTO:-0400
TZNAME:EDT
DTSTART:20240310T070000
END:DAYLIGHT
BEGIN:STANDARD
TZOFFSETFROM:-0400
TZOFFSETTO:-0500
TZNAME:EST
DTSTART:20241103T060000
END:STANDARD
BEGIN:DAYLIGHT
TZOFFSETFROM:-0500
TZOFFSETTO:-0400
TZNAME:EDT
DTSTART:20250309T070000
END:DAYLIGHT
BEGIN:STANDARD
TZOFFSETFROM:-0400
TZOFFSETTO:-0500
TZNAME:EST
DTSTART:20251102T060000
END:STANDARD
BEGIN:DAYLIGHT
TZOFFSETFROM:-0500
TZOFFSETTO:-0400
TZNAME:EDT
DTSTART:20260308T070000
END:DAYLIGHT
BEGIN:STANDARD
TZOFFSETFROM:-0400
TZOFFSETTO:-0500
TZNAME:EST
DTSTART:20261101T060000
END:STANDARD
END:VTIMEZONE
BEGIN:VEVENT
DTSTART;TZID=America/New_York:20250122T100000
DTEND;TZID=America/New_York:20250122T110000
DTSTAMP:20260425T112305
CREATED:20241230T123126Z
LAST-MODIFIED:20241230T123126Z
UID:10006115-1737540000-1737543600@www.floridanutritioned.org
SUMMARY:Food Smarts: Make Half your Grains whole
DESCRIPTION:Participants will be learning about the difference between a refined grain and a whole grain as well as the health benefits of making half of your grain’s whole grains.
URL:https://www.floridanutritioned.org/event/food-smarts-make-half-your-grains-whole-6/
LOCATION:Goodwill Industries of SWFL-Bonita Springs\, 11601 Bonita Beach Road SE\, Bonita Springs\, FL\, 34135
CATEGORIES:Adults and Elders
END:VEVENT
BEGIN:VEVENT
DTSTART;TZID=America/New_York:20250108T100000
DTEND;TZID=America/New_York:20250108T110000
DTSTAMP:20260425T112305
CREATED:20241230T122727Z
LAST-MODIFIED:20241230T122727Z
UID:10006098-1736330400-1736334000@www.floridanutritioned.org
SUMMARY:Cooking Matters: Making Meals with\nFruits\, Vegetables\n& Whole Grains
DESCRIPTION:Participants will gain confidence to include more fruits\, vegetables and whole grains into their families’ meals.
URL:https://www.floridanutritioned.org/event/cooking-matters-making-meals-withfruits-vegetables-whole-grains/
LOCATION:Goodwill Industries of SWFL-Bonita Springs\, 11601 Bonita Beach Road SE\, Bonita Springs\, FL\, 34135
CATEGORIES:Adults and Elders
END:VEVENT
BEGIN:VEVENT
DTSTART;TZID=America/New_York:20241016T100000
DTEND;TZID=America/New_York:20241016T110000
DTSTAMP:20260425T112305
CREATED:20240927T165647Z
LAST-MODIFIED:20241001T155750Z
UID:10005505-1729072800-1729076400@www.floridanutritioned.org
SUMMARY:10 Tips for Adults: Eating Better on a Budget
DESCRIPTION:Participants will discuss how to shop on a budget and get the best deals when purchasing food as well as making healthier choices.
URL:https://www.floridanutritioned.org/event/10-tips-for-adults-eating-better-on-a-budget-13/
LOCATION:Goodwill Industries of SWFL-Bonita Springs\, 11601 Bonita Beach Road SE\, Bonita Springs\, FL\, 34135
CATEGORIES:Adults and Elders
END:VEVENT
END:VCALENDAR