BEGIN:VCALENDAR
VERSION:2.0
PRODID:-//Florida Nutrition Education - ECPv6.15.20//NONSGML v1.0//EN
CALSCALE:GREGORIAN
METHOD:PUBLISH
X-ORIGINAL-URL:https://www.floridanutritioned.org
X-WR-CALDESC:Events for Florida Nutrition Education
REFRESH-INTERVAL;VALUE=DURATION:PT1H
X-Robots-Tag:noindex
X-PUBLISHED-TTL:PT1H
BEGIN:VTIMEZONE
TZID:America/New_York
BEGIN:DAYLIGHT
TZOFFSETFROM:-0500
TZOFFSETTO:-0400
TZNAME:EDT
DTSTART:20240310T070000
END:DAYLIGHT
BEGIN:STANDARD
TZOFFSETFROM:-0400
TZOFFSETTO:-0500
TZNAME:EST
DTSTART:20241103T060000
END:STANDARD
BEGIN:DAYLIGHT
TZOFFSETFROM:-0500
TZOFFSETTO:-0400
TZNAME:EDT
DTSTART:20250309T070000
END:DAYLIGHT
BEGIN:STANDARD
TZOFFSETFROM:-0400
TZOFFSETTO:-0500
TZNAME:EST
DTSTART:20251102T060000
END:STANDARD
BEGIN:DAYLIGHT
TZOFFSETFROM:-0500
TZOFFSETTO:-0400
TZNAME:EDT
DTSTART:20260308T070000
END:DAYLIGHT
BEGIN:STANDARD
TZOFFSETFROM:-0400
TZOFFSETTO:-0500
TZNAME:EST
DTSTART:20261101T060000
END:STANDARD
END:VTIMEZONE
BEGIN:VEVENT
DTSTART;TZID=America/New_York:20250703T103000
DTEND;TZID=America/New_York:20250703T110000
DTSTAMP:20260421T132105
CREATED:20250627T135132Z
LAST-MODIFIED:20250627T135132Z
UID:10007323-1751538600-1751540400@www.floridanutritioned.org
SUMMARY:Smart Shopping for Veggies and Fruit
DESCRIPTION:Making nutritious choices does not have to hurt your wallet. Getting enough of these foods promotes health and can reduce your risk of certain diseases. There are many low-cost ways to meet your fruit and vegetable needs. Join us to learn tips and tricks for smart shopping!
URL:https://www.floridanutritioned.org/event/smart-shopping-for-veggies-and-fruit/
LOCATION:Joseph N Davis Community Center\, 1590 Schoolhouse Street\, Melbourne\, FL\, 32901
CATEGORIES:Elders
END:VEVENT
BEGIN:VEVENT
DTSTART;TZID=America/New_York:20250206T103000
DTEND;TZID=America/New_York:20250206T110000
DTSTAMP:20260421T132105
CREATED:20250128T160014Z
LAST-MODIFIED:20250128T160014Z
UID:10006324-1738837800-1738839600@www.floridanutritioned.org
SUMMARY:Make Moving Fun
DESCRIPTION:Movement is an essential ingredient in the recipe for a healthy lifestyle. Join us to learn some tips and tricks for adding more movement into your day and making it fun.
URL:https://www.floridanutritioned.org/event/make-moving-fun-8/
LOCATION:Joseph N Davis Community Center\, 1590 Schoolhouse Street\, Melbourne\, FL\, 32901
END:VEVENT
BEGIN:VEVENT
DTSTART;TZID=America/New_York:20250206T103000
DTEND;TZID=America/New_York:20250206T110000
DTSTAMP:20260421T132105
CREATED:20250128T160012Z
LAST-MODIFIED:20250128T160012Z
UID:10006319-1738837800-1738839600@www.floridanutritioned.org
SUMMARY:Make Moving Fun
DESCRIPTION:Movement is an essential ingredient in the recipe for a healthy lifestyle. Join us to learn some tips and tricks for adding more movement into your day and making it fun.
URL:https://www.floridanutritioned.org/event/make-moving-fun-4/
LOCATION:Joseph N Davis Community Center\, 1590 Schoolhouse Street\, Melbourne\, FL\, 32901
CATEGORIES:Elders
END:VEVENT
END:VCALENDAR