BEGIN:VCALENDAR
VERSION:2.0
PRODID:-//Florida Nutrition Education - ECPv6.15.20//NONSGML v1.0//EN
CALSCALE:GREGORIAN
METHOD:PUBLISH
X-ORIGINAL-URL:https://www.floridanutritioned.org
X-WR-CALDESC:Events for Florida Nutrition Education
REFRESH-INTERVAL;VALUE=DURATION:PT1H
X-Robots-Tag:noindex
X-PUBLISHED-TTL:PT1H
BEGIN:VTIMEZONE
TZID:America/New_York
BEGIN:DAYLIGHT
TZOFFSETFROM:-0500
TZOFFSETTO:-0400
TZNAME:EDT
DTSTART:20230312T070000
END:DAYLIGHT
BEGIN:STANDARD
TZOFFSETFROM:-0400
TZOFFSETTO:-0500
TZNAME:EST
DTSTART:20231105T060000
END:STANDARD
BEGIN:DAYLIGHT
TZOFFSETFROM:-0500
TZOFFSETTO:-0400
TZNAME:EDT
DTSTART:20240310T070000
END:DAYLIGHT
BEGIN:STANDARD
TZOFFSETFROM:-0400
TZOFFSETTO:-0500
TZNAME:EST
DTSTART:20241103T060000
END:STANDARD
BEGIN:DAYLIGHT
TZOFFSETFROM:-0500
TZOFFSETTO:-0400
TZNAME:EDT
DTSTART:20250309T070000
END:DAYLIGHT
BEGIN:STANDARD
TZOFFSETFROM:-0400
TZOFFSETTO:-0500
TZNAME:EST
DTSTART:20251102T060000
END:STANDARD
END:VTIMEZONE
BEGIN:VEVENT
DTSTART;TZID=America/New_York:20241212T110000
DTEND;TZID=America/New_York:20241212T114500
DTSTAMP:20260422T092319
CREATED:20241127T131746Z
LAST-MODIFIED:20241127T131746Z
UID:10006007-1734001200-1734003900@www.floridanutritioned.org
SUMMARY:MyPlate: Holiday Meals
DESCRIPTION:During this holiday season\, find ways to keep your family healthy! Learn how to make healthier habits\, choose more nutritious snacks\, create fun holiday themed recipes\, manage weight\, and control portions.
URL:https://www.floridanutritioned.org/event/myplate-holiday-meals-2/
LOCATION:Metro Health Apopka\, 701 S Orange Blossom Trail\, Apopka\, FL\, 32703
CATEGORIES:Adults
END:VEVENT
BEGIN:VEVENT
DTSTART;TZID=America/New_York:20241114T110000
DTEND;TZID=America/New_York:20241114T113000
DTSTAMP:20260422T092319
CREATED:20241104T020732Z
LAST-MODIFIED:20241104T020732Z
UID:10005879-1731582000-1731583800@www.floridanutritioned.org
SUMMARY:MyPlate: Whole Grains
DESCRIPTION:Eating whole grains as part of a healthy diet may reduce the risk of getting heart disease. Eating whole grain foods that have fiber\, as part of an overall healthy diet\, can support healthy digestion. Eating whole grains\, as part of an overall healthy diet\, may help with weight management.
URL:https://www.floridanutritioned.org/event/myplate-whole-grains-5/
LOCATION:Metro Health Apopka\, 701 S Orange Blossom Trail\, Apopka\, FL\, 32703
CATEGORIES:Adults
END:VEVENT
END:VCALENDAR