BEGIN:VCALENDAR
VERSION:2.0
PRODID:-//Florida Nutrition Education - ECPv6.15.20//NONSGML v1.0//EN
CALSCALE:GREGORIAN
METHOD:PUBLISH
X-ORIGINAL-URL:https://www.floridanutritioned.org
X-WR-CALDESC:Events for Florida Nutrition Education
REFRESH-INTERVAL;VALUE=DURATION:PT1H
X-Robots-Tag:noindex
X-PUBLISHED-TTL:PT1H
BEGIN:VTIMEZONE
TZID:America/New_York
BEGIN:DAYLIGHT
TZOFFSETFROM:-0500
TZOFFSETTO:-0400
TZNAME:EDT
DTSTART:20230312T070000
END:DAYLIGHT
BEGIN:STANDARD
TZOFFSETFROM:-0400
TZOFFSETTO:-0500
TZNAME:EST
DTSTART:20231105T060000
END:STANDARD
BEGIN:DAYLIGHT
TZOFFSETFROM:-0500
TZOFFSETTO:-0400
TZNAME:EDT
DTSTART:20240310T070000
END:DAYLIGHT
BEGIN:STANDARD
TZOFFSETFROM:-0400
TZOFFSETTO:-0500
TZNAME:EST
DTSTART:20241103T060000
END:STANDARD
BEGIN:DAYLIGHT
TZOFFSETFROM:-0500
TZOFFSETTO:-0400
TZNAME:EDT
DTSTART:20250309T070000
END:DAYLIGHT
BEGIN:STANDARD
TZOFFSETFROM:-0400
TZOFFSETTO:-0500
TZNAME:EST
DTSTART:20251102T060000
END:STANDARD
END:VTIMEZONE
BEGIN:VEVENT
DTSTART;TZID=America/New_York:20240425T093000
DTEND;TZID=America/New_York:20240425T093000
DTSTAMP:20260419T132553
CREATED:20240411T175417Z
LAST-MODIFIED:20240411T175417Z
UID:10003894-1714037400-1714037400@www.floridanutritioned.org
SUMMARY:Adult\, 4 week\, 60 minutes: Building a Wholesome Diet Week 2
DESCRIPTION:
URL:https://www.floridanutritioned.org/event/adult-4-week-60-minutes-building-a-wholesome-diet-week-2-2/
LOCATION:Miami Dade County Public Schools NW Transportation Center\, 9900 NW South River Dr\, Medley\, Florida\, 33166
END:VEVENT
BEGIN:VEVENT
DTSTART;TZID=America/New_York:20240418T093000
DTEND;TZID=America/New_York:20240418T103000
DTSTAMP:20260419T132553
CREATED:20240411T175417Z
LAST-MODIFIED:20240411T175417Z
UID:10003893-1713432600-1713436200@www.floridanutritioned.org
SUMMARY:Adult\, 4 week\, 60 minutes: Setting the Stage for Healthy Habits Week 1
DESCRIPTION:
URL:https://www.floridanutritioned.org/event/adult-4-week-60-minutes-setting-the-stage-for-healthy-habits-week-1-3/
LOCATION:Miami Dade County Public Schools NW Transportation Center\, 9900 NW South River Dr\, Medley\, Florida\, 33166
END:VEVENT
BEGIN:VEVENT
DTSTART;TZID=America/New_York:20240411T093000
DTEND;TZID=America/New_York:20240411T103000
DTSTAMP:20260419T132553
CREATED:20240411T175414Z
LAST-MODIFIED:20240411T175414Z
UID:10003892-1712827800-1712831400@www.floridanutritioned.org
SUMMARY:MyPlate for My Family: MyPlate Family Meals
DESCRIPTION:
URL:https://www.floridanutritioned.org/event/myplate-for-my-family-myplate-family-meals-32/
LOCATION:Miami Dade County Public Schools NW Transportation Center\, 9900 NW South River Dr\, Medley\, Florida\, 33166
END:VEVENT
BEGIN:VEVENT
DTSTART;TZID=America/New_York:20240404T093000
DTEND;TZID=America/New_York:20240404T103000
DTSTAMP:20260419T132553
CREATED:20240411T175414Z
LAST-MODIFIED:20240411T175414Z
UID:10003891-1712223000-1712226600@www.floridanutritioned.org
SUMMARY:MyPlate for My Family: Vegetables and Fruits Simple Solutions
DESCRIPTION:
URL:https://www.floridanutritioned.org/event/myplate-for-my-family-vegetables-and-fruits-simple-solutions-19/
LOCATION:Miami Dade County Public Schools NW Transportation Center\, 9900 NW South River Dr\, Medley\, Florida\, 33166
END:VEVENT
END:VCALENDAR