BEGIN:VCALENDAR
VERSION:2.0
PRODID:-//Florida Nutrition Education - ECPv6.15.20//NONSGML v1.0//EN
CALSCALE:GREGORIAN
METHOD:PUBLISH
X-WR-CALNAME:Florida Nutrition Education
X-ORIGINAL-URL:https://www.floridanutritioned.org
X-WR-CALDESC:Events for Florida Nutrition Education
REFRESH-INTERVAL;VALUE=DURATION:PT1H
X-Robots-Tag:noindex
X-PUBLISHED-TTL:PT1H
BEGIN:VTIMEZONE
TZID:America/New_York
BEGIN:DAYLIGHT
TZOFFSETFROM:-0500
TZOFFSETTO:-0400
TZNAME:EDT
DTSTART:20240310T070000
END:DAYLIGHT
BEGIN:STANDARD
TZOFFSETFROM:-0400
TZOFFSETTO:-0500
TZNAME:EST
DTSTART:20241103T060000
END:STANDARD
BEGIN:DAYLIGHT
TZOFFSETFROM:-0500
TZOFFSETTO:-0400
TZNAME:EDT
DTSTART:20250309T070000
END:DAYLIGHT
BEGIN:STANDARD
TZOFFSETFROM:-0400
TZOFFSETTO:-0500
TZNAME:EST
DTSTART:20251102T060000
END:STANDARD
BEGIN:DAYLIGHT
TZOFFSETFROM:-0500
TZOFFSETTO:-0400
TZNAME:EDT
DTSTART:20260308T070000
END:DAYLIGHT
BEGIN:STANDARD
TZOFFSETFROM:-0400
TZOFFSETTO:-0500
TZNAME:EST
DTSTART:20261101T060000
END:STANDARD
BEGIN:DAYLIGHT
TZOFFSETFROM:-0500
TZOFFSETTO:-0400
TZNAME:EDT
DTSTART:20270314T070000
END:DAYLIGHT
BEGIN:STANDARD
TZOFFSETFROM:-0400
TZOFFSETTO:-0500
TZNAME:EST
DTSTART:20271107T060000
END:STANDARD
END:VTIMEZONE
BEGIN:VEVENT
DTSTART;TZID=America/New_York:20260414T113000
DTEND;TZID=America/New_York:20260414T123000
DTSTAMP:20260423T062420
CREATED:20260325T120414Z
LAST-MODIFIED:20260325T120414Z
UID:10008316-1776166200-1776169800@www.floridanutritioned.org
SUMMARY:Food Smart:  Fuel Your Brain
DESCRIPTION:Participants will learn how what you eat affects your brain
URL:https://www.floridanutritioned.org/event/food-smart-fuel-your-brain-3/
LOCATION:Naples South Regional Library\, 8065 Lely Cultural Pkwy\, Naples\, FL\, 34113
CATEGORIES:Adults and Elders
END:VEVENT
BEGIN:VEVENT
DTSTART;TZID=America/New_York:20260210T113000
DTEND;TZID=America/New_York:20260210T123000
DTSTAMP:20260423T062420
CREATED:20260122T185821Z
LAST-MODIFIED:20260122T185821Z
UID:10008114-1770723000-1770726600@www.floridanutritioned.org
SUMMARY:Food Smarts:  Fuel Your Brain
DESCRIPTION:Participants will learn how what you eat affects your brain
URL:https://www.floridanutritioned.org/event/food-smarts-fuel-your-brain-5/
LOCATION:Naples South Regional Library\, 8065 Lely Cultural Pkwy\, Naples\, FL\, 34113
CATEGORIES:Adults and Elders
END:VEVENT
BEGIN:VEVENT
DTSTART;TZID=America/New_York:20251209T113000
DTEND;TZID=America/New_York:20251209T123000
DTSTAMP:20260423T062420
CREATED:20251120T150807Z
LAST-MODIFIED:20251124T183458Z
UID:10007972-1765279800-1765283400@www.floridanutritioned.org
SUMMARY:Food Smarts: Fuel Your Brain
DESCRIPTION:Participants will learn the importance to incorporate fruits and vegetables in a variety of forms: raw\, cooked\, canned\, or frozen.
URL:https://www.floridanutritioned.org/event/food-smarts-fuel-your-brain-2/
LOCATION:Naples South Regional Library\, 8065 Lely Cultural Pkwy\, Naples\, FL\, 34113
CATEGORIES:Elders
END:VEVENT
BEGIN:VEVENT
DTSTART;TZID=America/New_York:20250806T103000
DTEND;TZID=America/New_York:20250806T113000
DTSTAMP:20260423T062420
CREATED:20250731T172850Z
LAST-MODIFIED:20250731T172850Z
UID:10007590-1754476200-1754479800@www.floridanutritioned.org
SUMMARY:Food Smarts: Nutrition Labels
DESCRIPTION:Participants will learn how to read a nutrition label and what to look for on it.
URL:https://www.floridanutritioned.org/event/food-smarts-nutrition-labels/
LOCATION:Naples South Regional Library\, 8065 Lely Cultural Pkwy\, Naples\, FL\, 34113
CATEGORIES:Adults
END:VEVENT
END:VCALENDAR