BEGIN:VCALENDAR
VERSION:2.0
PRODID:-//Florida Nutrition Education - ECPv6.15.20//NONSGML v1.0//EN
CALSCALE:GREGORIAN
METHOD:PUBLISH
X-WR-CALNAME:Florida Nutrition Education
X-ORIGINAL-URL:https://www.floridanutritioned.org
X-WR-CALDESC:Events for Florida Nutrition Education
REFRESH-INTERVAL;VALUE=DURATION:PT1H
X-Robots-Tag:noindex
X-PUBLISHED-TTL:PT1H
BEGIN:VTIMEZONE
TZID:America/New_York
BEGIN:DAYLIGHT
TZOFFSETFROM:-0500
TZOFFSETTO:-0400
TZNAME:EDT
DTSTART:20230312T070000
END:DAYLIGHT
BEGIN:STANDARD
TZOFFSETFROM:-0400
TZOFFSETTO:-0500
TZNAME:EST
DTSTART:20231105T060000
END:STANDARD
BEGIN:DAYLIGHT
TZOFFSETFROM:-0500
TZOFFSETTO:-0400
TZNAME:EDT
DTSTART:20240310T070000
END:DAYLIGHT
BEGIN:STANDARD
TZOFFSETFROM:-0400
TZOFFSETTO:-0500
TZNAME:EST
DTSTART:20241103T060000
END:STANDARD
BEGIN:DAYLIGHT
TZOFFSETFROM:-0500
TZOFFSETTO:-0400
TZNAME:EDT
DTSTART:20250309T070000
END:DAYLIGHT
BEGIN:STANDARD
TZOFFSETFROM:-0400
TZOFFSETTO:-0500
TZNAME:EST
DTSTART:20251102T060000
END:STANDARD
BEGIN:DAYLIGHT
TZOFFSETFROM:-0500
TZOFFSETTO:-0400
TZNAME:EDT
DTSTART:20260308T070000
END:DAYLIGHT
BEGIN:STANDARD
TZOFFSETFROM:-0400
TZOFFSETTO:-0500
TZNAME:EST
DTSTART:20261101T060000
END:STANDARD
END:VTIMEZONE
BEGIN:VEVENT
DTSTART;TZID=America/New_York:20250716T110000
DTEND;TZID=America/New_York:20250716T120000
DTSTAMP:20260423T093928
CREATED:20250627T142857Z
LAST-MODIFIED:20250627T142857Z
UID:10007404-1752663600-1752667200@www.floridanutritioned.org
SUMMARY:Healthy Choices for Every Body
DESCRIPTION:
URL:https://www.floridanutritioned.org/event/healthy-choices-for-every-body-34/
LOCATION:North Andrews Gardens Community Center\, 250 NE 56 Ct\, Oakland Park\, FL\, 33334
CATEGORIES:Adults and Elders
END:VEVENT
BEGIN:VEVENT
DTSTART;TZID=America/New_York:20250416T110000
DTEND;TZID=America/New_York:20250416T120000
DTSTAMP:20260423T093928
CREATED:20250401T115306Z
LAST-MODIFIED:20250401T115306Z
UID:10006839-1744801200-1744804800@www.floridanutritioned.org
SUMMARY:Healthy Choices for Every Body
DESCRIPTION:
URL:https://www.floridanutritioned.org/event/healthy-choices-for-every-body-18/
LOCATION:North Andrews Gardens Community Center\, 250 NE 56 Ct\, Oakland Park\, FL\, 33334
CATEGORIES:Adults and Elders
END:VEVENT
BEGIN:VEVENT
DTSTART;TZID=America/New_York:20250313T093000
DTEND;TZID=America/New_York:20250313T103000
DTSTAMP:20260423T093928
CREATED:20250303T142658Z
LAST-MODIFIED:20250303T142658Z
UID:10006645-1741858200-1741861800@www.floridanutritioned.org
SUMMARY:Healthy choices for Every Body
DESCRIPTION:
URL:https://www.floridanutritioned.org/event/healthy-choices-for-every-body-15/
LOCATION:North Andrews Gardens Community Center\, 250 NE 56 Ct\, Oakland Park\, FL\, 33334
CATEGORIES:Adults
END:VEVENT
BEGIN:VEVENT
DTSTART;TZID=America/New_York:20250219T110000
DTEND;TZID=America/New_York:20250219T120000
DTSTAMP:20260423T093928
CREATED:20250130T195408Z
LAST-MODIFIED:20250130T195408Z
UID:10006439-1739962800-1739966400@www.floridanutritioned.org
SUMMARY:Food Smarts for Adults
DESCRIPTION:
URL:https://www.floridanutritioned.org/event/food-smarts-for-adults-20/
LOCATION:North Andrews Gardens Community Center\, 250 NE 56 Ct\, Oakland Park\, FL\, 33334
CATEGORIES:Adults and Elders
END:VEVENT
BEGIN:VEVENT
DTSTART;TZID=America/New_York:20241218T110000
DTEND;TZID=America/New_York:20241218T120000
DTSTAMP:20260423T093928
CREATED:20241206T174638Z
LAST-MODIFIED:20241206T174638Z
UID:10006054-1734519600-1734523200@www.floridanutritioned.org
SUMMARY:Leah's Pantry: Best Practices for Healthy Living
DESCRIPTION:
URL:https://www.floridanutritioned.org/event/leahs-pantry-best-practices-for-healthy-living-25/
LOCATION:North Andrews Gardens Community Center\, 250 NE 56 Ct\, Oakland Park\, FL\, 33334
CATEGORIES:Adults and Elders
END:VEVENT
BEGIN:VEVENT
DTSTART;TZID=America/New_York:20240709T120000
DTEND;TZID=America/New_York:20240709T130000
DTSTAMP:20260423T093928
CREATED:20240627T183956Z
LAST-MODIFIED:20240627T183956Z
UID:10004600-1720526400-1720530000@www.floridanutritioned.org
SUMMARY:Eat Healthy Be Active
DESCRIPTION:
URL:https://www.floridanutritioned.org/event/eat-healthy-be-active-10/
LOCATION:North Andrews Gardens Community Center\, 250 NE 56 Ct\, Oakland Park\, FL\, 33334
CATEGORIES:Adults and Elders
END:VEVENT
END:VCALENDAR