BEGIN:VCALENDAR
VERSION:2.0
PRODID:-//Florida Nutrition Education - ECPv6.15.20//NONSGML v1.0//EN
CALSCALE:GREGORIAN
METHOD:PUBLISH
X-ORIGINAL-URL:https://www.floridanutritioned.org
X-WR-CALDESC:Events for Florida Nutrition Education
REFRESH-INTERVAL;VALUE=DURATION:PT1H
X-Robots-Tag:noindex
X-PUBLISHED-TTL:PT1H
BEGIN:VTIMEZONE
TZID:America/New_York
BEGIN:DAYLIGHT
TZOFFSETFROM:-0500
TZOFFSETTO:-0400
TZNAME:EDT
DTSTART:20230312T070000
END:DAYLIGHT
BEGIN:STANDARD
TZOFFSETFROM:-0400
TZOFFSETTO:-0500
TZNAME:EST
DTSTART:20231105T060000
END:STANDARD
BEGIN:DAYLIGHT
TZOFFSETFROM:-0500
TZOFFSETTO:-0400
TZNAME:EDT
DTSTART:20240310T070000
END:DAYLIGHT
BEGIN:STANDARD
TZOFFSETFROM:-0400
TZOFFSETTO:-0500
TZNAME:EST
DTSTART:20241103T060000
END:STANDARD
BEGIN:DAYLIGHT
TZOFFSETFROM:-0500
TZOFFSETTO:-0400
TZNAME:EDT
DTSTART:20250309T070000
END:DAYLIGHT
BEGIN:STANDARD
TZOFFSETFROM:-0400
TZOFFSETTO:-0500
TZNAME:EST
DTSTART:20251102T060000
END:STANDARD
END:VTIMEZONE
BEGIN:VEVENT
DTSTART;TZID=America/New_York:20240724T103000
DTEND;TZID=America/New_York:20240724T113000
DTSTAMP:20260422T062703
CREATED:20240627T185340Z
LAST-MODIFIED:20240627T185340Z
UID:10004665-1721817000-1721820600@www.floridanutritioned.org
SUMMARY:10 Tips: Smart Shopping for Veggies and Fruits
DESCRIPTION:
URL:https://www.floridanutritioned.org/event/10-tips-smart-shopping-for-veggies-and-fruits-36/
LOCATION:Physician Care Center of East Palm Beach\, 7700 S Dixie Hwy\, West Palm Beach\, FL\, 33405
END:VEVENT
BEGIN:VEVENT
DTSTART;TZID=America/New_York:20240724T093000
DTEND;TZID=America/New_York:20240724T103000
DTSTAMP:20260422T062703
CREATED:20240627T185340Z
LAST-MODIFIED:20240627T185340Z
UID:10004664-1721813400-1721817000@www.floridanutritioned.org
SUMMARY:10 Tips: Smart Shopping for Veggies and Fruits
DESCRIPTION:
URL:https://www.floridanutritioned.org/event/10-tips-smart-shopping-for-veggies-and-fruits-35/
LOCATION:Physician Care Center of East Palm Beach\, 7700 S Dixie Hwy\, West Palm Beach\, FL\, 33405
END:VEVENT
BEGIN:VEVENT
DTSTART;TZID=America/New_York:20240724T083000
DTEND;TZID=America/New_York:20240724T093000
DTSTAMP:20260422T062703
CREATED:20240627T185340Z
LAST-MODIFIED:20240627T185340Z
UID:10004663-1721809800-1721813400@www.floridanutritioned.org
SUMMARY:10 Tips: Smart Shopping for Veggies and Fruits
DESCRIPTION:
URL:https://www.floridanutritioned.org/event/10-tips-smart-shopping-for-veggies-and-fruits-34/
LOCATION:Physician Care Center of East Palm Beach\, 7700 S Dixie Hwy\, West Palm Beach\, FL\, 33405
END:VEVENT
END:VCALENDAR