BEGIN:VCALENDAR
VERSION:2.0
PRODID:-//Florida Nutrition Education - ECPv6.15.20//NONSGML v1.0//EN
CALSCALE:GREGORIAN
METHOD:PUBLISH
X-WR-CALNAME:Florida Nutrition Education
X-ORIGINAL-URL:https://www.floridanutritioned.org
X-WR-CALDESC:Events for Florida Nutrition Education
REFRESH-INTERVAL;VALUE=DURATION:PT1H
X-Robots-Tag:noindex
X-PUBLISHED-TTL:PT1H
BEGIN:VTIMEZONE
TZID:America/New_York
BEGIN:DAYLIGHT
TZOFFSETFROM:-0500
TZOFFSETTO:-0400
TZNAME:EDT
DTSTART:20230312T070000
END:DAYLIGHT
BEGIN:STANDARD
TZOFFSETFROM:-0400
TZOFFSETTO:-0500
TZNAME:EST
DTSTART:20231105T060000
END:STANDARD
BEGIN:DAYLIGHT
TZOFFSETFROM:-0500
TZOFFSETTO:-0400
TZNAME:EDT
DTSTART:20240310T070000
END:DAYLIGHT
BEGIN:STANDARD
TZOFFSETFROM:-0400
TZOFFSETTO:-0500
TZNAME:EST
DTSTART:20241103T060000
END:STANDARD
BEGIN:DAYLIGHT
TZOFFSETFROM:-0500
TZOFFSETTO:-0400
TZNAME:EDT
DTSTART:20250309T070000
END:DAYLIGHT
BEGIN:STANDARD
TZOFFSETFROM:-0400
TZOFFSETTO:-0500
TZNAME:EST
DTSTART:20251102T060000
END:STANDARD
BEGIN:DAYLIGHT
TZOFFSETFROM:-0500
TZOFFSETTO:-0400
TZNAME:EDT
DTSTART:20260308T070000
END:DAYLIGHT
BEGIN:STANDARD
TZOFFSETFROM:-0400
TZOFFSETTO:-0500
TZNAME:EST
DTSTART:20261101T060000
END:STANDARD
END:VTIMEZONE
BEGIN:VEVENT
DTSTART;TZID=America/New_York:20250212T000000
DTEND;TZID=America/New_York:20250212T133000
DTSTAMP:20260421T163057
CREATED:20250210T183906Z
LAST-MODIFIED:20250210T183906Z
UID:10006576-1739318400-1739367000@www.floridanutritioned.org
SUMMARY:Setting the Stage for Healthy Habits
DESCRIPTION:Consider personal experiences with food\, cooking\, and health\, and set goals for a healthier life.
URL:https://www.floridanutritioned.org/event/setting-the-stage-for-healthy-habits-26/
LOCATION:Putnam Family Resource Center\, 320 S State Rd 19\, Palatka\, FL\, 32177
CATEGORIES:Adults
END:VEVENT
BEGIN:VEVENT
DTSTART;TZID=America/New_York:20250108T110000
DTEND;TZID=America/New_York:20250108T120000
DTSTAMP:20260421T163057
CREATED:20250107T204528Z
LAST-MODIFIED:20250107T204528Z
UID:10006279-1736334000-1736337600@www.floridanutritioned.org
SUMMARY:Reach Your Goals\, Step By Step
DESCRIPTION:Boost your health by eating more fruits and vegetables and staying active. This session dives into the benefits of a balanced diet combined with regular physical activity. Set goals for wellness and learn easy exercises you can try at home.
URL:https://www.floridanutritioned.org/event/reach-your-goals-step-by-step-2/
LOCATION:Putnam Family Resource Center\, 320 S State Rd 19\, Palatka\, FL\, 32177
CATEGORIES:Adults and Elders
END:VEVENT
BEGIN:VEVENT
DTSTART;TZID=America/New_York:20241023T120000
DTEND;TZID=America/New_York:20241023T133000
DTSTAMP:20260421T163057
CREATED:20241015T164755Z
LAST-MODIFIED:20241015T164755Z
UID:10005601-1729684800-1729690200@www.floridanutritioned.org
SUMMARY:Shifting to Healthier Choices
DESCRIPTION:
URL:https://www.floridanutritioned.org/event/shifting-to-healthier-choices-5/
LOCATION:Putnam Family Resource Center\, 320 S State Rd 19\, Palatka\, FL\, 32177
CATEGORIES:Adults
END:VEVENT
BEGIN:VEVENT
DTSTART;TZID=America/New_York:20241009T120000
DTEND;TZID=America/New_York:20241009T133000
DTSTAMP:20260421T163057
CREATED:20241015T164151Z
LAST-MODIFIED:20241015T164151Z
UID:10005582-1728475200-1728480600@www.floridanutritioned.org
SUMMARY:Affordable Meals
DESCRIPTION:
URL:https://www.floridanutritioned.org/event/affordable-meals-5/
LOCATION:Putnam Family Resource Center\, 320 S State Rd 19\, Palatka\, FL\, 32177
CATEGORIES:Adults
END:VEVENT
BEGIN:VEVENT
DTSTART;TZID=America/New_York:20240925T120000
DTEND;TZID=America/New_York:20240925T133000
DTSTAMP:20260421T163057
CREATED:20240830T185709Z
LAST-MODIFIED:20240830T185709Z
UID:10005301-1727265600-1727271000@www.floridanutritioned.org
SUMMARY:Food Safety
DESCRIPTION:
URL:https://www.floridanutritioned.org/event/food-safety-6/
LOCATION:Putnam Family Resource Center\, 320 S State Rd 19\, Palatka\, FL\, 32177
END:VEVENT
BEGIN:VEVENT
DTSTART;TZID=America/New_York:20240911T120000
DTEND;TZID=America/New_York:20240911T133000
DTSTAMP:20260421T163057
CREATED:20240830T185624Z
LAST-MODIFIED:20240830T185624Z
UID:10005285-1726056000-1726061400@www.floridanutritioned.org
SUMMARY:Healthy Cooking
DESCRIPTION:
URL:https://www.floridanutritioned.org/event/healthy-cooking-6/
LOCATION:Putnam Family Resource Center\, 320 S State Rd 19\, Palatka\, FL\, 32177
END:VEVENT
BEGIN:VEVENT
DTSTART;TZID=America/New_York:20240828T120000
DTEND;TZID=America/New_York:20240828T133000
DTSTAMP:20260421T163057
CREATED:20240806T145240Z
LAST-MODIFIED:20240806T145240Z
UID:10005096-1724846400-1724851800@www.floridanutritioned.org
SUMMARY:Setting the Stage for Healthy Habits
DESCRIPTION:
URL:https://www.floridanutritioned.org/event/setting-the-stage-for-healthy-habits-22/
LOCATION:Putnam Family Resource Center\, 320 S State Rd 19\, Palatka\, FL\, 32177
END:VEVENT
BEGIN:VEVENT
DTSTART;TZID=America/New_York:20240724T173000
DTEND;TZID=America/New_York:20240724T183000
DTSTAMP:20260421T163057
CREATED:20240701T195753Z
LAST-MODIFIED:20240701T195753Z
UID:10004739-1721842200-1721845800@www.floridanutritioned.org
SUMMARY:Food Processing
DESCRIPTION:
URL:https://www.floridanutritioned.org/event/food-processing-2/
LOCATION:Putnam Family Resource Center\, 320 S State Rd 19\, Palatka\, FL\, 32177
CATEGORIES:Adults
END:VEVENT
BEGIN:VEVENT
DTSTART;TZID=America/New_York:20240710T173000
DTEND;TZID=America/New_York:20240710T183000
DTSTAMP:20260421T163057
CREATED:20240701T195453Z
LAST-MODIFIED:20240701T195453Z
UID:10004723-1720632600-1720636200@www.floridanutritioned.org
SUMMARY:Building a Wholesome Diet
DESCRIPTION:
URL:https://www.floridanutritioned.org/event/building-a-wholesome-diet-6/
LOCATION:Putnam Family Resource Center\, 320 S State Rd 19\, Palatka\, FL\, 32177
CATEGORIES:Adults
END:VEVENT
BEGIN:VEVENT
DTSTART;TZID=America/New_York:20240626T173000
DTEND;TZID=America/New_York:20240626T183000
DTSTAMP:20260421T163057
CREATED:20240605T114836Z
LAST-MODIFIED:20240605T114836Z
UID:10004432-1719423000-1719426600@www.floridanutritioned.org
SUMMARY:Food Smarts - Setting the Stage for Healthy Habits
DESCRIPTION:
URL:https://www.floridanutritioned.org/event/food-smarts-setting-the-stage-for-healthy-habits-21/
LOCATION:Putnam Family Resource Center\, 320 S State Rd 19\, Palatka\, FL\, 32177
CATEGORIES:Adults and Elders
END:VEVENT
END:VCALENDAR