BEGIN:VCALENDAR
VERSION:2.0
PRODID:-//Florida Nutrition Education - ECPv6.15.20//NONSGML v1.0//EN
CALSCALE:GREGORIAN
METHOD:PUBLISH
X-ORIGINAL-URL:https://www.floridanutritioned.org
X-WR-CALDESC:Events for Florida Nutrition Education
REFRESH-INTERVAL;VALUE=DURATION:PT1H
X-Robots-Tag:noindex
X-PUBLISHED-TTL:PT1H
BEGIN:VTIMEZONE
TZID:America/New_York
BEGIN:DAYLIGHT
TZOFFSETFROM:-0500
TZOFFSETTO:-0400
TZNAME:EDT
DTSTART:20230312T070000
END:DAYLIGHT
BEGIN:STANDARD
TZOFFSETFROM:-0400
TZOFFSETTO:-0500
TZNAME:EST
DTSTART:20231105T060000
END:STANDARD
BEGIN:DAYLIGHT
TZOFFSETFROM:-0500
TZOFFSETTO:-0400
TZNAME:EDT
DTSTART:20240310T070000
END:DAYLIGHT
BEGIN:STANDARD
TZOFFSETFROM:-0400
TZOFFSETTO:-0500
TZNAME:EST
DTSTART:20241103T060000
END:STANDARD
BEGIN:DAYLIGHT
TZOFFSETFROM:-0500
TZOFFSETTO:-0400
TZNAME:EDT
DTSTART:20250309T070000
END:DAYLIGHT
BEGIN:STANDARD
TZOFFSETFROM:-0400
TZOFFSETTO:-0500
TZNAME:EST
DTSTART:20251102T060000
END:STANDARD
END:VTIMEZONE
BEGIN:VEVENT
DTSTART;TZID=America/New_York:20241114T100000
DTEND;TZID=America/New_York:20241114T110000
DTSTAMP:20260422T045156
CREATED:20241023T173548Z
LAST-MODIFIED:20241023T173548Z
UID:10005729-1731578400-1731582000@www.floridanutritioned.org
SUMMARY:Leah's Pantry: Food Smarts (Adults)
DESCRIPTION:Interactive\, trauma-informed nutrition lessons that include a food demo and focus on moving your body\, adding more nutrients to your daily eating\, setting realistic health goals\, and meal prepping/grocery shopping on a budget
URL:https://www.floridanutritioned.org/event/leahs-pantry-food-smarts-adults-211/
LOCATION:River Reach Apartments\, 2151 N River Reach Cir\, Crystal River\, FL\, 34428
END:VEVENT
BEGIN:VEVENT
DTSTART;TZID=America/New_York:20241107T100000
DTEND;TZID=America/New_York:20241107T110000
DTSTAMP:20260422T045156
CREATED:20241023T173548Z
LAST-MODIFIED:20241023T173548Z
UID:10005727-1730973600-1730977200@www.floridanutritioned.org
SUMMARY:Leah's Pantry: Food Smarts (Adults)
DESCRIPTION:Interactive\, trauma-informed nutrition lessons that include a food demo and focus on moving your body\, adding more nutrients to your daily eating\, setting realistic health goals\, and meal prepping/grocery shopping on a budget
URL:https://www.floridanutritioned.org/event/leahs-pantry-food-smarts-adults-210/
LOCATION:River Reach Apartments\, 2151 N River Reach Cir\, Crystal River\, FL\, 34428
END:VEVENT
BEGIN:VEVENT
DTSTART;TZID=America/New_York:20241031T100000
DTEND;TZID=America/New_York:20241031T110000
DTSTAMP:20260422T045156
CREATED:20240926T195207Z
LAST-MODIFIED:20240926T195207Z
UID:10005489-1730368800-1730372400@www.floridanutritioned.org
SUMMARY:Leah's Pantry: Food Smarts (Adults)
DESCRIPTION:Interactive\, trauma-informed nutrition lessons that include a food demo and focus on moving your body\, adding more nutrients to your daily eating\, setting realistic health goals\, and meal prepping/grocery shopping on a budget
URL:https://www.floridanutritioned.org/event/leahs-pantry-food-smarts-adults-176/
LOCATION:River Reach Apartments\, 2151 N River Reach Cir\, Crystal River\, FL\, 34428
END:VEVENT
BEGIN:VEVENT
DTSTART;TZID=America/New_York:20241024T100000
DTEND;TZID=America/New_York:20241024T110000
DTSTAMP:20260422T045156
CREATED:20240926T195207Z
LAST-MODIFIED:20240926T195207Z
UID:10005487-1729764000-1729767600@www.floridanutritioned.org
SUMMARY:Leah's Pantry: Food Smarts (Adults)
DESCRIPTION:Interactive\, trauma-informed nutrition lessons that include a food demo and focus on moving your body\, adding more nutrients to your daily eating\, setting realistic health goals\, and meal prepping/grocery shopping on a budget
URL:https://www.floridanutritioned.org/event/leahs-pantry-food-smarts-adults-175/
LOCATION:River Reach Apartments\, 2151 N River Reach Cir\, Crystal River\, FL\, 34428
END:VEVENT
BEGIN:VEVENT
DTSTART;TZID=America/New_York:20241010T100000
DTEND;TZID=America/New_York:20241010T110000
DTSTAMP:20260422T045156
CREATED:20240926T195145Z
LAST-MODIFIED:20240926T195145Z
UID:10005484-1728554400-1728558000@www.floridanutritioned.org
SUMMARY:Leah's Pantry: Food Smarts (Adults)
DESCRIPTION:Interactive\, trauma-informed nutrition lessons that include a food demo and focus on moving your body\, adding more nutrients to your daily eating\, setting realistic health goals\, and meal prepping/grocery shopping on a budget
URL:https://www.floridanutritioned.org/event/leahs-pantry-food-smarts-adults-174/
LOCATION:River Reach Apartments\, 2151 N River Reach Cir\, Crystal River\, FL\, 34428
CATEGORIES:Adults and Elders
END:VEVENT
BEGIN:VEVENT
DTSTART;TZID=America/New_York:20241003T100000
DTEND;TZID=America/New_York:20241003T110000
DTSTAMP:20260422T045156
CREATED:20240926T195143Z
LAST-MODIFIED:20240926T195143Z
UID:10005482-1727949600-1727953200@www.floridanutritioned.org
SUMMARY:Leah's Pantry: Food Smarts (Adults)
DESCRIPTION:Interactive\, trauma-informed nutrition lessons that include a food demo and focus on moving your body\, adding more nutrients to your daily eating\, setting realistic health goals\, and meal prepping/grocery shopping on a budget
URL:https://www.floridanutritioned.org/event/leahs-pantry-food-smarts-adults-173/
LOCATION:River Reach Apartments\, 2151 N River Reach Cir\, Crystal River\, FL\, 34428
CATEGORIES:Adults and Elders
END:VEVENT
END:VCALENDAR