BEGIN:VCALENDAR
VERSION:2.0
PRODID:-//Florida Nutrition Education - ECPv6.15.20//NONSGML v1.0//EN
CALSCALE:GREGORIAN
METHOD:PUBLISH
X-ORIGINAL-URL:https://www.floridanutritioned.org
X-WR-CALDESC:Events for Florida Nutrition Education
REFRESH-INTERVAL;VALUE=DURATION:PT1H
X-Robots-Tag:noindex
X-PUBLISHED-TTL:PT1H
BEGIN:VTIMEZONE
TZID:America/New_York
BEGIN:DAYLIGHT
TZOFFSETFROM:-0500
TZOFFSETTO:-0400
TZNAME:EDT
DTSTART:20230312T070000
END:DAYLIGHT
BEGIN:STANDARD
TZOFFSETFROM:-0400
TZOFFSETTO:-0500
TZNAME:EST
DTSTART:20231105T060000
END:STANDARD
BEGIN:DAYLIGHT
TZOFFSETFROM:-0500
TZOFFSETTO:-0400
TZNAME:EDT
DTSTART:20240310T070000
END:DAYLIGHT
BEGIN:STANDARD
TZOFFSETFROM:-0400
TZOFFSETTO:-0500
TZNAME:EST
DTSTART:20241103T060000
END:STANDARD
BEGIN:DAYLIGHT
TZOFFSETFROM:-0500
TZOFFSETTO:-0400
TZNAME:EDT
DTSTART:20250309T070000
END:DAYLIGHT
BEGIN:STANDARD
TZOFFSETFROM:-0400
TZOFFSETTO:-0500
TZNAME:EST
DTSTART:20251102T060000
END:STANDARD
BEGIN:DAYLIGHT
TZOFFSETFROM:-0500
TZOFFSETTO:-0400
TZNAME:EDT
DTSTART:20260308T070000
END:DAYLIGHT
BEGIN:STANDARD
TZOFFSETFROM:-0400
TZOFFSETTO:-0500
TZNAME:EST
DTSTART:20261101T060000
END:STANDARD
END:VTIMEZONE
BEGIN:VEVENT
DTSTART;TZID=America/New_York:20250211T100000
DTEND;TZID=America/New_York:20250211T110000
DTSTAMP:20260423T063639
CREATED:20250203T181054Z
LAST-MODIFIED:20250203T181054Z
UID:10006523-1739268000-1739271600@www.floridanutritioned.org
SUMMARY:Healthy for Life
DESCRIPTION:Interactive\, trauma-informed nutrition lessons that include a food demo and focus on how to nourish your body\, moving your body in safe & enjoyable ways\, exploring where foods come from\, and health goal setting
URL:https://www.floridanutritioned.org/event/healthy-for-life-106/
LOCATION:The Freedom Church\, 108 1st St.\, Eloise\, FL\, 33880
CATEGORIES:Adults
END:VEVENT
BEGIN:VEVENT
DTSTART;TZID=America/New_York:20250204T100000
DTEND;TZID=America/New_York:20250204T110000
DTSTAMP:20260423T063639
CREATED:20250203T181053Z
LAST-MODIFIED:20250203T181053Z
UID:10006521-1738663200-1738666800@www.floridanutritioned.org
SUMMARY:Healthy for Life
DESCRIPTION:Interactive\, trauma-informed nutrition lessons that include a food demo and focus on how to nourish your body\, moving your body in safe & enjoyable ways\, exploring where foods come from\, and health goal setting
URL:https://www.floridanutritioned.org/event/healthy-for-life-104/
LOCATION:The Freedom Church\, 108 1st St.\, Eloise\, FL\, 33880
CATEGORIES:Adults
END:VEVENT
BEGIN:VEVENT
DTSTART;TZID=America/New_York:20250128T100000
DTEND;TZID=America/New_York:20250128T110000
DTSTAMP:20260423T063639
CREATED:20241230T140711Z
LAST-MODIFIED:20241230T140711Z
UID:10006210-1738058400-1738062000@www.floridanutritioned.org
SUMMARY:Healthy for Life
DESCRIPTION:Interactive\, trauma-informed nutrition lessons that include a food demo and focus on moving your body\, adding more nutrients to your daily eating\, setting realistic health goals\, and meal prepping/grocery shopping on a budget
URL:https://www.floridanutritioned.org/event/healthy-for-life-87/
LOCATION:The Freedom Church\, 108 1st St.\, Eloise\, FL\, 33880
CATEGORIES:Adults
END:VEVENT
BEGIN:VEVENT
DTSTART;TZID=America/New_York:20250121T100000
DTEND;TZID=America/New_York:20250121T110000
DTSTAMP:20260423T063639
CREATED:20241230T140410Z
LAST-MODIFIED:20241230T140410Z
UID:10006197-1737453600-1737457200@www.floridanutritioned.org
SUMMARY:Healthy for Life
DESCRIPTION:Interactive\, trauma-informed nutrition lessons that include a food demo and focus on how to nourish your body\, moving your body in safe & enjoyable ways\, exploring where foods come from\, and health goal setting
URL:https://www.floridanutritioned.org/event/healthy-for-life-83/
LOCATION:The Freedom Church\, 108 1st St.\, Eloise\, FL\, 33880
CATEGORIES:Adults
END:VEVENT
BEGIN:VEVENT
DTSTART;TZID=America/New_York:20250114T100000
DTEND;TZID=America/New_York:20250114T110000
DTSTAMP:20260423T063639
CREATED:20241230T140156Z
LAST-MODIFIED:20241230T140156Z
UID:10006188-1736848800-1736852400@www.floridanutritioned.org
SUMMARY:Healthy for Life
DESCRIPTION:Interactive\, trauma-informed nutrition lessons that include a food demo and focus on how to nourish your body\, moving your body in safe & enjoyable ways\, exploring where foods come from\, and health goal setting
URL:https://www.floridanutritioned.org/event/healthy-for-life-80/
LOCATION:The Freedom Church\, 108 1st St.\, Eloise\, FL\, 33880
CATEGORIES:Adults
END:VEVENT
BEGIN:VEVENT
DTSTART;TZID=America/New_York:20241022T100000
DTEND;TZID=America/New_York:20241022T110000
DTSTAMP:20260423T063639
CREATED:20240926T193935Z
LAST-MODIFIED:20240926T193935Z
UID:10005448-1729591200-1729594800@www.floridanutritioned.org
SUMMARY:Healthy for Life
DESCRIPTION:Designed to change relationships with food and nutrition by inspiring individuals and families to make healthy food choices part of their everyday lives
URL:https://www.floridanutritioned.org/event/healthy-for-life-37/
LOCATION:The Freedom Church\, 108 1st St.\, Eloise\, FL\, 33880
CATEGORIES:Adults
END:VEVENT
BEGIN:VEVENT
DTSTART;TZID=America/New_York:20241001T100000
DTEND;TZID=America/New_York:20241001T110000
DTSTAMP:20260423T063639
CREATED:20240926T193930Z
LAST-MODIFIED:20240926T193930Z
UID:10005442-1727776800-1727780400@www.floridanutritioned.org
SUMMARY:Healthy for Life
DESCRIPTION:Designed to change relationships with food and nutrition by inspiring individuals and families to make healthy food choices part of their everyday lives
URL:https://www.floridanutritioned.org/event/healthy-for-life-34/
LOCATION:The Freedom Church\, 108 1st St.\, Eloise\, FL\, 33880
CATEGORIES:Adults
END:VEVENT
BEGIN:VEVENT
DTSTART;TZID=America/New_York:20240130T100000
DTEND;TZID=America/New_York:20240130T110000
DTSTAMP:20260423T063639
CREATED:20231228T142104Z
LAST-MODIFIED:20231228T142104Z
UID:10002515-1706608800-1706612400@www.floridanutritioned.org
SUMMARY:Leah's Pantry: Food Smarts (Adult)
DESCRIPTION:Interactive\, trauma-informed nutrition lessons that include a food demo and focus on moving your body\, adding more nutrients to your daily eating\, setting realistic health goals\, and meal prepping/grocery shopping on a budget
URL:https://www.floridanutritioned.org/event/leahs-pantry-food-smarts-adult-59/
LOCATION:The Freedom Church\, 108 1st St.\, Eloise\, FL\, 33880
CATEGORIES:Adults
END:VEVENT
BEGIN:VEVENT
DTSTART;TZID=America/New_York:20240123T100000
DTEND;TZID=America/New_York:20240123T110000
DTSTAMP:20260423T063639
CREATED:20231228T142004Z
LAST-MODIFIED:20231228T142004Z
UID:10002509-1706004000-1706007600@www.floridanutritioned.org
SUMMARY:Leah's Pantry: Food Smarts (Adult)
DESCRIPTION:Interactive\, trauma-informed nutrition lessons that include a food demo and focus on moving your body\, adding more nutrients to your daily eating\, setting realistic health goals\, and meal prepping/grocery shopping on a budget
URL:https://www.floridanutritioned.org/event/leahs-pantry-food-smarts-adult-56/
LOCATION:The Freedom Church\, 108 1st St.\, Eloise\, FL\, 33880
CATEGORIES:Adults
END:VEVENT
BEGIN:VEVENT
DTSTART;TZID=America/New_York:20240116T100000
DTEND;TZID=America/New_York:20240116T110000
DTSTAMP:20260423T063639
CREATED:20231228T141903Z
LAST-MODIFIED:20231228T141903Z
UID:10002503-1705399200-1705402800@www.floridanutritioned.org
SUMMARY:Leah's Pantry: Food Smarts (Adult)
DESCRIPTION:Interactive\, trauma-informed nutrition lessons that include a food demo and focus on moving your body\, adding more nutrients to your daily eating\, setting realistic health goals\, and meal prepping/grocery shopping on a budget
URL:https://www.floridanutritioned.org/event/leahs-pantry-food-smarts-adult-51/
LOCATION:The Freedom Church\, 108 1st St.\, Eloise\, FL\, 33880
CATEGORIES:Adults
END:VEVENT
BEGIN:VEVENT
DTSTART;TZID=America/New_York:20240109T100000
DTEND;TZID=America/New_York:20240109T110000
DTSTAMP:20260423T063639
CREATED:20231228T141804Z
LAST-MODIFIED:20231228T141804Z
UID:10002499-1704794400-1704798000@www.floridanutritioned.org
SUMMARY:Leah's Pantry: Food Smarts (Adult)
DESCRIPTION:Interactive\, trauma-informed nutrition lessons that include a food demo and focus on moving your body\, adding more nutrients to your daily eating\, setting realistic health goals\, and meal prepping/grocery shopping on a budget
URL:https://www.floridanutritioned.org/event/leahs-pantry-food-smarts-adult-48/
LOCATION:The Freedom Church\, 108 1st St.\, Eloise\, FL\, 33880
CATEGORIES:Adults
END:VEVENT
BEGIN:VEVENT
DTSTART;TZID=America/New_York:20240102T100000
DTEND;TZID=America/New_York:20240102T110000
DTSTAMP:20260423T063639
CREATED:20231228T141704Z
LAST-MODIFIED:20231228T141704Z
UID:10002496-1704189600-1704193200@www.floridanutritioned.org
SUMMARY:Leah's Pantry: Food Smarts (Adult)
DESCRIPTION:Interactive\, trauma-informed nutrition lessons that include a food demo and focus on moving your body\, adding more nutrients to your daily eating\, setting realistic health goals\, and meal prepping/grocery shopping on a budget
URL:https://www.floridanutritioned.org/event/leahs-pantry-food-smarts-adult-45/
LOCATION:The Freedom Church\, 108 1st St.\, Eloise\, FL\, 33880
CATEGORIES:Adults
END:VEVENT
END:VCALENDAR