BEGIN:VCALENDAR
VERSION:2.0
PRODID:-//Florida Nutrition Education - ECPv6.15.20//NONSGML v1.0//EN
CALSCALE:GREGORIAN
METHOD:PUBLISH
X-WR-CALNAME:Florida Nutrition Education
X-ORIGINAL-URL:https://www.floridanutritioned.org
X-WR-CALDESC:Events for Florida Nutrition Education
REFRESH-INTERVAL;VALUE=DURATION:PT1H
X-Robots-Tag:noindex
X-PUBLISHED-TTL:PT1H
BEGIN:VTIMEZONE
TZID:America/New_York
BEGIN:DAYLIGHT
TZOFFSETFROM:-0500
TZOFFSETTO:-0400
TZNAME:EDT
DTSTART:20230312T070000
END:DAYLIGHT
BEGIN:STANDARD
TZOFFSETFROM:-0400
TZOFFSETTO:-0500
TZNAME:EST
DTSTART:20231105T060000
END:STANDARD
BEGIN:DAYLIGHT
TZOFFSETFROM:-0500
TZOFFSETTO:-0400
TZNAME:EDT
DTSTART:20240310T070000
END:DAYLIGHT
BEGIN:STANDARD
TZOFFSETFROM:-0400
TZOFFSETTO:-0500
TZNAME:EST
DTSTART:20241103T060000
END:STANDARD
BEGIN:DAYLIGHT
TZOFFSETFROM:-0500
TZOFFSETTO:-0400
TZNAME:EDT
DTSTART:20250309T070000
END:DAYLIGHT
BEGIN:STANDARD
TZOFFSETFROM:-0400
TZOFFSETTO:-0500
TZNAME:EST
DTSTART:20251102T060000
END:STANDARD
END:VTIMEZONE
BEGIN:VEVENT
DTSTART;TZID=America/New_York:20240613T120000
DTEND;TZID=America/New_York:20240613T130000
DTSTAMP:20260422T070517
CREATED:20240531T124441Z
LAST-MODIFIED:20240531T124441Z
UID:10004329-1718280000-1718283600@www.floridanutritioned.org
SUMMARY:Spend Smart Eat Smart: Protein            Recipe: Wraps your Way
DESCRIPTION:
URL:https://www.floridanutritioned.org/event/spend-smart-eat-smart-protein-recipe-wraps-your-way/
LOCATION:The Senior Care Foundation 6109\, 6109 Pembroke Rd\, Hollywood\, FL\, 33023
CATEGORIES:Elders
END:VEVENT
BEGIN:VEVENT
DTSTART;TZID=America/New_York:20240606T120000
DTEND;TZID=America/New_York:20240606T130000
DTSTAMP:20260422T070517
CREATED:20240531T124440Z
LAST-MODIFIED:20240531T124440Z
UID:10004328-1717675200-1717678800@www.floridanutritioned.org
SUMMARY:Spend Smart Eat Smart: Reducing Food Waste at Home            Recipe: Wraps your Way
DESCRIPTION:
URL:https://www.floridanutritioned.org/event/spend-smart-eat-smart-reducing-food-waste-at-home-recipe-wraps-your-way-3/
LOCATION:The Senior Care Foundation 6109\, 6109 Pembroke Rd\, Hollywood\, FL\, 33023
CATEGORIES:Elders
END:VEVENT
BEGIN:VEVENT
DTSTART;TZID=America/New_York:20240530T120000
DTEND;TZID=America/New_York:20240530T130000
DTSTAMP:20260422T070517
CREATED:20240430T181827Z
LAST-MODIFIED:20240430T181827Z
UID:10004082-1717070400-1717074000@www.floridanutritioned.org
SUMMARY:Spend Smart Eat Smart:  How to Use Planned Overs                Recipe: Rice and Red Beans
DESCRIPTION:
URL:https://www.floridanutritioned.org/event/spend-smart-eat-smart-how-to-use-planned-overs-recipe-rice-and-red-beans/
LOCATION:The Senior Care Foundation 6109\, 6109 Pembroke Rd\, Hollywood\, FL\, 33023
CATEGORIES:Elders
END:VEVENT
BEGIN:VEVENT
DTSTART;TZID=America/New_York:20240523T120000
DTEND;TZID=America/New_York:20240523T130000
DTSTAMP:20260422T070517
CREATED:20240430T181627Z
LAST-MODIFIED:20240430T181627Z
UID:10004080-1716465600-1716469200@www.floridanutritioned.org
SUMMARY:Spend Smart Eat Smart: Organize your Space                              Recipe: Amazing Kebobs
DESCRIPTION:
URL:https://www.floridanutritioned.org/event/spend-smart-eat-smart-organize-your-space-recipe-amazing-kebobs/
LOCATION:The Senior Care Foundation 6109\, 6109 Pembroke Rd\, Hollywood\, FL\, 33023
CATEGORIES:Elders
END:VEVENT
BEGIN:VEVENT
DTSTART;TZID=America/New_York:20240516T120000
DTEND;TZID=America/New_York:20240516T130000
DTSTAMP:20260422T070517
CREATED:20240430T181626Z
LAST-MODIFIED:20240430T181626Z
UID:10004077-1715860800-1715864400@www.floridanutritioned.org
SUMMARY:Spend Smart Eat Smart: How to Organize your Refrigerator            Recipe: Any Day's a Picnic Chicken Salad
DESCRIPTION:
URL:https://www.floridanutritioned.org/event/spend-smart-eat-smart-how-to-organize-your-refrigerator-recipe-any-days-a-picnic-chicken-salad/
LOCATION:The Senior Care Foundation 6109\, 6109 Pembroke Rd\, Hollywood\, FL\, 33023
CATEGORIES:Elders
END:VEVENT
BEGIN:VEVENT
DTSTART;TZID=America/New_York:20240509T120000
DTEND;TZID=America/New_York:20240509T130000
DTSTAMP:20260422T070517
CREATED:20240430T181526Z
LAST-MODIFIED:20240430T181526Z
UID:10004075-1715256000-1715259600@www.floridanutritioned.org
SUMMARY:Spend Smart Eat Smart: Reducing Food Waste at Home            Recipe: Wraps Your Way
DESCRIPTION:
URL:https://www.floridanutritioned.org/event/spend-smart-eat-smart-reducing-food-waste-at-home-recipe-wraps-your-way/
LOCATION:The Senior Care Foundation 6109\, 6109 Pembroke Rd\, Hollywood\, FL\, 33023
CATEGORIES:Elders
END:VEVENT
BEGIN:VEVENT
DTSTART;TZID=America/New_York:20240502T120000
DTEND;TZID=America/New_York:20240502T130000
DTSTAMP:20260422T070517
CREATED:20240430T181525Z
LAST-MODIFIED:20240430T181525Z
UID:10004073-1714651200-1714654800@www.floridanutritioned.org
SUMMARY:Start Simple with MyPlate - Cut Back on Added Sugars          Recipe: Banana Pancakes
DESCRIPTION:
URL:https://www.floridanutritioned.org/event/start-simple-with-myplate-cut-back-on-added-sugars-recipe-banana-pancakes/
LOCATION:The Senior Care Foundation 6109\, 6109 Pembroke Rd\, Hollywood\, FL\, 33023
CATEGORIES:Elders
END:VEVENT
BEGIN:VEVENT
DTSTART;TZID=America/New_York:20240425T120000
DTEND;TZID=America/New_York:20240425T130000
DTSTAMP:20260422T070517
CREATED:20240326T192718Z
LAST-MODIFIED:20240326T192718Z
UID:10003666-1714046400-1714050000@www.floridanutritioned.org
SUMMARY:Start Simple with MyPlate: Focus on Whole Fruits                     Recipe: Fruity Fun Chicken Salad Cups
DESCRIPTION:
URL:https://www.floridanutritioned.org/event/start-simple-with-myplate-focus-on-whole-fruits-recipe-fruity-fun-chicken-salad-cups/
LOCATION:The Senior Care Foundation 6109\, 6109 Pembroke Rd\, Hollywood\, FL\, 33023
CATEGORIES:Elders
END:VEVENT
BEGIN:VEVENT
DTSTART;TZID=America/New_York:20240418T120000
DTEND;TZID=America/New_York:20240418T130000
DTSTAMP:20260422T070517
CREATED:20240326T192717Z
LAST-MODIFIED:20240326T192717Z
UID:10003665-1713441600-1713445200@www.floridanutritioned.org
SUMMARY:Start Simple with MyPlate: Move to Low Fat or Fat Free Dairy                        Recipe: Butternut Squash Mac and Cheese
DESCRIPTION:
URL:https://www.floridanutritioned.org/event/start-simple-with-myplate-move-to-low-fat-or-fat-free-dairy-recipe-butternut-squash-mac-and-cheese/
LOCATION:The Senior Care Foundation 6109\, 6109 Pembroke Rd\, Hollywood\, FL\, 33023
CATEGORIES:Elders
END:VEVENT
BEGIN:VEVENT
DTSTART;TZID=America/New_York:20240411T120000
DTEND;TZID=America/New_York:20240411T130000
DTSTAMP:20260422T070517
CREATED:20240326T192717Z
LAST-MODIFIED:20240326T192717Z
UID:10003664-1712836800-1712840400@www.floridanutritioned.org
SUMMARY:Start Simple with MyPlate: Healthy Snacking with MyPlate                         Recipe: Baked Zucchini Sticks
DESCRIPTION:
URL:https://www.floridanutritioned.org/event/start-simple-with-myplate-healthy-snacking-with-myplate-recipe-baked-zucchini-sticks/
LOCATION:The Senior Care Foundation 6109\, 6109 Pembroke Rd\, Hollywood\, FL\, 33023
CATEGORIES:Elders
END:VEVENT
BEGIN:VEVENT
DTSTART;TZID=America/New_York:20240404T120000
DTEND;TZID=America/New_York:20240404T130000
DTSTAMP:20260422T070517
CREATED:20240326T192717Z
LAST-MODIFIED:20240326T192717Z
UID:10003663-1712232000-1712235600@www.floridanutritioned.org
SUMMARY:Start Simple with MyPlate: Dine Out/Take Out                          Recipe: Asian Chicken Wraps
DESCRIPTION:
URL:https://www.floridanutritioned.org/event/start-simple-with-myplate-dine-out-take-out-recipe-asian-chicken-wraps/
LOCATION:The Senior Care Foundation 6109\, 6109 Pembroke Rd\, Hollywood\, FL\, 33023
CATEGORIES:Elders
END:VEVENT
BEGIN:VEVENT
DTSTART;TZID=America/New_York:20240229T120000
DTEND;TZID=America/New_York:20240229T130000
DTSTAMP:20260422T070517
CREATED:20240131T124156Z
LAST-MODIFIED:20240131T124156Z
UID:10003009-1709208000-1709211600@www.floridanutritioned.org
SUMMARY:Spend Smart Eat Smart Protein         Recipe: Turkey Apple Sausage
DESCRIPTION:
URL:https://www.floridanutritioned.org/event/spend-smart-eat-smart-protein-recipe-turkey-apple-sausage-2/
LOCATION:The Senior Care Foundation 6109\, 6109 Pembroke Rd\, Hollywood\, FL\, 33023
CATEGORIES:Elders
END:VEVENT
BEGIN:VEVENT
DTSTART;TZID=America/New_York:20240222T120000
DTEND;TZID=America/New_York:20240222T130000
DTSTAMP:20260422T070517
CREATED:20240131T124155Z
LAST-MODIFIED:20240131T124155Z
UID:10003006-1708603200-1708606800@www.floridanutritioned.org
SUMMARY:Spend Smart Eat Smart Fruits         Recipe: Strawberry Pineapple Lemonade
DESCRIPTION:
URL:https://www.floridanutritioned.org/event/spend-smart-eat-smart-fruits-recipe-strawberry-pineapple-lemonade-2/
LOCATION:The Senior Care Foundation 6109\, 6109 Pembroke Rd\, Hollywood\, FL\, 33023
CATEGORIES:Elders
END:VEVENT
BEGIN:VEVENT
DTSTART;TZID=America/New_York:20240215T120000
DTEND;TZID=America/New_York:20240215T130000
DTSTAMP:20260422T070517
CREATED:20240131T123954Z
LAST-MODIFIED:20240131T123954Z
UID:10003002-1707998400-1708002000@www.floridanutritioned.org
SUMMARY:Spend Smart Eat Smart Vegetables Recipe: Mediterranean Salad
DESCRIPTION:
URL:https://www.floridanutritioned.org/event/spend-smart-eat-smart-vegetables-recipe-mediterranean-salad-2/
LOCATION:The Senior Care Foundation 6109\, 6109 Pembroke Rd\, Hollywood\, FL\, 33023
CATEGORIES:Elders
END:VEVENT
BEGIN:VEVENT
DTSTART;TZID=America/New_York:20240208T120000
DTEND;TZID=America/New_York:20240208T130000
DTSTAMP:20260422T070517
CREATED:20240131T123851Z
LAST-MODIFIED:20240131T123851Z
UID:10002994-1707393600-1707397200@www.floridanutritioned.org
SUMMARY:Eat Healthy Be Active                       Recipe: Curry Chicken Salad
DESCRIPTION:
URL:https://www.floridanutritioned.org/event/eat-healthy-be-active-recipe-curry-chicken-salad-2/
LOCATION:The Senior Care Foundation 6109\, 6109 Pembroke Rd\, Hollywood\, FL\, 33023
CATEGORIES:Elders
END:VEVENT
BEGIN:VEVENT
DTSTART;TZID=America/New_York:20240201T120000
DTEND;TZID=America/New_York:20240201T130000
DTSTAMP:20260422T070517
CREATED:20240131T123850Z
LAST-MODIFIED:20240131T123850Z
UID:10002990-1706788800-1706792400@www.floridanutritioned.org
SUMMARY:Eat Healthy Be Active                 Recipe:Curried Potatoes with Red Lentils
DESCRIPTION:
URL:https://www.floridanutritioned.org/event/eat-healthy-be-active-recipecurried-potatoes-with-red-lentils/
LOCATION:The Senior Care Foundation 6109\, 6109 Pembroke Rd\, Hollywood\, FL\, 33023
CATEGORIES:Elders
END:VEVENT
END:VCALENDAR