BEGIN:VCALENDAR
VERSION:2.0
PRODID:-//Florida Nutrition Education - ECPv6.15.20//NONSGML v1.0//EN
CALSCALE:GREGORIAN
METHOD:PUBLISH
X-WR-CALNAME:Florida Nutrition Education
X-ORIGINAL-URL:https://www.floridanutritioned.org
X-WR-CALDESC:Events for Florida Nutrition Education
REFRESH-INTERVAL;VALUE=DURATION:PT1H
X-Robots-Tag:noindex
X-PUBLISHED-TTL:PT1H
BEGIN:VTIMEZONE
TZID:America/New_York
BEGIN:DAYLIGHT
TZOFFSETFROM:-0500
TZOFFSETTO:-0400
TZNAME:EDT
DTSTART:20230312T070000
END:DAYLIGHT
BEGIN:STANDARD
TZOFFSETFROM:-0400
TZOFFSETTO:-0500
TZNAME:EST
DTSTART:20231105T060000
END:STANDARD
BEGIN:DAYLIGHT
TZOFFSETFROM:-0500
TZOFFSETTO:-0400
TZNAME:EDT
DTSTART:20240310T070000
END:DAYLIGHT
BEGIN:STANDARD
TZOFFSETFROM:-0400
TZOFFSETTO:-0500
TZNAME:EST
DTSTART:20241103T060000
END:STANDARD
BEGIN:DAYLIGHT
TZOFFSETFROM:-0500
TZOFFSETTO:-0400
TZNAME:EDT
DTSTART:20250309T070000
END:DAYLIGHT
BEGIN:STANDARD
TZOFFSETFROM:-0400
TZOFFSETTO:-0500
TZNAME:EST
DTSTART:20251102T060000
END:STANDARD
END:VTIMEZONE
BEGIN:VEVENT
DTSTART;TZID=America/New_York:20240430T160000
DTEND;TZID=America/New_York:20240430T170000
DTSTAMP:20260423T063230
CREATED:20240430T181523Z
LAST-MODIFIED:20240430T181523Z
UID:10004071-1714492800-1714496400@www.floridanutritioned.org
SUMMARY:10 Tips for Adults series A
DESCRIPTION:
URL:https://www.floridanutritioned.org/event/10-tips-for-adults-series-a-21/
LOCATION:TLC Recovery House – The Clubhouse\, 10 NW 204 St\, Miami Gardens\, FL\, 33169
CATEGORIES:Adults and Elders
END:VEVENT
BEGIN:VEVENT
DTSTART;TZID=America/New_York:20240416T160000
DTEND;TZID=America/New_York:20240416T170000
DTSTAMP:20260423T063230
CREATED:20240411T175216Z
LAST-MODIFIED:20240411T175216Z
UID:10003845-1713283200-1713286800@www.floridanutritioned.org
SUMMARY:Eat Smart Live Strong 2
DESCRIPTION:
URL:https://www.floridanutritioned.org/event/eat-smart-live-strong-2-2/
LOCATION:TLC Recovery House – The Clubhouse\, 10 NW 204 St\, Miami Gardens\, FL\, 33169
END:VEVENT
BEGIN:VEVENT
DTSTART;TZID=America/New_York:20240402T160000
DTEND;TZID=America/New_York:20240402T170000
DTSTAMP:20260423T063231
CREATED:20240411T175048Z
LAST-MODIFIED:20240411T175048Z
UID:10003825-1712073600-1712077200@www.floridanutritioned.org
SUMMARY:Eat Smart Live Strong #1
DESCRIPTION:
URL:https://www.floridanutritioned.org/event/eat-smart-live-strong-1/
LOCATION:TLC Recovery House – The Clubhouse\, 10 NW 204 St\, Miami Gardens\, FL\, 33169
CATEGORIES:Adults and Elders
END:VEVENT
END:VCALENDAR