BEGIN:VCALENDAR
VERSION:2.0
PRODID:-//Florida Nutrition Education - ECPv6.15.20//NONSGML v1.0//EN
CALSCALE:GREGORIAN
METHOD:PUBLISH
X-ORIGINAL-URL:https://www.floridanutritioned.org
X-WR-CALDESC:Events for Florida Nutrition Education
REFRESH-INTERVAL;VALUE=DURATION:PT1H
X-Robots-Tag:noindex
X-PUBLISHED-TTL:PT1H
BEGIN:VTIMEZONE
TZID:America/New_York
BEGIN:DAYLIGHT
TZOFFSETFROM:-0500
TZOFFSETTO:-0400
TZNAME:EDT
DTSTART:20230312T070000
END:DAYLIGHT
BEGIN:STANDARD
TZOFFSETFROM:-0400
TZOFFSETTO:-0500
TZNAME:EST
DTSTART:20231105T060000
END:STANDARD
BEGIN:DAYLIGHT
TZOFFSETFROM:-0500
TZOFFSETTO:-0400
TZNAME:EDT
DTSTART:20240310T070000
END:DAYLIGHT
BEGIN:STANDARD
TZOFFSETFROM:-0400
TZOFFSETTO:-0500
TZNAME:EST
DTSTART:20241103T060000
END:STANDARD
BEGIN:DAYLIGHT
TZOFFSETFROM:-0500
TZOFFSETTO:-0400
TZNAME:EDT
DTSTART:20250309T070000
END:DAYLIGHT
BEGIN:STANDARD
TZOFFSETFROM:-0400
TZOFFSETTO:-0500
TZNAME:EST
DTSTART:20251102T060000
END:STANDARD
END:VTIMEZONE
BEGIN:VEVENT
DTSTART;TZID=America/New_York:20241022T140000
DTEND;TZID=America/New_York:20241022T150000
DTSTAMP:20260423T063010
CREATED:20241001T181826Z
LAST-MODIFIED:20241001T181826Z
UID:10005561-1729605600-1729609200@www.floridanutritioned.org
SUMMARY:Leah's Pantry: Eating In-Season
DESCRIPTION:
URL:https://www.floridanutritioned.org/event/leahs-pantry-eating-in-season-13/
LOCATION:Tuscany Cove Apartments\, 5900 NW 7 Ave\, Miami\, FL\, 33127
END:VEVENT
BEGIN:VEVENT
DTSTART;TZID=America/New_York:20241015T140000
DTEND;TZID=America/New_York:20241015T150000
DTSTAMP:20260423T063010
CREATED:20241001T181826Z
LAST-MODIFIED:20241001T181826Z
UID:10005560-1729000800-1729004400@www.floridanutritioned.org
SUMMARY:Leah's Pantry: Storing Your Produce
DESCRIPTION:
URL:https://www.floridanutritioned.org/event/leahs-pantry-storing-your-produce-8/
LOCATION:Tuscany Cove Apartments\, 5900 NW 7 Ave\, Miami\, FL\, 33127
END:VEVENT
BEGIN:VEVENT
DTSTART;TZID=America/New_York:20240222T140000
DTEND;TZID=America/New_York:20240222T150000
DTSTAMP:20260423T063010
CREATED:20240223T124345Z
LAST-MODIFIED:20240223T124345Z
UID:10003159-1708610400-1708614000@www.floridanutritioned.org
SUMMARY:Eat Healthy Be Active: Quick Healthy Meals and Snacks
DESCRIPTION:
URL:https://www.floridanutritioned.org/event/eat-healthy-be-active-quick-healthy-meals-and-snacks-2/
LOCATION:Tuscany Cove Apartments\, 5900 NW 7 Ave\, Miami\, FL\, 33127
CATEGORIES:Elders
END:VEVENT
BEGIN:VEVENT
DTSTART;TZID=America/New_York:20240201T140000
DTEND;TZID=America/New_York:20240201T150000
DTSTAMP:20260423T063010
CREATED:20240213T135651Z
LAST-MODIFIED:20240213T135651Z
UID:10003141-1706796000-1706799600@www.floridanutritioned.org
SUMMARY:Eat Healthy Be Active: Enjoy Healthy Food Choices that Taste Great
DESCRIPTION:Elders
URL:https://www.floridanutritioned.org/event/eat-healthy-be-active-enjoy-healthy-food-choices-that-taste-great-3/
LOCATION:Tuscany Cove Apartments\, 5900 NW 7 Ave\, Miami\, FL\, 33127
END:VEVENT
END:VCALENDAR