BEGIN:VCALENDAR
VERSION:2.0
PRODID:-//Florida Nutrition Education - ECPv6.15.20//NONSGML v1.0//EN
CALSCALE:GREGORIAN
METHOD:PUBLISH
X-ORIGINAL-URL:https://www.floridanutritioned.org
X-WR-CALDESC:Events for Florida Nutrition Education
REFRESH-INTERVAL;VALUE=DURATION:PT1H
X-Robots-Tag:noindex
X-PUBLISHED-TTL:PT1H
BEGIN:VTIMEZONE
TZID:America/New_York
BEGIN:DAYLIGHT
TZOFFSETFROM:-0500
TZOFFSETTO:-0400
TZNAME:EDT
DTSTART:20240310T070000
END:DAYLIGHT
BEGIN:STANDARD
TZOFFSETFROM:-0400
TZOFFSETTO:-0500
TZNAME:EST
DTSTART:20241103T060000
END:STANDARD
BEGIN:DAYLIGHT
TZOFFSETFROM:-0500
TZOFFSETTO:-0400
TZNAME:EDT
DTSTART:20250309T070000
END:DAYLIGHT
BEGIN:STANDARD
TZOFFSETFROM:-0400
TZOFFSETTO:-0500
TZNAME:EST
DTSTART:20251102T060000
END:STANDARD
BEGIN:DAYLIGHT
TZOFFSETFROM:-0500
TZOFFSETTO:-0400
TZNAME:EDT
DTSTART:20260308T070000
END:DAYLIGHT
BEGIN:STANDARD
TZOFFSETFROM:-0400
TZOFFSETTO:-0500
TZNAME:EST
DTSTART:20261101T060000
END:STANDARD
BEGIN:DAYLIGHT
TZOFFSETFROM:-0500
TZOFFSETTO:-0400
TZNAME:EDT
DTSTART:20270314T070000
END:DAYLIGHT
BEGIN:STANDARD
TZOFFSETFROM:-0400
TZOFFSETTO:-0500
TZNAME:EST
DTSTART:20271107T060000
END:STANDARD
END:VTIMEZONE
BEGIN:VEVENT
DTSTART;TZID=America/New_York:20260413T103000
DTEND;TZID=America/New_York:20260413T113000
DTSTAMP:20260420T061529
CREATED:20260330T175631Z
LAST-MODIFIED:20260406T124252Z
UID:10008367-1776076200-1776079800@www.floridanutritioned.org
SUMMARY:Cooking Matters
DESCRIPTION:
URL:https://www.floridanutritioned.org/event/superstar-ingredients-10/
LOCATION:Unidad City of Miami Beach\, 7251 Collins Ave\, Miami Beach\, FL\, 33141
CATEGORIES:Adults and Elders,Spanish
END:VEVENT
BEGIN:VEVENT
DTSTART;TZID=America/New_York:20260309T103000
DTEND;TZID=America/New_York:20260309T113000
DTSTAMP:20260420T061529
CREATED:20260227T160252Z
LAST-MODIFIED:20260227T160252Z
UID:10008236-1773052200-1773055800@www.floridanutritioned.org
SUMMARY:Leah's Pantry - Around the Table
DESCRIPTION:
URL:https://www.floridanutritioned.org/event/leahs-pantry-around-the-table/
LOCATION:Unidad City of Miami Beach\, 7251 Collins Ave\, Miami Beach\, FL\, 33141
CATEGORIES:Adults and Elders,Spanish
END:VEVENT
BEGIN:VEVENT
DTSTART;TZID=America/New_York:20260209T103000
DTEND;TZID=America/New_York:20260209T113000
DTSTAMP:20260420T061529
CREATED:20260129T200115Z
LAST-MODIFIED:20260129T200115Z
UID:10008129-1770633000-1770636600@www.floridanutritioned.org
SUMMARY:Leah's Pantry - Food Smarts for Adults
DESCRIPTION:
URL:https://www.floridanutritioned.org/event/leahs-pantry-food-smarts-for-adults-7/
LOCATION:Unidad City of Miami Beach\, 7251 Collins Ave\, Miami Beach\, FL\, 33141
CATEGORIES:Adults,Spanish
END:VEVENT
BEGIN:VEVENT
DTSTART;TZID=America/New_York:20260112T103000
DTEND;TZID=America/New_York:20260112T113000
DTSTAMP:20260420T061529
CREATED:20260105T203045Z
LAST-MODIFIED:20260105T203045Z
UID:10008081-1768213800-1768217400@www.floridanutritioned.org
SUMMARY:Strong Bones for Life
DESCRIPTION:
URL:https://www.floridanutritioned.org/event/strong-bones-for-life/
LOCATION:Unidad City of Miami Beach\, 7251 Collins Ave\, Miami Beach\, FL\, 33141
CATEGORIES:Adults
END:VEVENT
BEGIN:VEVENT
DTSTART;TZID=America/New_York:20251020T103000
DTEND;TZID=America/New_York:20251020T113000
DTSTAMP:20260420T061529
CREATED:20251020T170647Z
LAST-MODIFIED:20251020T170647Z
UID:10007881-1760956200-1760959800@www.floridanutritioned.org
SUMMARY:Leah's Pantry
DESCRIPTION:
URL:https://www.floridanutritioned.org/event/leahs-pantry-294/
LOCATION:Unidad City of Miami Beach\, 7251 Collins Ave\, Miami Beach\, FL\, 33141
CATEGORIES:Adults and Elders
END:VEVENT
BEGIN:VEVENT
DTSTART;TZID=America/New_York:20250609T103000
DTEND;TZID=America/New_York:20250609T113000
DTSTAMP:20260420T061529
CREATED:20250612T124258Z
LAST-MODIFIED:20250612T124258Z
UID:10007318-1749465000-1749468600@www.floridanutritioned.org
SUMMARY:Leah's Pantry - Strong Bones for Life
DESCRIPTION:
URL:https://www.floridanutritioned.org/event/leahs-pantry-strong-bones-for-life-19/
LOCATION:Unidad City of Miami Beach\, 7251 Collins Ave\, Miami Beach\, FL\, 33141
CATEGORIES:Adults
END:VEVENT
BEGIN:VEVENT
DTSTART;TZID=America/New_York:20250210T103000
DTEND;TZID=America/New_York:20250210T113000
DTSTAMP:20260420T061529
CREATED:20250206T184058Z
LAST-MODIFIED:20250206T184058Z
UID:10006563-1739183400-1739187000@www.floridanutritioned.org
SUMMARY:Leah's Pantry
DESCRIPTION:
URL:https://www.floridanutritioned.org/event/leahs-pantry-284/
LOCATION:Unidad City of Miami Beach\, 7251 Collins Ave\, Miami Beach\, FL\, 33141
CATEGORIES:Adults
END:VEVENT
BEGIN:VEVENT
DTSTART;TZID=America/New_York:20250113T103000
DTEND;TZID=America/New_York:20250113T113000
DTSTAMP:20260420T061529
CREATED:20250113T170407Z
LAST-MODIFIED:20250113T170407Z
UID:10006300-1736764200-1736767800@www.floridanutritioned.org
SUMMARY:Leah's Pantry- Fuel your brain
DESCRIPTION:
URL:https://www.floridanutritioned.org/event/leahs-pantry-fuel-your-brain-22/
LOCATION:Unidad City of Miami Beach\, 7251 Collins Ave\, Miami Beach\, FL\, 33141
CATEGORIES:Adult
END:VEVENT
END:VCALENDAR