BEGIN:VCALENDAR
VERSION:2.0
PRODID:-//Florida Nutrition Education - ECPv6.15.20//NONSGML v1.0//EN
CALSCALE:GREGORIAN
METHOD:PUBLISH
X-ORIGINAL-URL:https://www.floridanutritioned.org
X-WR-CALDESC:Events for Florida Nutrition Education
REFRESH-INTERVAL;VALUE=DURATION:PT1H
X-Robots-Tag:noindex
X-PUBLISHED-TTL:PT1H
BEGIN:VTIMEZONE
TZID:America/New_York
BEGIN:DAYLIGHT
TZOFFSETFROM:-0500
TZOFFSETTO:-0400
TZNAME:EDT
DTSTART:20230312T070000
END:DAYLIGHT
BEGIN:STANDARD
TZOFFSETFROM:-0400
TZOFFSETTO:-0500
TZNAME:EST
DTSTART:20231105T060000
END:STANDARD
BEGIN:DAYLIGHT
TZOFFSETFROM:-0500
TZOFFSETTO:-0400
TZNAME:EDT
DTSTART:20240310T070000
END:DAYLIGHT
BEGIN:STANDARD
TZOFFSETFROM:-0400
TZOFFSETTO:-0500
TZNAME:EST
DTSTART:20241103T060000
END:STANDARD
BEGIN:DAYLIGHT
TZOFFSETFROM:-0500
TZOFFSETTO:-0400
TZNAME:EDT
DTSTART:20250309T070000
END:DAYLIGHT
BEGIN:STANDARD
TZOFFSETFROM:-0400
TZOFFSETTO:-0500
TZNAME:EST
DTSTART:20251102T060000
END:STANDARD
END:VTIMEZONE
BEGIN:VEVENT
DTSTART;TZID=America/New_York:20240904T103000
DTEND;TZID=America/New_York:20240904T113000
DTSTAMP:20260420T200737
CREATED:20240827T152152Z
LAST-MODIFIED:20240827T152152Z
UID:10005181-1725445800-1725449400@www.floridanutritioned.org
SUMMARY:Importance of Staying Active and Staying Hydrated!
DESCRIPTION:We’ll discuss the benefits of exercise as well as drinking enough water
URL:https://www.floridanutritioned.org/event/importance-of-staying-active-and-staying-hydrated-3/
LOCATION:Volusia Council on Aging- Ormond Beach\, 351 Andrews Street\, Ormond Beach\, FL\, 32174
CATEGORIES:Elders
END:VEVENT
BEGIN:VEVENT
DTSTART;TZID=America/New_York:20240611T103000
DTEND;TZID=America/New_York:20240611T113000
DTSTAMP:20260420T200737
CREATED:20240523T143540Z
LAST-MODIFIED:20240523T143540Z
UID:10004207-1718101800-1718105400@www.floridanutritioned.org
SUMMARY:Leah's Pantry: Eating in Season
DESCRIPTION:Learn about the advantages of buying fresh fruits and veggies when they’re in season
URL:https://www.floridanutritioned.org/event/leahs-pantry-eating-in-season-4/
LOCATION:Volusia Council on Aging- Ormond Beach\, 351 Andrews Street\, Ormond Beach\, FL\, 32174
CATEGORIES:Elders
END:VEVENT
END:VCALENDAR