BEGIN:VCALENDAR
VERSION:2.0
PRODID:-//Florida Nutrition Education - ECPv6.15.20//NONSGML v1.0//EN
CALSCALE:GREGORIAN
METHOD:PUBLISH
X-ORIGINAL-URL:https://www.floridanutritioned.org
X-WR-CALDESC:Events for Florida Nutrition Education
REFRESH-INTERVAL;VALUE=DURATION:PT1H
X-Robots-Tag:noindex
X-PUBLISHED-TTL:PT1H
BEGIN:VTIMEZONE
TZID:America/New_York
BEGIN:DAYLIGHT
TZOFFSETFROM:-0500
TZOFFSETTO:-0400
TZNAME:EDT
DTSTART:20240310T070000
END:DAYLIGHT
BEGIN:STANDARD
TZOFFSETFROM:-0400
TZOFFSETTO:-0500
TZNAME:EST
DTSTART:20241103T060000
END:STANDARD
BEGIN:DAYLIGHT
TZOFFSETFROM:-0500
TZOFFSETTO:-0400
TZNAME:EDT
DTSTART:20250309T070000
END:DAYLIGHT
BEGIN:STANDARD
TZOFFSETFROM:-0400
TZOFFSETTO:-0500
TZNAME:EST
DTSTART:20251102T060000
END:STANDARD
BEGIN:DAYLIGHT
TZOFFSETFROM:-0500
TZOFFSETTO:-0400
TZNAME:EDT
DTSTART:20260308T070000
END:DAYLIGHT
BEGIN:STANDARD
TZOFFSETFROM:-0400
TZOFFSETTO:-0500
TZNAME:EST
DTSTART:20261101T060000
END:STANDARD
END:VTIMEZONE
BEGIN:VEVENT
DTSTART;TZID=America/New_York:20250212T120000
DTEND;TZID=America/New_York:20250212T130000
DTSTAMP:20260423T095334
CREATED:20250130T195910Z
LAST-MODIFIED:20250130T195910Z
UID:10006464-1739361600-1739365200@www.floridanutritioned.org
SUMMARY:Cooking Matters: Be a sugar detective
DESCRIPTION:
URL:https://www.floridanutritioned.org/event/cooking-matters-be-a-sugar-detective-11/
LOCATION:YMCA Allapattah\, 2370 NW 17th Ave\, Miami\, FL\, 33142
CATEGORIES:Adults
END:VEVENT
BEGIN:VEVENT
DTSTART;TZID=America/New_York:20250117T120000
DTEND;TZID=America/New_York:20250117T130000
DTSTAMP:20260423T095334
CREATED:20250113T170616Z
LAST-MODIFIED:20250113T170616Z
UID:10006308-1737115200-1737118800@www.floridanutritioned.org
SUMMARY:Eat Smart\, Live Strong-How Did i Do Yesterday!
DESCRIPTION:
URL:https://www.floridanutritioned.org/event/eat-smart-live-strong-how-did-i-do-yesterday/
LOCATION:YMCA Allapattah\, 2370 NW 17th Ave\, Miami\, FL\, 33142
CATEGORIES:Adult
END:VEVENT
END:VCALENDAR