BEGIN:VCALENDAR
VERSION:2.0
PRODID:-//Florida Nutrition Education - ECPv6.15.20//NONSGML v1.0//EN
CALSCALE:GREGORIAN
METHOD:PUBLISH
X-WR-CALNAME:Florida Nutrition Education
X-ORIGINAL-URL:https://www.floridanutritioned.org
X-WR-CALDESC:Events for Florida Nutrition Education
REFRESH-INTERVAL;VALUE=DURATION:PT1H
X-Robots-Tag:noindex
X-PUBLISHED-TTL:PT1H
BEGIN:VTIMEZONE
TZID:America/New_York
BEGIN:DAYLIGHT
TZOFFSETFROM:-0500
TZOFFSETTO:-0400
TZNAME:EDT
DTSTART:20240310T070000
END:DAYLIGHT
BEGIN:STANDARD
TZOFFSETFROM:-0400
TZOFFSETTO:-0500
TZNAME:EST
DTSTART:20241103T060000
END:STANDARD
BEGIN:DAYLIGHT
TZOFFSETFROM:-0500
TZOFFSETTO:-0400
TZNAME:EDT
DTSTART:20250309T070000
END:DAYLIGHT
BEGIN:STANDARD
TZOFFSETFROM:-0400
TZOFFSETTO:-0500
TZNAME:EST
DTSTART:20251102T060000
END:STANDARD
BEGIN:DAYLIGHT
TZOFFSETFROM:-0500
TZOFFSETTO:-0400
TZNAME:EDT
DTSTART:20260308T070000
END:DAYLIGHT
BEGIN:STANDARD
TZOFFSETFROM:-0400
TZOFFSETTO:-0500
TZNAME:EST
DTSTART:20261101T060000
END:STANDARD
BEGIN:DAYLIGHT
TZOFFSETFROM:-0500
TZOFFSETTO:-0400
TZNAME:EDT
DTSTART:20270314T070000
END:DAYLIGHT
BEGIN:STANDARD
TZOFFSETFROM:-0400
TZOFFSETTO:-0500
TZNAME:EST
DTSTART:20271107T060000
END:STANDARD
END:VTIMEZONE
BEGIN:VEVENT
DTSTART;TZID=America/New_York:20260421T103000
DTEND;TZID=America/New_York:20260421T113000
DTSTAMP:20260424T095855
CREATED:20260330T123122Z
LAST-MODIFIED:20260330T123122Z
UID:10008343-1776767400-1776771000@www.floridanutritioned.org
SUMMARY:Leahs Pantry Food Smarts Adults - Learn to Make your Meals Healthier
DESCRIPTION:Learn different ways of incorporating more nutritious foods into your diet and how to make your meals healthier.
URL:https://www.floridanutritioned.org/event/leahs-pantry-food-smarts-adults-learn-to-make-your-meals-healthier-6/
LOCATION:YouThrive Florida – Groveland\, 142 Mills Street\, Groveland\, FL\, 34736
END:VEVENT
BEGIN:VEVENT
DTSTART;TZID=America/New_York:20260120T103000
DTEND;TZID=America/New_York:20260120T113000
DTSTAMP:20260424T095855
CREATED:20251230T140211Z
LAST-MODIFIED:20251230T140211Z
UID:10008040-1768905000-1768908600@www.floridanutritioned.org
SUMMARY:Intro to MyPlate
DESCRIPTION:Learn about MyPlate and important things to incorporate into your meals. Compare the differences between MyPlate and the Healthy Eating Plate. Learn about portion sizes.
URL:https://www.floridanutritioned.org/event/intro-to-myplate-25/
LOCATION:YouThrive Florida – Groveland\, 142 Mills Street\, Groveland\, FL\, 34736
CATEGORIES:Adults and Elders
END:VEVENT
BEGIN:VEVENT
DTSTART;TZID=America/New_York:20250826T100000
DTEND;TZID=America/New_York:20250826T110000
DTSTAMP:20260424T095855
CREATED:20250804T145715Z
LAST-MODIFIED:20250804T155851Z
UID:10007670-1756202400-1756206000@www.floridanutritioned.org
SUMMARY:Gut Health
DESCRIPTION:Learn what gut health means. Learn about why having a healthy gut is so important and way we can improve our gut health.
URL:https://www.floridanutritioned.org/event/gut-health-20/
LOCATION:YouThrive Florida – Groveland\, 142 Mills Street\, Groveland\, FL\, 34736
CATEGORIES:Adults and Elders
END:VEVENT
END:VCALENDAR